{"text_format":"1","workbook":"xlsx","n_sheets":13,"sheets":["計算表","StatusCalculation","めざめるパワー","相性表","TypeData","EnemyData","ポケモン一覧","キャプチャ用","技一覧","特性一覧","各タイプ最大威力","フライングプレス","ダメージ計算"],"not_rendered":{"charts":0,"images":1,"macros":1,"external_links":0,"defined_names":13,"comments":0,"pivot_tables":0},"unopened":[],"bounds":{"document_bytes":16777216,"sheet_cells":100000,"rows_first":2000,"rows_last":500,"rows_between":2000,"halvings":0,"cell_chars":16384,"cell_head_chars":4096},"cells_cut":0,"cells_raw":0,"read":"whole","date_system":"1900"}

{"sheet":"計算表","index":0,"n_rows":63,"n_cols":46,"rows_kept":63,"cut":false,"hidden":false,"merged":[[39,0,39,1],[40,0,40,1],[41,0,41,1],[42,0,42,1],[25,31,25,34],[32,0,32,1],[34,0,34,1],[23,1,23,2],[25,5,34,7],[26,31,26,32],[26,33,26,34],[23,31,23,34],[24,31,24,34],[18,1,18,2],[25,1,25,2],[29,0,29,1],[30,0,30,1],[31,0,31,1],[17,30,17,31],[16,30,16,31],[15,30,15,31],[14,30,14,31],[13,30,13,31],[12,40,12,43],[2,31,2,37],[1,31,1,37],[3,31,3,37],[4,31,4,37],[5,31,5,37],[6,31,6,37],[9,30,10,31],[11,30,11,31],[7,31,7,37],[12,30,12,31],[0,1,0,2],[1,1,1,2],[2,1,2,2],[26,1,26,2],[18,27,18,29],[4,1,4,2],[10,6,10,7],[1,5,1,7],[2,5,2,7],[4,6,4,7],[7,3,7,5],[11,27,11,29],[3,6,3,7],[5,5,5,7],[22,7,22,28],[21,7,21,28],[26,37,26,40],[22,1,22,2],[24,1,24,2],[21,1,21,2],[63,0,63,1],[62,0,62,1],[57,0,57,1],[59,0,59,1],[58,0,58,1],[60,0,60,1],[61,0,61,1],[52,0,52,1],[53,0,53,1],[54,0,54,1],[55,0,55,1],[56,0,56,1],[24,37,24,38],[24,39,24,40],[25,39,25,40],[23,39,23,40],[25,37,25,38],[23,37,23,38],[44,0,44,1],[23,7,23,28],[24,7,24,28],[51,0,51,1],[45,0,45,1],[46,0,46,1],[47,0,47,1],[48,0,48,1],[49,0,49,1],[50,0,50,1],[35,0,35,1],[36,0,36,1],[37,0,37,1],[38,0,38,1],[33,0,33,1],[43,0,43,1]]}
[null,"必須項目"]
[null,"個体値計算時",null,"No.",null,"330",null,null,null,null,null,null,null,null,null,null,null,null,null,null,null,null,null,null,null,null,null,null,null,null,null,"他候補",null,null,null,null,null,null,null,null,null,null,null,null,null,"ひざしがつよい"]
[null,"ステータス計算時",null,"なまえ",null,"メガフライゴン",null,null,null,null,null,null,null,null,null,null,null,null,null,null,null,null,null,null,null,null,null,null,null,null,null,"フライゴン",null,null,null,null,null,null,null,1,null,null,null,null,null,"ひざしがとてもつよい"]
[null,null,null,"タイプ",null,"はがね","ドラゴン",null,null,null,null,null,null,null,null,null,null,null,null,null,null,null,null,null,null,null,null,{"$f":"IF(F5=\"\",\"\",F5)","v":"ふゆう"},null,null,null,null,null,null,null,null,null,null,null,null,null,null,null,null,null,"あめ"]
[null,"自動計算項目",null,"とくせい",null,"ふゆう",null,null,null,null,null,null,null,null,null,null,null,null,null,null,null,null,null,null,null,null,null,{"$f":"IF(G5=\"\",\"\",G5)","v":""},null,null,null,null,null,null,null,null,null,null,null,null,null,null,null,null,null,"つよいあめ"]
[null,null,null,"かくれとくせい",null,null,null,null,null,null,null,null,null,null,null,null,null,null,null,null,null,null,null,null,null,null,null,{"$f":"IF(F6=\"\",\"\",F6)","v":""},null,null,null,null,null,null,null,null,null,null,null,null,null,null,null,null,null,"あられ"]
[null,null,null,null,null,null,null,null,null,null,null,null,null,null,null,null,null,null,null,null,null,null,null,null,null,null,null,null,null,null,null,null,null,null,null,null,null,null,null,null,null,null,null,null,null,"すなあらし"]
[null,null,null,{"$f":"IF(SUM(D13:D18)=510,\"努力値OK\",IF(SUM(D13:D18)<510,\"努力値OK\",\"努力値NG\"))","v":"努力値OK"},null,null,"努力値配分表示",null,null,null,null,null,null,null,null,null,null,null,null,null,null,null,null,null,null,null,null,null,null,null,null,null,null,null,null,null,null,null,null,null,null,null,null,null,null,"らんきりゅう"]
[null,"ステータス計算",null,"合計",null,{"$f":"SUM(D13:D18)","v":510}]
[null,"性格：","ようき","残り",null,{"$f":"510-F9","v":0},{"$f":"TRUNC(G18*IF(B19=\"こだわりスカーフ\",1.5,1))","v":171},null,null,null,null,null,null,null,null,null,null,null,null,null,null,null,null,null,null,null,null,null,null,null,"めざめるパワー\n診断結果",null,null,"普","炎","水","電","草","氷","格","毒","地","飛","超"]
["赤色：上方修正","特性：","ふゆう","Lv.",null,50,{"$f":"IF(MOD(G13+1,16)=0,\"Lv.50:HP=16n-1\",IF(MOD(G13-1,8)=0,\"Lv.50:HP=8n+1\",\"\"))","v":""},null,null,null,null,null,null,null,null,null,null,null,null,null,null,null,null,null,null,null,null,null,null,null,null,null,null,{"$f":"TypeData!C28","v":"△"},{"$f":"TypeData!D28","v":""},{"$f":"TypeData!E28","v":"△"},{"$f":"TypeData!F28","v":"△"},{"$f":"TypeData!G28","v":"▲"},{"$f":"TypeData!H28","v":""},{"$f":"TypeData!I28","v":"○"},{"$f":"TypeData!J28","v":"×"},{"$f":"TypeData!K28","v":"○"},{"$f":"TypeData!L28","v":"△"},{"$f":"TypeData!M28","v":"△"}]
["青色：下方修正","種族値","個体値","努力値",null,"現在のステータス","Lv.50時","Lv.100時",null,"A",null,"さみしがり","いじっぱり","やんちゃ","ゆうかん",null,{"$f":"C10","v":"ようき"},{"$f":"C10","v":"ようき"},{"$f":"C10","v":"ようき"},{"$f":"C10","v":"ようき"},null,{"$f":"IF(L12=Q12,\"○\",\"\")","v":""},{"$f":"IF(M12=R12,\"○\",\"\")","v":""},{"$f":"IF(N12=S12,\"○\",\"\")","v":""},{"$f":"IF(O12=T12,\"○\",\"\")","v":""},{"$f":"IF(CONCATENATE(U12,V12,W12,X12,Y12,)=\"\",1,1.1)","v":1},null,"個体値",null,null,"こおり",null,null,"虫","岩","幽","竜","悪","鋼","妖"," フライングプレス"]
["HP（H）",80,31,6,null,156,{"$f":"IF(B13=1,1,TRUNC(((B13*2+C13+TRUNC(D13/4))*50)/100)+10+50)","v":156},{"$f":"IF(B13=1,1,TRUNC(TRUNC(TRUNC(B13*2+C13+D13/4)*100/100)+10+100))","v":302},null,"B","ずぶとい",null,"わんぱく","のうてんき","のんき",{"$f":"C10","v":"ようき"},null,{"$f":"C10","v":"ようき"},{"$f":"C10","v":"ようき"},{"$f":"C10","v":"ようき"},{"$f":"IF(K13=P13,\"○\",\"\")","v":""},null,{"$f":"IF(M13=R13,\"○\",\"\")","v":""},{"$f":"IF(N13=S13,\"○\",\"\")","v":""},{"$f":"IF(O13=T13,\"○\",\"\")","v":""},{"$f":"IF(CONCATENATE(U13,V13,W13,X13,Y13,)=\"\",1,1.1)","v":1},null,{"$f":"IF(B13=1,0,StatusCalculation!AH11)","v":31},"～",{"$f":"IF(B13=1,31,StatusCalculation!AI11)","v":31},{"$f":"IFERROR(めざめるパワー!BF3,\"該当個体値なし\")","v":"31"},null,null,{"$f":"TypeData!N28","v":"△"},{"$f":"TypeData!O28","v":"△"},{"$f":"TypeData!P28","v":""},{"$f":"TypeData!Q28","v":""},{"$f":"TypeData!R28","v":""},{"$f":"TypeData!S28","v":"△"},{"$f":"TypeData!T28","v":""},{"$f":"TypeData!U28","v":""}]
["こうげき（A）",145,31,252,{"$f":"U17*Z12","v":1},152,{"$f":"TRUNC((TRUNC((B14*2+C14+TRUNC(D14/4))*50/100)+5)*(E14))","v":197},{"$f":"TRUNC(TRUNC(TRUNC(TRUNC(B14*2+C14+D14/4)*100/100)+5)*(E14))","v":389},null,"C","ひかえめ","おっとり",null,"うっかりや","れいせい",{"$f":"C10","v":"ようき"},{"$f":"C10","v":"ようき"},null,{"$f":"C10","v":"ようき"},{"$f":"C10","v":"ようき"},{"$f":"IF(K14=P14,\"○\",\"\")","v":""},{"$f":"IF(L14=Q14,\"○\",\"\")","v":""},null,{"$f":"IF(N14=S14,\"○\",\"\")","v":""},{"$f":"IF(O14=T14,\"○\",\"\")","v":""},{"$f":"IF(CONCATENATE(U14,V14,W14,X14,Y14,)=\"\",1,1.1)","v":1},null,{"$f":"StatusCalculation!AH12","v":0},"～",{"$f":"StatusCalculation!AI12","v":0},{"$f":"IFERROR(めざめるパワー!BF4,\"該当個体値なし\")","v":"0"},null,null,"◎","…","4倍"]
["ぼうぎょ（B）",105,31,null,{"$f":"V17*Z13","v":1},100,{"$f":"TRUNC((TRUNC((B15*2+C15+TRUNC(D15/4))*50/100)+5)*(E15))","v":125},{"$f":"TRUNC(TRUNC(TRUNC(TRUNC(B15*2+C15+D15/4)*100/100)+5)*(E15))","v":246},null,"D","おだやか","おとなしい","しんちょう",null,"なまいき",{"$f":"C10","v":"ようき"},{"$f":"C10","v":"ようき"},{"$f":"C10","v":"ようき"},null,{"$f":"C10","v":"ようき"},{"$f":"IF(K15=P15,\"○\",\"\")","v":""},{"$f":"IF(L15=Q15,\"○\",\"\")","v":""},{"$f":"IF(M15=R15,\"○\",\"\")","v":""},null,{"$f":"IF(O15=T15,\"○\",\"\")","v":""},{"$f":"IF(CONCATENATE(U15,V15,W15,X15,Y15,)=\"\",1,1.1)","v":1},null,{"$f":"StatusCalculation!AH13","v":0},"～",{"$f":"StatusCalculation!AI13","v":0},{"$f":"IFERROR(めざめるパワー!BF5,\"該当個体値なし\")","v":"0"},null,null,"○","…","2倍"]
["とくこう（C）",80,31,null,{"$f":"W17*Z14","v":0.9},90,{"$f":"TRUNC((TRUNC((B16*2+C16+TRUNC(D16/4))*50/100)+5)*(E16))","v":90},{"$f":"TRUNC(TRUNC(TRUNC(TRUNC(B16*2+C16+D16/4)*100/100)+5)*(E16))","v":176},null,"S","おくびょう","せっかち","ようき","むじゃき",null,{"$f":"C10","v":"ようき"},{"$f":"C10","v":"ようき"},{"$f":"C10","v":"ようき"},{"$f":"C10","v":"ようき"},null,{"$f":"IF(K16=P16,\"○\",\"\")","v":""},{"$f":"IF(L16=Q16,\"○\",\"\")","v":""},{"$f":"IF(M16=R16,\"○\",\"\")","v":"○"},{"$f":"IF(N16=S16,\"○\",\"\")","v":""},null,{"$f":"IF(CONCATENATE(U16,V16,W16,X16,Y16,)=\"\",1,1.1)","v":1.1000000000000001},null,{"$f":"StatusCalculation!AH14","v":30},"～",{"$f":"StatusCalculation!AI14","v":31},{"$f":"IFERROR(めざめるパワー!BF6,\"該当個体値なし\")","v":"31"},null,null,"無","…","等倍"]
["とくぼう（D）",105,31,null,{"$f":"X17*Z15","v":1},100,{"$f":"TRUNC((TRUNC((B17*2+C17+TRUNC(D17/4))*50/100)+5)*(E17))","v":125},{"$f":"TRUNC(TRUNC(TRUNC(TRUNC(B17*2+C17+D17/4)*100/100)+5)*(E17))","v":246},null,null,null,null,null,null,null,null,null,null,null,null,{"$f":"IF(CONCATENATE(U12,U13,U14,U15,U16)=\"\",1,0.9)","v":1},{"$f":"IF(CONCATENATE(V12,V13,V14,V15,V16)=\"\",1,0.9)","v":1},{"$f":"IF(CONCATENATE(W12,W13,W14,W15,W16)=\"\",1,0.9)","v":0.9},{"$f":"IF(CONCATENATE(X12,X13,X14,X15,X16)=\"\",1,0.9)","v":1},{"$f":"IF(CONCATENATE(Y12,Y13,Y14,Y15,Y16)=\"\",1,0.9)","v":1},null,null,{"$f":"StatusCalculation!AH15","v":0},"～",{"$f":"StatusCalculation!AI15","v":0},{"$f":"IFERROR(めざめるパワー!BF7,\"該当個体値なし\")","v":"該当個体値なし"},null,null,"△","…","0.5倍"]
["すばやさ（S）",105,30,252,{"$f":"Y17*Z16","v":1.1000000000000001},166,{"$f":"TRUNC((TRUNC((B18*2+C18+TRUNC(D18/4))*50/100)+5)*(E18))","v":171},{"$f":"TRUNC(TRUNC(TRUNC(TRUNC(B18*2+C18+D18/4)*100/100)+5)*(E18))","v":338},null,null,null,null,null,null,null,null,null,null,null,null,null,null,null,null,null,null,null,{"$f":"StatusCalculation!AH16","v":19},"～",{"$f":"StatusCalculation!AI16","v":20},{"$f":"IFERROR(めざめるパワー!BF8,\"該当個体値なし\")","v":"19,20"},null,null,"▲","…","0.25倍"]
["もちもの","その他",null,"物理耐久指数",null,{"$f":"G13*G15","v":19500},null,"総合耐久指数",null,null,null,null,null,null,null,null,null,null,null,null,null,null,null,null,null,null,null,{"$f":"SUM(F19:F20)","v":39000},null,null,null,null,null,"×","…","0倍"]
[null,"めざめるパワー",{"$f":"めざめるパワー!R66","v":"こおり"},"特殊耐久指数",null,{"$f":"G13*G17","v":19500}]
[null,null,null,{"$f":"#REF!","v":{"$error":"#REF!"}},null,null,null,null,null,null,null,null,null,null,null,null,null,null,null,null,null,null,null,null,null,null,null,null,null,null,null,"優先","急所","毒","猛毒","麻痺","火傷","眠り","凍り","混乱","メロ","怯み"]
["技名","げきりん",null,null,null,null,null,"天候",null,null,null,null,null,null,null,null,null,null,null,null,null,null,null,null,null,null,null,null,null,null,null,"","","",null,"","","","",null,"",""]
["技の威力",120,null,"対象",null,"ランダム1体",null,null,null,null,null,null,null,null,null,null,null,null,null,null,null,null,null,null,null,null,null,null,null,null,null,null,null,null,null,{"$f":"AF24*ダメージ計算!E24","v":115},null,"ダメージ",null,"急所時"]
["命中",100,null,"接触",null,"○",null,"フィールド",null,null,null,null,null,null,null,null,null,null,null,null,null,null,null,null,null,null,null,null,null,null,"防ステータス",115,null,null,null,null,"最低値",{"$f":"ダメージ計算!L18","v":"234"},null,{"$f":"ダメージ計算!M18","v":"351"}]
["技の種類","物理",null,"PP",null,"10　/　16",null,"なし",null,null,null,null,null,null,null,null,null,null,null,null,null,null,null,null,null,null,null,null,null,null,"もちもの","こだわりハチマキ",null,null,null,null,"中乱数",{"$f":"ダメージ計算!L19","v":"254"},null,{"$f":"ダメージ計算!M19","v":"381"}]
["技のタイプ","ドラゴン",null,"説明",null,"2～3ターン連続で攻撃し、その後自分は1～4ターンの間『こんらん』状態になる。",null,null,null,null,null,null,null,null,null,null,null,null,null,null,null,null,null,null,null,null,null,null,null,null,"特性","さめはだ",null,null,null,null,"最大値",{"$f":"ダメージ計算!L20","v":"276"},null,{"$f":"ダメージ計算!M20","v":"414"}]
["タイプ相性",{"$f":"EnemyData!U29","v":"ばつぐん(2倍)"},null,null,null,null,null,null,null,null,null,null,null,null,null,null,null,null,null,null,null,null,null,null,null,null,null,null,null,null,"タイプ","ドラゴン",null,"じめん",null,null,"火力指数",{"$f":"IFERROR(ダメージ計算!I6*ダメージ計算!I7*ダメージ計算!I9*ダメージ計算!I11*ダメージ計算!L6*ダメージ計算!M6,\"-\")","v":70920}]
[]
[]
["無振り補正なし100族",null,120]
["無振り補正なしガブリアス",null,122]
["無振り補正あり100族",null,132]
["無振り陽気ガブリアス",null,134]
["無振り補正無し130族",null,150]
["準速100族",null,152]
["準速ガブリアス",null,154]
["準速三闘",null,160]
["準速110族",null,162]
["準速ボルトロス",null,163]
["無振り補正有り130族",null,165]
["最速100族",null,167]
["準速115族",null,167]
["最速ガブリアス",null,169]
["準速120族",null,172]
["最速三闘",null,176]
["最速110族",null,178]
["最速ボルトロス",null,179]
["準速130族",null,182]
["最速115族",null,183]
["準速135族",null,187]
["最速120族",null,189]
["準速145族",null,197]
["最速130族",null,200]
["準速150族",null,202]
["最速135族",null,205]
["最速145族",null,216]
["最速150族",null,222]
["準速スカーフ100族",null,226]
["準速スカーフガブリアス",null,231]
["最速スカーフ100族",null,249]
["最速スカーフガブリアス",null,253]
["準速かるわざルチャブル",null,340]
["最速かるわざルチャブル",null,374]

{"sheet":"StatusCalculation","index":1,"n_rows":16,"n_cols":35,"rows_kept":16,"cut":false,"hidden":true,"merged":[]}
[]
[null,0,1,2,3,4,5,6,7,8,9,10,11,12,13,14,15,16,17,18,19,20,21,22,23,24,25,26,27,28,29,30,31]
["H",{"$f":"TRUNC((計算表!B13*2+0+TRUNC(計算表!D13/4))*計算表!F11/100)+計算表!F11+10","v":140},{"$f":"TRUNC((計算表!B13*2+1+TRUNC(計算表!D13/4))*計算表!F11/100)+計算表!F11+10","v":141},{"$f":"TRUNC((計算表!B13*2+2+TRUNC(計算表!D13/4))*計算表!F11/100)+計算表!F11+10","v":141},{"$f":"TRUNC((計算表!B13*2+3+TRUNC(計算表!D13/4))*計算表!F11/100)+計算表!F11+10","v":142},{"$f":"TRUNC((計算表!B13*2+4+TRUNC(計算表!D13/4))*計算表!F11/100)+計算表!F11+10","v":142},{"$f":"TRUNC((計算表!B13*2+5+TRUNC(計算表!D13/4))*計算表!F11/100)+計算表!F11+10","v":143},{"$f":"TRUNC((計算表!B13*2+6+TRUNC(計算表!D13/4))*計算表!F11/100)+計算表!F11+10","v":143},{"$f":"TRUNC((計算表!B13*2+7+TRUNC(計算表!D13/4))*計算表!F11/100)+計算表!F11+10","v":144},{"$f":"TRUNC((計算表!B13*2+8+TRUNC(計算表!D13/4))*計算表!F11/100)+計算表!F11+10","v":144},{"$f":"TRUNC((計算表!B13*2+9+TRUNC(計算表!D13/4))*計算表!F11/100)+計算表!F11+10","v":145},{"$f":"TRUNC((計算表!B13*2+10+TRUNC(計算表!D13/4))*計算表!F11/100)+計算表!F11+10","v":145},{"$f":"TRUNC((計算表!B13*2+11+TRUNC(計算表!D13/4))*計算表!F11/100)+計算表!F11+10","v":146},{"$f":"TRUNC((計算表!B13*2+12+TRUNC(計算表!D13/4))*計算表!F11/100)+計算表!F11+10","v":146},{"$f":"TRUNC((計算表!B13*2+13+TRUNC(計算表!D13/4))*計算表!F11/100)+計算表!F11+10","v":147},{"$f":"TRUNC((計算表!B13*2+14+TRUNC(計算表!D13/4))*計算表!F11/100)+計算表!F11+10","v":147},{"$f":"TRUNC((計算表!B13*2+15+TRUNC(計算表!D13/4))*計算表!F11/100)+計算表!F11+10","v":148},{"$f":"TRUNC((計算表!B13*2+16+TRUNC(計算表!D13/4))*計算表!F11/100)+計算表!F11+10","v":148},{"$f":"TRUNC((計算表!B13*2+17+TRUNC(計算表!D13/4))*計算表!F11/100)+計算表!F11+10","v":149},{"$f":"TRUNC((計算表!B13*2+18+TRUNC(計算表!D13/4))*計算表!F11/100)+計算表!F11+10","v":149},{"$f":"TRUNC((計算表!B13*2+19+TRUNC(計算表!D13/4))*計算表!F11/100)+計算表!F11+10","v":150},{"$f":"TRUNC((計算表!B13*2+20+TRUNC(計算表!D13/4))*計算表!F11/100)+計算表!F11+10","v":150},{"$f":"TRUNC((計算表!B13*2+21+TRUNC(計算表!D13/4))*計算表!F11/100)+計算表!F11+10","v":151},{"$f":"TRUNC((計算表!B13*2+22+TRUNC(計算表!D13/4))*計算表!F11/100)+計算表!F11+10","v":151},{"$f":"TRUNC((計算表!B13*2+23+TRUNC(計算表!D13/4))*計算表!F11/100)+計算表!F11+10","v":152},{"$f":"TRUNC((計算表!B13*2+24+TRUNC(計算表!D13/4))*計算表!F11/100)+計算表!F11+10","v":152},{"$f":"TRUNC((計算表!B13*2+25+TRUNC(計算表!D13/4))*計算表!F11/100)+計算表!F11+10","v":153},{"$f":"TRUNC((計算表!B13*2+26+TRUNC(計算表!D13/4))*計算表!F11/100)+計算表!F11+10","v":153},{"$f":"TRUNC((計算表!B13*2+27+TRUNC(計算表!D13/4))*計算表!F11/100)+計算表!F11+10","v":154},{"$f":"TRUNC((計算表!B13*2+28+TRUNC(計算表!D13/4))*計算表!F11/100)+計算表!F11+10","v":154},{"$f":"TRUNC((計算表!B13*2+29+TRUNC(計算表!D13/4))*計算表!F11/100)+計算表!F11+10","v":155},{"$f":"TRUNC((計算表!B13*2+30+TRUNC(計算表!D13/4))*計算表!F11/100)+計算表!F11+10","v":155},{"$f":"TRUNC((計算表!B13*2+31+TRUNC(計算表!D13/4))*計算表!F11/100)+計算表!F11+10","v":156}]
["A",{"$f":"TRUNC((TRUNC((計算表!B14*2+0+TRUNC(計算表!D14/4))*計算表!F11/100)+5)*(計算表!E14))","v":181},{"$f":"TRUNC((TRUNC((計算表!B14*2+1+TRUNC(計算表!D14/4))*計算表!F11/100)+5)*(計算表!E14))","v":182},{"$f":"TRUNC((TRUNC((計算表!B14*2+2+TRUNC(計算表!D14/4))*計算表!F11/100)+5)*(計算表!E14))","v":182},{"$f":"TRUNC((TRUNC((計算表!B14*2+3+TRUNC(計算表!D14/4))*計算表!F11/100)+5)*(計算表!E14))","v":183},{"$f":"TRUNC((TRUNC((計算表!B14*2+4+TRUNC(計算表!D14/4))*計算表!F11/100)+5)*(計算表!E14))","v":183},{"$f":"TRUNC((TRUNC((計算表!B14*2+5+TRUNC(計算表!D14/4))*計算表!F11/100)+5)*(計算表!E14))","v":184},{"$f":"TRUNC((TRUNC((計算表!B14*2+6+TRUNC(計算表!D14/4))*計算表!F11/100)+5)*(計算表!E14))","v":184},{"$f":"TRUNC((TRUNC((計算表!B14*2+7+TRUNC(計算表!D14/4))*計算表!F11/100)+5)*(計算表!E14))","v":185},{"$f":"TRUNC((TRUNC((計算表!B14*2+8+TRUNC(計算表!D14/4))*計算表!F11/100)+5)*(計算表!E14))","v":185},{"$f":"TRUNC((TRUNC((計算表!B14*2+9+TRUNC(計算表!D14/4))*計算表!F11/100)+5)*(計算表!E14))","v":186},{"$f":"TRUNC((TRUNC((計算表!B14*2+10+TRUNC(計算表!D14/4))*計算表!F11/100)+5)*(計算表!E14))","v":186},{"$f":"TRUNC((TRUNC((計算表!B14*2+11+TRUNC(計算表!D14/4))*計算表!F11/100)+5)*(計算表!E14))","v":187},{"$f":"TRUNC((TRUNC((計算表!B14*2+12+TRUNC(計算表!D14/4))*計算表!F11/100)+5)*(計算表!E14))","v":187},{"$f":"TRUNC((TRUNC((計算表!B14*2+13+TRUNC(計算表!D14/4))*計算表!F11/100)+5)*(計算表!E14))","v":188},{"$f":"TRUNC((TRUNC((計算表!B14*2+14+TRUNC(計算表!D14/4))*計算表!F11/100)+5)*(計算表!E14))","v":188},{"$f":"TRUNC((TRUNC((計算表!B14*2+15+TRUNC(計算表!D14/4))*計算表!F11/100)+5)*(計算表!E14))","v":189},{"$f":"TRUNC((TRUNC((計算表!B14*2+16+TRUNC(計算表!D14/4))*計算表!F11/100)+5)*(計算表!E14))","v":189},{"$f":"TRUNC((TRUNC((計算表!B14*2+17+TRUNC(計算表!D14/4))*計算表!F11/100)+5)*(計算表!E14))","v":190},{"$f":"TRUNC((TRUNC((計算表!B14*2+18+TRUNC(計算表!D14/4))*計算表!F11/100)+5)*(計算表!E14))","v":190},{"$f":"TRUNC((TRUNC((計算表!B14*2+19+TRUNC(計算表!D14/4))*計算表!F11/100)+5)*(計算表!E14))","v":191},{"$f":"TRUNC((TRUNC((計算表!B14*2+20+TRUNC(計算表!D14/4))*計算表!F11/100)+5)*(計算表!E14))","v":191},{"$f":"TRUNC((TRUNC((計算表!B14*2+21+TRUNC(計算表!D14/4))*計算表!F11/100)+5)*(計算表!E14))","v":192},{"$f":"TRUNC((TRUNC((計算表!B14*2+22+TRUNC(計算表!D14/4))*計算表!F11/100)+5)*(計算表!E14))","v":192},{"$f":"TRUNC((TRUNC((計算表!B14*2+23+TRUNC(計算表!D14/4))*計算表!F11/100)+5)*(計算表!E14))","v":193},{"$f":"TRUNC((TRUNC((計算表!B14*2+24+TRUNC(計算表!D14/4))*計算表!F11/100)+5)*(計算表!E14))","v":193},{"$f":"TRUNC((TRUNC((計算表!B14*2+25+TRUNC(計算表!D14/4))*計算表!F11/100)+5)*(計算表!E14))","v":194},{"$f":"TRUNC((TRUNC((計算表!B14*2+26+TRUNC(計算表!D14/4))*計算表!F11/100)+5)*(計算表!E14))","v":194},{"$f":"TRUNC((TRUNC((計算表!B14*2+27+TRUNC(計算表!D14/4))*計算表!F11/100)+5)*(計算表!E14))","v":195},{"$f":"TRUNC((TRUNC((計算表!B14*2+28+TRUNC(計算表!D14/4))*計算表!F11/100)+5)*(計算表!E14))","v":195},{"$f":"TRUNC((TRUNC((計算表!B14*2+29+TRUNC(計算表!D14/4))*計算表!F11/100)+5)*(計算表!E14))","v":196},{"$f":"TRUNC((TRUNC((計算表!B14*2+30+TRUNC(計算表!D14/4))*計算表!F11/100)+5)*(計算表!E14))","v":196},{"$f":"TRUNC((TRUNC((計算表!B14*2+31+TRUNC(計算表!D14/4))*計算表!F11/100)+5)*(計算表!E14))","v":197}]
["B",{"$f":"TRUNC((TRUNC((計算表!B15*2+0+TRUNC(計算表!D15/4))*計算表!F11/100)+5)*(計算表!E15))","v":110},{"$f":"TRUNC((TRUNC((計算表!B15*2+1+TRUNC(計算表!D15/4))*計算表!F11/100)+5)*(計算表!E15))","v":110},{"$f":"TRUNC((TRUNC((計算表!B15*2+2+TRUNC(計算表!D15/4))*計算表!F11/100)+5)*(計算表!E15))","v":111},{"$f":"TRUNC((TRUNC((計算表!B15*2+3+TRUNC(計算表!D15/4))*計算表!F11/100)+5)*(計算表!E15))","v":111},{"$f":"TRUNC((TRUNC((計算表!B15*2+4+TRUNC(計算表!D15/4))*計算表!F11/100)+5)*(計算表!E15))","v":112},{"$f":"TRUNC((TRUNC((計算表!B15*2+5+TRUNC(計算表!D15/4))*計算表!F11/100)+5)*(計算表!E15))","v":112},{"$f":"TRUNC((TRUNC((計算表!B15*2+6+TRUNC(計算表!D15/4))*計算表!F11/100)+5)*(計算表!E15))","v":113},{"$f":"TRUNC((TRUNC((計算表!B15*2+7+TRUNC(計算表!D15/4))*計算表!F11/100)+5)*(計算表!E15))","v":113},{"$f":"TRUNC((TRUNC((計算表!B15*2+8+TRUNC(計算表!D15/4))*計算表!F11/100)+5)*(計算表!E15))","v":114},{"$f":"TRUNC((TRUNC((計算表!B15*2+9+TRUNC(計算表!D15/4))*計算表!F11/100)+5)*(計算表!E15))","v":114},{"$f":"TRUNC((TRUNC((計算表!B15*2+10+TRUNC(計算表!D15/4))*計算表!F11/100)+5)*(計算表!E15))","v":115},{"$f":"TRUNC((TRUNC((計算表!B15*2+11+TRUNC(計算表!D15/4))*計算表!F11/100)+5)*(計算表!E15))","v":115},{"$f":"TRUNC((TRUNC((計算表!B15*2+12+TRUNC(計算表!D15/4))*計算表!F11/100)+5)*(計算表!E15))","v":116},{"$f":"TRUNC((TRUNC((計算表!B15*2+13+TRUNC(計算表!D15/4))*計算表!F11/100)+5)*(計算表!E15))","v":116},{"$f":"TRUNC((TRUNC((計算表!B15*2+14+TRUNC(計算表!D15/4))*計算表!F11/100)+5)*(計算表!E15))","v":117},{"$f":"TRUNC((TRUNC((計算表!B15*2+15+TRUNC(計算表!D15/4))*計算表!F11/100)+5)*(計算表!E15))","v":117},{"$f":"TRUNC((TRUNC((計算表!B15*2+16+TRUNC(計算表!D15/4))*計算表!F11/100)+5)*(計算表!E15))","v":118},{"$f":"TRUNC((TRUNC((計算表!B15*2+17+TRUNC(計算表!D15/4))*計算表!F11/100)+5)*(計算表!E15))","v":118},{"$f":"TRUNC((TRUNC((計算表!B15*2+18+TRUNC(計算表!D15/4))*計算表!F11/100)+5)*(計算表!E15))","v":119},{"$f":"TRUNC((TRUNC((計算表!B15*2+19+TRUNC(計算表!D15/4))*計算表!F11/100)+5)*(計算表!E15))","v":119},{"$f":"TRUNC((TRUNC((計算表!B15*2+20+TRUNC(計算表!D15/4))*計算表!F11/100)+5)*(計算表!E15))","v":120},{"$f":"TRUNC((TRUNC((計算表!B15*2+21+TRUNC(計算表!D15/4))*計算表!F11/100)+5)*(計算表!E15))","v":120},{"$f":"TRUNC((TRUNC((計算表!B15*2+22+TRUNC(計算表!D15/4))*計算表!F11/100)+5)*(計算表!E15))","v":121},{"$f":"TRUNC((TRUNC((計算表!B15*2+23+TRUNC(計算表!D15/4))*計算表!F11/100)+5)*(計算表!E15))","v":121},{"$f":"TRUNC((TRUNC((計算表!B15*2+24+TRUNC(計算表!D15/4))*計算表!F11/100)+5)*(計算表!E15))","v":122},{"$f":"TRUNC((TRUNC((計算表!B15*2+25+TRUNC(計算表!D15/4))*計算表!F11/100)+5)*(計算表!E15))","v":122},{"$f":"TRUNC((TRUNC((計算表!B15*2+26+TRUNC(計算表!D15/4))*計算表!F11/100)+5)*(計算表!E15))","v":123},{"$f":"TRUNC((TRUNC((計算表!B15*2+27+TRUNC(計算表!D15/4))*計算表!F11/100)+5)*(計算表!E15))","v":123},{"$f":"TRUNC((TRUNC((計算表!B15*2+28+TRUNC(計算表!D15/4))*計算表!F11/100)+5)*(計算表!E15))","v":124},{"$f":"TRUNC((TRUNC((計算表!B15*2+29+TRUNC(計算表!D15/4))*計算表!F11/100)+5)*(計算表!E15))","v":124},{"$f":"TRUNC((TRUNC((計算表!B15*2+30+TRUNC(計算表!D15/4))*計算表!F11/100)+5)*(計算表!E15))","v":125},{"$f":"TRUNC((TRUNC((計算表!B15*2+31+TRUNC(計算表!D15/4))*計算表!F11/100)+5)*(計算表!E15))","v":125}]
["C",{"$f":"TRUNC((TRUNC((計算表!B16*2+0+TRUNC(計算表!D16/4))*計算表!F11/100)+5)*(計算表!E16))","v":76},{"$f":"TRUNC((TRUNC((計算表!B16*2+1+TRUNC(計算表!D16/4))*計算表!F11/100)+5)*(計算表!E16))","v":76},{"$f":"TRUNC((TRUNC((計算表!B16*2+2+TRUNC(計算表!D16/4))*計算表!F11/100)+5)*(計算表!E16))","v":77},{"$f":"TRUNC((TRUNC((計算表!B16*2+3+TRUNC(計算表!D16/4))*計算表!F11/100)+5)*(計算表!E16))","v":77},{"$f":"TRUNC((TRUNC((計算表!B16*2+4+TRUNC(計算表!D16/4))*計算表!F11/100)+5)*(計算表!E16))","v":78},{"$f":"TRUNC((TRUNC((計算表!B16*2+5+TRUNC(計算表!D16/4))*計算表!F11/100)+5)*(計算表!E16))","v":78},{"$f":"TRUNC((TRUNC((計算表!B16*2+6+TRUNC(計算表!D16/4))*計算表!F11/100)+5)*(計算表!E16))","v":79},{"$f":"TRUNC((TRUNC((計算表!B16*2+7+TRUNC(計算表!D16/4))*計算表!F11/100)+5)*(計算表!E16))","v":79},{"$f":"TRUNC((TRUNC((計算表!B16*2+8+TRUNC(計算表!D16/4))*計算表!F11/100)+5)*(計算表!E16))","v":80},{"$f":"TRUNC((TRUNC((計算表!B16*2+9+TRUNC(計算表!D16/4))*計算表!F11/100)+5)*(計算表!E16))","v":80},{"$f":"TRUNC((TRUNC((計算表!B16*2+10+TRUNC(計算表!D16/4))*計算表!F11/100)+5)*(計算表!E16))","v":81},{"$f":"TRUNC((TRUNC((計算表!B16*2+11+TRUNC(計算表!D16/4))*計算表!F11/100)+5)*(計算表!E16))","v":81},{"$f":"TRUNC((TRUNC((計算表!B16*2+12+TRUNC(計算表!D16/4))*計算表!F11/100)+5)*(計算表!E16))","v":81},{"$f":"TRUNC((TRUNC((計算表!B16*2+13+TRUNC(計算表!D16/4))*計算表!F11/100)+5)*(計算表!E16))","v":81},{"$f":"TRUNC((TRUNC((計算表!B16*2+14+TRUNC(計算表!D16/4))*計算表!F11/100)+5)*(計算表!E16))","v":82},{"$f":"TRUNC((TRUNC((計算表!B16*2+15+TRUNC(計算表!D16/4))*計算表!F11/100)+5)*(計算表!E16))","v":82},{"$f":"TRUNC((TRUNC((計算表!B16*2+16+TRUNC(計算表!D16/4))*計算表!F11/100)+5)*(計算表!E16))","v":83},{"$f":"TRUNC((TRUNC((計算表!B16*2+17+TRUNC(計算表!D16/4))*計算表!F11/100)+5)*(計算表!E16))","v":83},{"$f":"TRUNC((TRUNC((計算表!B16*2+18+TRUNC(計算表!D16/4))*計算表!F11/100)+5)*(計算表!E16))","v":84},{"$f":"TRUNC((TRUNC((計算表!B16*2+19+TRUNC(計算表!D16/4))*計算表!F11/100)+5)*(計算表!E16))","v":84},{"$f":"TRUNC((TRUNC((計算表!B16*2+20+TRUNC(計算表!D16/4))*計算表!F11/100)+5)*(計算表!E16))","v":85},{"$f":"TRUNC((TRUNC((計算表!B16*2+21+TRUNC(計算表!D16/4))*計算表!F11/100)+5)*(計算表!E16))","v":85},{"$f":"TRUNC((TRUNC((計算表!B16*2+22+TRUNC(計算表!D16/4))*計算表!F11/100)+5)*(計算表!E16))","v":86},{"$f":"TRUNC((TRUNC((計算表!B16*2+23+TRUNC(計算表!D16/4))*計算表!F11/100)+5)*(計算表!E16))","v":86},{"$f":"TRUNC((TRUNC((計算表!B16*2+24+TRUNC(計算表!D16/4))*計算表!F11/100)+5)*(計算表!E16))","v":87},{"$f":"TRUNC((TRUNC((計算表!B16*2+25+TRUNC(計算表!D16/4))*計算表!F11/100)+5)*(計算表!E16))","v":87},{"$f":"TRUNC((TRUNC((計算表!B16*2+26+TRUNC(計算表!D16/4))*計算表!F11/100)+5)*(計算表!E16))","v":88},{"$f":"TRUNC((TRUNC((計算表!B16*2+27+TRUNC(計算表!D16/4))*計算表!F11/100)+5)*(計算表!E16))","v":88},{"$f":"TRUNC((TRUNC((計算表!B16*2+28+TRUNC(計算表!D16/4))*計算表!F11/100)+5)*(計算表!E16))","v":89},{"$f":"TRUNC((TRUNC((計算表!B16*2+29+TRUNC(計算表!D16/4))*計算表!F11/100)+5)*(計算表!E16))","v":89},{"$f":"TRUNC((TRUNC((計算表!B16*2+30+TRUNC(計算表!D16/4))*計算表!F11/100)+5)*(計算表!E16))","v":90},{"$f":"TRUNC((TRUNC((計算表!B16*2+31+TRUNC(計算表!D16/4))*計算表!F11/100)+5)*(計算表!E16))","v":90}]
["D",{"$f":"TRUNC((TRUNC((計算表!B17*2+0+TRUNC(計算表!D17/4))*計算表!F11/100)+5)*(計算表!E17))","v":110},{"$f":"TRUNC((TRUNC((計算表!B17*2+1+TRUNC(計算表!D17/4))*計算表!F11/100)+5)*(計算表!E17))","v":110},{"$f":"TRUNC((TRUNC((計算表!B17*2+2+TRUNC(計算表!D17/4))*計算表!F11/100)+5)*(計算表!E17))","v":111},{"$f":"TRUNC((TRUNC((計算表!B17*2+3+TRUNC(計算表!D17/4))*計算表!F11/100)+5)*(計算表!E17))","v":111},{"$f":"TRUNC((TRUNC((計算表!B17*2+4+TRUNC(計算表!D17/4))*計算表!F11/100)+5)*(計算表!E17))","v":112},{"$f":"TRUNC((TRUNC((計算表!B17*2+5+TRUNC(計算表!D17/4))*計算表!F11/100)+5)*(計算表!E17))","v":112},{"$f":"TRUNC((TRUNC((計算表!B17*2+6+TRUNC(計算表!D17/4))*計算表!F11/100)+5)*(計算表!E17))","v":113},{"$f":"TRUNC((TRUNC((計算表!B17*2+7+TRUNC(計算表!D17/4))*計算表!F11/100)+5)*(計算表!E17))","v":113},{"$f":"TRUNC((TRUNC((計算表!B17*2+8+TRUNC(計算表!D17/4))*計算表!F11/100)+5)*(計算表!E17))","v":114},{"$f":"TRUNC((TRUNC((計算表!B17*2+9+TRUNC(計算表!D17/4))*計算表!F11/100)+5)*(計算表!E17))","v":114},{"$f":"TRUNC((TRUNC((計算表!B17*2+10+TRUNC(計算表!D17/4))*計算表!F11/100)+5)*(計算表!E17))","v":115},{"$f":"TRUNC((TRUNC((計算表!B17*2+11+TRUNC(計算表!D17/4))*計算表!F11/100)+5)*(計算表!E17))","v":115},{"$f":"TRUNC((TRUNC((計算表!B17*2+12+TRUNC(計算表!D17/4))*計算表!F11/100)+5)*(計算表!E17))","v":116},{"$f":"TRUNC((TRUNC((計算表!B17*2+13+TRUNC(計算表!D17/4))*計算表!F11/100)+5)*(計算表!E17))","v":116},{"$f":"TRUNC((TRUNC((計算表!B17*2+14+TRUNC(計算表!D17/4))*計算表!F11/100)+5)*(計算表!E17))","v":117},{"$f":"TRUNC((TRUNC((計算表!B17*2+15+TRUNC(計算表!D17/4))*計算表!F11/100)+5)*(計算表!E17))","v":117},{"$f":"TRUNC((TRUNC((計算表!B17*2+16+TRUNC(計算表!D17/4))*計算表!F11/100)+5)*(計算表!E17))","v":118},{"$f":"TRUNC((TRUNC((計算表!B17*2+17+TRUNC(計算表!D17/4))*計算表!F11/100)+5)*(計算表!E17))","v":118},{"$f":"TRUNC((TRUNC((計算表!B17*2+18+TRUNC(計算表!D17/4))*計算表!F11/100)+5)*(計算表!E17))","v":119},{"$f":"TRUNC((TRUNC((計算表!B17*2+19+TRUNC(計算表!D17/4))*計算表!F11/100)+5)*(計算表!E17))","v":119},{"$f":"TRUNC((TRUNC((計算表!B17*2+20+TRUNC(計算表!D17/4))*計算表!F11/100)+5)*(計算表!E17))","v":120},{"$f":"TRUNC((TRUNC((計算表!B17*2+21+TRUNC(計算表!D17/4))*計算表!F11/100)+5)*(計算表!E17))","v":120},{"$f":"TRUNC((TRUNC((計算表!B17*2+22+TRUNC(計算表!D17/4))*計算表!F11/100)+5)*(計算表!E17))","v":121},{"$f":"TRUNC((TRUNC((計算表!B17*2+23+TRUNC(計算表!D17/4))*計算表!F11/100)+5)*(計算表!E17))","v":121},{"$f":"TRUNC((TRUNC((計算表!B17*2+24+TRUNC(計算表!D17/4))*計算表!F11/100)+5)*(計算表!E17))","v":122},{"$f":"TRUNC((TRUNC((計算表!B17*2+25+TRUNC(計算表!D17/4))*計算表!F11/100)+5)*(計算表!E17))","v":122},{"$f":"TRUNC((TRUNC((計算表!B17*2+26+TRUNC(計算表!D17/4))*計算表!F11/100)+5)*(計算表!E17))","v":123},{"$f":"TRUNC((TRUNC((計算表!B17*2+27+TRUNC(計算表!D17/4))*計算表!F11/100)+5)*(計算表!E17))","v":123},{"$f":"TRUNC((TRUNC((計算表!B17*2+28+TRUNC(計算表!D17/4))*計算表!F11/100)+5)*(計算表!E17))","v":124},{"$f":"TRUNC((TRUNC((計算表!B17*2+29+TRUNC(計算表!D17/4))*計算表!F11/100)+5)*(計算表!E17))","v":124},{"$f":"TRUNC((TRUNC((計算表!B17*2+30+TRUNC(計算表!D17/4))*計算表!F11/100)+5)*(計算表!E17))","v":125},{"$f":"TRUNC((TRUNC((計算表!B17*2+31+TRUNC(計算表!D17/4))*計算表!F11/100)+5)*(計算表!E17))","v":125}]
["S",{"$f":"TRUNC((TRUNC((計算表!B18*2+0+TRUNC(計算表!D18/4))*計算表!F11/100)+5)*(計算表!E18))","v":155},{"$f":"TRUNC((TRUNC((計算表!B18*2+1+TRUNC(計算表!D18/4))*計算表!F11/100)+5)*(計算表!E18))","v":156},{"$f":"TRUNC((TRUNC((計算表!B18*2+2+TRUNC(計算表!D18/4))*計算表!F11/100)+5)*(計算表!E18))","v":156},{"$f":"TRUNC((TRUNC((計算表!B18*2+3+TRUNC(計算表!D18/4))*計算表!F11/100)+5)*(計算表!E18))","v":157},{"$f":"TRUNC((TRUNC((計算表!B18*2+4+TRUNC(計算表!D18/4))*計算表!F11/100)+5)*(計算表!E18))","v":157},{"$f":"TRUNC((TRUNC((計算表!B18*2+5+TRUNC(計算表!D18/4))*計算表!F11/100)+5)*(計算表!E18))","v":158},{"$f":"TRUNC((TRUNC((計算表!B18*2+6+TRUNC(計算表!D18/4))*計算表!F11/100)+5)*(計算表!E18))","v":158},{"$f":"TRUNC((TRUNC((計算表!B18*2+7+TRUNC(計算表!D18/4))*計算表!F11/100)+5)*(計算表!E18))","v":159},{"$f":"TRUNC((TRUNC((計算表!B18*2+8+TRUNC(計算表!D18/4))*計算表!F11/100)+5)*(計算表!E18))","v":159},{"$f":"TRUNC((TRUNC((計算表!B18*2+9+TRUNC(計算表!D18/4))*計算表!F11/100)+5)*(計算表!E18))","v":160},{"$f":"TRUNC((TRUNC((計算表!B18*2+10+TRUNC(計算表!D18/4))*計算表!F11/100)+5)*(計算表!E18))","v":160},{"$f":"TRUNC((TRUNC((計算表!B18*2+11+TRUNC(計算表!D18/4))*計算表!F11/100)+5)*(計算表!E18))","v":161},{"$f":"TRUNC((TRUNC((計算表!B18*2+12+TRUNC(計算表!D18/4))*計算表!F11/100)+5)*(計算表!E18))","v":161},{"$f":"TRUNC((TRUNC((計算表!B18*2+13+TRUNC(計算表!D18/4))*計算表!F11/100)+5)*(計算表!E18))","v":162},{"$f":"TRUNC((TRUNC((計算表!B18*2+14+TRUNC(計算表!D18/4))*計算表!F11/100)+5)*(計算表!E18))","v":162},{"$f":"TRUNC((TRUNC((計算表!B18*2+15+TRUNC(計算表!D18/4))*計算表!F11/100)+5)*(計算表!E18))","v":163},{"$f":"TRUNC((TRUNC((計算表!B18*2+16+TRUNC(計算表!D18/4))*計算表!F11/100)+5)*(計算表!E18))","v":163},{"$f":"TRUNC((TRUNC((計算表!B18*2+17+TRUNC(計算表!D18/4))*計算表!F11/100)+5)*(計算表!E18))","v":165},{"$f":"TRUNC((TRUNC((計算表!B18*2+18+TRUNC(計算表!D18/4))*計算表!F11/100)+5)*(計算表!E18))","v":165},{"$f":"TRUNC((TRUNC((計算表!B18*2+19+TRUNC(計算表!D18/4))*計算表!F11/100)+5)*(計算表!E18))","v":166},{"$f":"TRUNC((TRUNC((計算表!B18*2+20+TRUNC(計算表!D18/4))*計算表!F11/100)+5)*(計算表!E18))","v":166},{"$f":"TRUNC((TRUNC((計算表!B18*2+21+TRUNC(計算表!D18/4))*計算表!F11/100)+5)*(計算表!E18))","v":167},{"$f":"TRUNC((TRUNC((計算表!B18*2+22+TRUNC(計算表!D18/4))*計算表!F11/100)+5)*(計算表!E18))","v":167},{"$f":"TRUNC((TRUNC((計算表!B18*2+23+TRUNC(計算表!D18/4))*計算表!F11/100)+5)*(計算表!E18))","v":168},{"$f":"TRUNC((TRUNC((計算表!B18*2+24+TRUNC(計算表!D18/4))*計算表!F11/100)+5)*(計算表!E18))","v":168},{"$f":"TRUNC((TRUNC((計算表!B18*2+25+TRUNC(計算表!D18/4))*計算表!F11/100)+5)*(計算表!E18))","v":169},{"$f":"TRUNC((TRUNC((計算表!B18*2+26+TRUNC(計算表!D18/4))*計算表!F11/100)+5)*(計算表!E18))","v":169},{"$f":"TRUNC((TRUNC((計算表!B18*2+27+TRUNC(計算表!D18/4))*計算表!F11/100)+5)*(計算表!E18))","v":170},{"$f":"TRUNC((TRUNC((計算表!B18*2+28+TRUNC(計算表!D18/4))*計算表!F11/100)+5)*(計算表!E18))","v":170},{"$f":"TRUNC((TRUNC((計算表!B18*2+29+TRUNC(計算表!D18/4))*計算表!F11/100)+5)*(計算表!E18))","v":171},{"$f":"TRUNC((TRUNC((計算表!B18*2+30+TRUNC(計算表!D18/4))*計算表!F11/100)+5)*(計算表!E18))","v":171},{"$f":"TRUNC((TRUNC((計算表!B18*2+31+TRUNC(計算表!D18/4))*計算表!F11/100)+5)*(計算表!E18))","v":172}]
[]
[null,null,null,null,null,null,null,null,null,null,null,null,null,null,null,null,null,null,null,null,null,null,null,null,null,null,null,null,null,null,null,null,null,"min","max"]
["H",{"$f":"IF(B3=計算表!F13,B2,\"\")","v":""},{"$f":"IF(C3=計算表!F13,C2,\"\")","v":""},{"$f":"IF(D3=計算表!F13,D2,\"\")","v":""},{"$f":"IF(E3=計算表!F13,E2,\"\")","v":""},{"$f":"IF(F3=計算表!F13,F2,\"\")","v":""},{"$f":"IF(G3=計算表!F13,G2,\"\")","v":""},{"$f":"IF(H3=計算表!F13,H2,\"\")","v":""},{"$f":"IF(I3=計算表!F13,I2,\"\")","v":""},{"$f":"IF(J3=計算表!F13,J2,\"\")","v":""},{"$f":"IF(K3=計算表!F13,K2,\"\")","v":""},{"$f":"IF(L3=計算表!F13,L2,\"\")","v":""},{"$f":"IF(M3=計算表!F13,M2,\"\")","v":""},{"$f":"IF(N3=計算表!F13,N2,\"\")","v":""},{"$f":"IF(O3=計算表!F13,O2,\"\")","v":""},{"$f":"IF(P3=計算表!F13,P2,\"\")","v":""},{"$f":"IF(Q3=計算表!F13,Q2,\"\")","v":""},{"$f":"IF(R3=計算表!F13,R2,\"\")","v":""},{"$f":"IF(S3=計算表!F13,S2,\"\")","v":""},{"$f":"IF(T3=計算表!F13,T2,\"\")","v":""},{"$f":"IF(U3=計算表!F13,U2,\"\")","v":""},{"$f":"IF(V3=計算表!F13,V2,\"\")","v":""},{"$f":"IF(W3=計算表!F13,W2,\"\")","v":""},{"$f":"IF(X3=計算表!F13,X2,\"\")","v":""},{"$f":"IF(Y3=計算表!F13,Y2,\"\")","v":""},{"$f":"IF(Z3=計算表!F13,Z2,\"\")","v":""},{"$f":"IF(AA3=計算表!F13,AA2,\"\")","v":""},{"$f":"IF(AB3=計算表!F13,AB2,\"\")","v":""},{"$f":"IF(AC3=計算表!F13,AC2,\"\")","v":""},{"$f":"IF(AD3=計算表!F13,AD2,\"\")","v":""},{"$f":"IF(AE3=計算表!F13,AE2,\"\")","v":""},{"$f":"IF(AF3=計算表!F13,AF2,\"\")","v":""},{"$f":"IF(AG3=計算表!F13,AG2,\"\")","v":31},{"$f":"MIN(B11:AG11)","v":31},{"$f":"MAX(B11:AG11)","v":31}]
["A",{"$f":"IF(B4=計算表!F14,B2,\"\")","v":""},{"$f":"IF(C4=計算表!F14,C2,\"\")","v":""},{"$f":"IF(D4=計算表!F14,D2,\"\")","v":""},{"$f":"IF(E4=計算表!F14,E2,\"\")","v":""},{"$f":"IF(F4=計算表!F14,F2,\"\")","v":""},{"$f":"IF(G4=計算表!F14,G2,\"\")","v":""},{"$f":"IF(H4=計算表!F14,H2,\"\")","v":""},{"$f":"IF(I4=計算表!F14,I2,\"\")","v":""},{"$f":"IF(J4=計算表!F14,J2,\"\")","v":""},{"$f":"IF(K4=計算表!F14,K2,\"\")","v":""},{"$f":"IF(L4=計算表!F14,L2,\"\")","v":""},{"$f":"IF(M4=計算表!F14,M2,\"\")","v":""},{"$f":"IF(N4=計算表!F14,N2,\"\")","v":""},{"$f":"IF(O4=計算表!F14,O2,\"\")","v":""},{"$f":"IF(P4=計算表!F14,P2,\"\")","v":""},{"$f":"IF(Q4=計算表!F14,Q2,\"\")","v":""},{"$f":"IF(R4=計算表!F14,R2,\"\")","v":""},{"$f":"IF(S4=計算表!F14,S2,\"\")","v":""},{"$f":"IF(T4=計算表!F14,T2,\"\")","v":""},{"$f":"IF(U4=計算表!F14,U2,\"\")","v":""},{"$f":"IF(V4=計算表!F14,V2,\"\")","v":""},{"$f":"IF(W4=計算表!F14,W2,\"\")","v":""},{"$f":"IF(X4=計算表!F14,X2,\"\")","v":""},{"$f":"IF(Y4=計算表!F14,Y2,\"\")","v":""},{"$f":"IF(Z4=計算表!F14,Z2,\"\")","v":""},{"$f":"IF(AA4=計算表!F14,AA2,\"\")","v":""},{"$f":"IF(AB4=計算表!F14,AB2,\"\")","v":""},{"$f":"IF(AC4=計算表!F14,AC2,\"\")","v":""},{"$f":"IF(AD4=計算表!F14,AD2,\"\")","v":""},{"$f":"IF(AE4=計算表!F14,AE2,\"\")","v":""},{"$f":"IF(AF4=計算表!F14,AF2,\"\")","v":""},{"$f":"IF(AG4=計算表!F14,AG2,\"\")","v":""},0,0]
["B",{"$f":"IF(B5=計算表!F15,B2,\"\")","v":""},{"$f":"IF(C5=計算表!F15,C2,\"\")","v":""},{"$f":"IF(D5=計算表!F15,D2,\"\")","v":""},{"$f":"IF(E5=計算表!F15,E2,\"\")","v":""},{"$f":"IF(F5=計算表!F15,F2,\"\")","v":""},{"$f":"IF(G5=計算表!F15,G2,\"\")","v":""},{"$f":"IF(H5=計算表!F15,H2,\"\")","v":""},{"$f":"IF(I5=計算表!F15,I2,\"\")","v":""},{"$f":"IF(J5=計算表!F15,J2,\"\")","v":""},{"$f":"IF(K5=計算表!F15,K2,\"\")","v":""},{"$f":"IF(L5=計算表!F15,L2,\"\")","v":""},{"$f":"IF(M5=計算表!F15,M2,\"\")","v":""},{"$f":"IF(N5=計算表!F15,N2,\"\")","v":""},{"$f":"IF(O5=計算表!F15,O2,\"\")","v":""},{"$f":"IF(P5=計算表!F15,P2,\"\")","v":""},{"$f":"IF(Q5=計算表!F15,Q2,\"\")","v":""},{"$f":"IF(R5=計算表!F15,R2,\"\")","v":""},{"$f":"IF(S5=計算表!F15,S2,\"\")","v":""},{"$f":"IF(T5=計算表!F15,T2,\"\")","v":""},{"$f":"IF(U5=計算表!F15,U2,\"\")","v":""},{"$f":"IF(V5=計算表!F15,V2,\"\")","v":""},{"$f":"IF(W5=計算表!F15,W2,\"\")","v":""},{"$f":"IF(X5=計算表!F15,X2,\"\")","v":""},{"$f":"IF(Y5=計算表!F15,Y2,\"\")","v":""},{"$f":"IF(Z5=計算表!F15,Z2,\"\")","v":""},{"$f":"IF(AA5=計算表!F15,AA2,\"\")","v":""},{"$f":"IF(AB5=計算表!F15,AB2,\"\")","v":""},{"$f":"IF(AC5=計算表!F15,AC2,\"\")","v":""},{"$f":"IF(AD5=計算表!F15,AD2,\"\")","v":""},{"$f":"IF(AE5=計算表!F15,AE2,\"\")","v":""},{"$f":"IF(AF5=計算表!F15,AF2,\"\")","v":""},{"$f":"IF(AG5=計算表!F15,AG2,\"\")","v":""},0,0]
["C",{"$f":"IF(B6=計算表!F16,B2,\"\")","v":""},{"$f":"IF(C6=計算表!F16,C2,\"\")","v":""},{"$f":"IF(D6=計算表!F16,D2,\"\")","v":""},{"$f":"IF(E6=計算表!F16,E2,\"\")","v":""},{"$f":"IF(F6=計算表!F16,F2,\"\")","v":""},{"$f":"IF(G6=計算表!F16,G2,\"\")","v":""},{"$f":"IF(H6=計算表!F16,H2,\"\")","v":""},{"$f":"IF(I6=計算表!F16,I2,\"\")","v":""},{"$f":"IF(J6=計算表!F16,J2,\"\")","v":""},{"$f":"IF(K6=計算表!F16,K2,\"\")","v":""},{"$f":"IF(L6=計算表!F16,L2,\"\")","v":""},{"$f":"IF(M6=計算表!F16,M2,\"\")","v":""},{"$f":"IF(N6=計算表!F16,N2,\"\")","v":""},{"$f":"IF(O6=計算表!F16,O2,\"\")","v":""},{"$f":"IF(P6=計算表!F16,P2,\"\")","v":""},{"$f":"IF(Q6=計算表!F16,Q2,\"\")","v":""},{"$f":"IF(R6=計算表!F16,R2,\"\")","v":""},{"$f":"IF(S6=計算表!F16,S2,\"\")","v":""},{"$f":"IF(T6=計算表!F16,T2,\"\")","v":""},{"$f":"IF(U6=計算表!F16,U2,\"\")","v":""},{"$f":"IF(V6=計算表!F16,V2,\"\")","v":""},{"$f":"IF(W6=計算表!F16,W2,\"\")","v":""},{"$f":"IF(X6=計算表!F16,X2,\"\")","v":""},{"$f":"IF(Y6=計算表!F16,Y2,\"\")","v":""},{"$f":"IF(Z6=計算表!F16,Z2,\"\")","v":""},{"$f":"IF(AA6=計算表!F16,AA2,\"\")","v":""},{"$f":"IF(AB6=計算表!F16,AB2,\"\")","v":""},{"$f":"IF(AC6=計算表!F16,AC2,\"\")","v":""},{"$f":"IF(AD6=計算表!F16,AD2,\"\")","v":""},{"$f":"IF(AE6=計算表!F16,AE2,\"\")","v":""},{"$f":"IF(AF6=計算表!F16,AF2,\"\")","v":30},{"$f":"IF(AG6=計算表!F16,AG2,\"\")","v":31},30,31]
["D",{"$f":"IF(B7=計算表!F17,B2,\"\")","v":""},{"$f":"IF(C7=計算表!F17,C2,\"\")","v":""},{"$f":"IF(D7=計算表!F17,D2,\"\")","v":""},{"$f":"IF(E7=計算表!F17,E2,\"\")","v":""},{"$f":"IF(F7=計算表!F17,F2,\"\")","v":""},{"$f":"IF(G7=計算表!F17,G2,\"\")","v":""},{"$f":"IF(H7=計算表!F17,H2,\"\")","v":""},{"$f":"IF(I7=計算表!F17,I2,\"\")","v":""},{"$f":"IF(J7=計算表!F17,J2,\"\")","v":""},{"$f":"IF(K7=計算表!F17,K2,\"\")","v":""},{"$f":"IF(L7=計算表!F17,L2,\"\")","v":""},{"$f":"IF(M7=計算表!F17,M2,\"\")","v":""},{"$f":"IF(N7=計算表!F17,N2,\"\")","v":""},{"$f":"IF(O7=計算表!F17,O2,\"\")","v":""},{"$f":"IF(P7=計算表!F17,P2,\"\")","v":""},{"$f":"IF(Q7=計算表!F17,Q2,\"\")","v":""},{"$f":"IF(R7=計算表!F17,R2,\"\")","v":""},{"$f":"IF(S7=計算表!F17,S2,\"\")","v":""},{"$f":"IF(T7=計算表!F17,T2,\"\")","v":""},{"$f":"IF(U7=計算表!F17,U2,\"\")","v":""},{"$f":"IF(V7=計算表!F17,V2,\"\")","v":""},{"$f":"IF(W7=計算表!F17,W2,\"\")","v":""},{"$f":"IF(X7=計算表!F17,X2,\"\")","v":""},{"$f":"IF(Y7=計算表!F17,Y2,\"\")","v":""},{"$f":"IF(Z7=計算表!F17,Z2,\"\")","v":""},{"$f":"IF(AA7=計算表!F17,AA2,\"\")","v":""},{"$f":"IF(AB7=計算表!F17,AB2,\"\")","v":""},{"$f":"IF(AC7=計算表!F17,AC2,\"\")","v":""},{"$f":"IF(AD7=計算表!F17,AD2,\"\")","v":""},{"$f":"IF(AE7=計算表!F17,AE2,\"\")","v":""},{"$f":"IF(AF7=計算表!F17,AF2,\"\")","v":""},{"$f":"IF(AG7=計算表!F17,AG2,\"\")","v":""},0,0]
["S",{"$f":"IF(B8=計算表!F18,B2,\"\")","v":""},{"$f":"IF(C8=計算表!F18,C2,\"\")","v":""},{"$f":"IF(D8=計算表!F18,D2,\"\")","v":""},{"$f":"IF(E8=計算表!F18,E2,\"\")","v":""},{"$f":"IF(F8=計算表!F18,F2,\"\")","v":""},{"$f":"IF(G8=計算表!F18,G2,\"\")","v":""},{"$f":"IF(H8=計算表!F18,H2,\"\")","v":""},{"$f":"IF(I8=計算表!F18,I2,\"\")","v":""},{"$f":"IF(J8=計算表!F18,J2,\"\")","v":""},{"$f":"IF(K8=計算表!F18,K2,\"\")","v":""},{"$f":"IF(L8=計算表!F18,L2,\"\")","v":""},{"$f":"IF(M8=計算表!F18,M2,\"\")","v":""},{"$f":"IF(N8=計算表!F18,N2,\"\")","v":""},{"$f":"IF(O8=計算表!F18,O2,\"\")","v":""},{"$f":"IF(P8=計算表!F18,P2,\"\")","v":""},{"$f":"IF(Q8=計算表!F18,Q2,\"\")","v":""},{"$f":"IF(R8=計算表!F18,R2,\"\")","v":""},{"$f":"IF(S8=計算表!F18,S2,\"\")","v":""},{"$f":"IF(T8=計算表!F18,T2,\"\")","v":""},{"$f":"IF(U8=計算表!F18,U2,\"\")","v":19},{"$f":"IF(V8=計算表!F18,V2,\"\")","v":20},{"$f":"IF(W8=計算表!F18,W2,\"\")","v":""},{"$f":"IF(X8=計算表!F18,X2,\"\")","v":""},{"$f":"IF(Y8=計算表!F18,Y2,\"\")","v":""},{"$f":"IF(Z8=計算表!F18,Z2,\"\")","v":""},{"$f":"IF(AA8=計算表!F18,AA2,\"\")","v":""},{"$f":"IF(AB8=計算表!F18,AB2,\"\")","v":""},{"$f":"IF(AC8=計算表!F18,AC2,\"\")","v":""},{"$f":"IF(AD8=計算表!F18,AD2,\"\")","v":""},{"$f":"IF(AE8=計算表!F18,AE2,\"\")","v":""},{"$f":"IF(AF8=計算表!F18,AF2,\"\")","v":""},{"$f":"IF(AG8=計算表!F18,AG2,\"\")","v":""},19,20]

{"sheet":"めざめるパワー","index":2,"n_rows":66,"n_cols":58,"rows_kept":66,"cut":false,"hidden":true,"merged":[]}
[null,null,null,"H","奇","偶","奇","偶","奇","偶","奇","偶"]
[null,null,null,"A","奇","奇","偶","偶","奇","奇","偶","偶",null,null,null,"111111",{"$f":"MOD(計算表!C17,2)&MOD(計算表!C16,2)&MOD(計算表!C18,2)&MOD(計算表!C15,2)&MOD(計算表!C14,2)&MOD(計算表!C13,2)","v":"110111"},{"$f":"IF(P2=Q2,S2,\"\")","v":""},"あく",null,null,"偶(0)？奇(1)？",null,null,null,null,null,null,null,null,null,null,null,null,null,"A","B","C","D","E","F","G","H","I","J","K","L","M","N","O","P","Q","R","S","T","U","V"]
[null,null,null,"B","奇","奇","奇","奇","偶","偶","偶","偶",null,null,null,"111110",{"$f":"Q2","v":"110111"},{"$f":"IF(P3=Q3,S3,\"\")","v":""},"ドラゴン",null,"H",{"$f":"IF(COUNT(V13:AK13)<>0,VALUE(V13&W13&X13&Y13&Z13&AA13&AB13&AC13&AD13&AE13&AF13&AG13&AH13&AI13&AJ13&AK13),\"\")","v":""},{"$f":"計算表!AB13","v":31},"～",{"$f":"計算表!AD13","v":31},{"$f":"IF(Y3-W3>30,IF(OR(MOD(Y3-31,2)=V3,V3=\"\"),Y3-31,\"\"),\"\")","v":""},{"$f":"IF(Y3-W3>29,IF(OR(MOD(Y3-30,2)=V3,V3=\"\"),Y3-30,\"\"),\"\")","v":""},{"$f":"IF(Y3-W3>28,IF(OR(MOD(Y3-29,2)=V3,V3=\"\"),Y3-29,\"\"),\"\")","v":""},{"$f":"IF(Y3-W3>27,IF(OR(MOD(Y3-28,2)=V3,V3=\"\"),Y3-28,\"\"),\"\")","v":""},{"$f":"IF(Y3-W3>26,IF(OR(MOD(Y3-27,2)=V3,V3=\"\"),Y3-27,\"\"),\"\")","v":""},{"$f":"IF(Y3-W3>25,IF(OR(MOD(Y3-26,2)=V3,V3=\"\"),Y3-26,\"\"),\"\")","v":""},{"$f":"IF(Y3-W3>24,IF(OR(MOD(Y3-25,2)=V3,V3=\"\"),Y3-25,\"\"),\"\")","v":""},{"$f":"IF(Y3-W3>23,IF(OR(MOD(Y3-24,2)=V3,V3=\"\"),Y3-24,\"\"),\"\")","v":""},{"$f":"IF(Y3-W3>22,IF(OR(MOD(Y3-23,2)=V3,V3=\"\"),Y3-23,\"\"),\"\")","v":""},{"$f":"IF(Y3-W3>21,IF(OR(MOD(Y3-22,2)=V3,V3=\"\"),Y3-22,\"\"),\"\")","v":""},{"$f":"IF(Y3-W3>20,IF(OR(MOD(Y3-21,2)=V3,V3=\"\"),Y3-21,\"\"),\"\")","v":""},{"$f":"IF(Y3-W3>19,IF(OR(MOD(Y3-20,2)=V3,V3=\"\"),Y3-20,\"\"),\"\")","v":""},{"$f":"IF(Y3-W3>18,IF(OR(MOD(Y3-19,2)=V3,V3=\"\"),Y3-19,\"\"),\"\")","v":""},{"$f":"IF(Y3-W3>17,IF(OR(MOD(Y3-18,2)=V3,V3=\"\"),Y3-18,\"\"),\"\")","v":""},{"$f":"IF(Y3-W3>16,IF(OR(MOD(Y3-17,2)=V3,V3=\"\"),Y3-17,\"\"),\"\")","v":""},{"$f":"IF(Y3-W3>15,IF(OR(MOD(Y3-16,2)=V3,V3=\"\"),Y3-16,\"\"),\"\")","v":""},{"$f":"IF(Y3-W3>14,IF(OR(MOD(Y3-15,2)=V3,V3=\"\"),Y3-15,\"\"),\"\")","v":""},{"$f":"IF(Y3-W3>13,IF(OR(MOD(Y3-14,2)=V3,V3=\"\"),Y3-14,\"\"),\"\")","v":""},{"$f":"IF(Y3-W3>12,IF(OR(MOD(Y3-13,2)=V3,V3=\"\"),Y3-13,\"\"),\"\")","v":""},{"$f":"IF(Y3-W3>11,IF(OR(MOD(Y3-12,2)=V3,V3=\"\"),Y3-12,\"\"),\"\")","v":""},{"$f":"IF(Y3-W3>10,IF(OR(MOD(Y3-11,2)=V3,V3=\"\"),Y3-11,\"\"),\"\")","v":""},{"$f":"IF(Y3-W3>9,IF(OR(MOD(Y3-10,2)=V3,V3=\"\"),Y3-10,\"\"),\"\")","v":""},{"$f":"IF(Y3-W3>8,IF(OR(MOD(Y3-9,2)=V3,V3=\"\"),Y3-9,\"\"),\"\")","v":""},{"$f":"IF(Y3-W3>7,IF(OR(MOD(Y3-8,2)=V3,V3=\"\"),Y3-8,\"\"),\"\")","v":""},{"$f":"IF(Y3-W3>6,IF(OR(MOD(Y3-7,2)=V3,V3=\"\"),Y3-7,\"\"),\"\")","v":""},{"$f":"IF(Y3-W3>5,IF(OR(MOD(Y3-6,2)=V3,V3=\"\"),Y3-6,\"\"),\"\")","v":""},{"$f":"IF(Y3-W3>4,IF(OR(MOD(Y3-5,2)=V3,V3=\"\"),Y3-5,\"\"),\"\")","v":""},{"$f":"IF(Y3-W3>3,IF(OR(MOD(Y3-4,2)=V3,V3=\"\"),Y3-4,\"\"),\"\")","v":""},{"$f":"IF(Y3-W3>2,IF(OR(MOD(Y3-3,2)=V3,V3=\"\"),Y3-3,\"\"),\"\")","v":""},{"$f":"IF(Y3-W3>1,IF(OR(MOD(Y3-2,2)=V3,V3=\"\"),Y3-2,\"\"),\"\")","v":""},{"$f":"IF(Y3-W3>0,IF(OR(MOD(Y3-1,2)=V3,V3=\"\"),Y3-1,\"\"),\"\")","v":""},{"$f":"IF(OR(MOD(Y3,2)=V3,V3=\"\"),Y3-0,\"\")","v":31},{"$f":"LEFT(IF(Z3<>\"\",Z3&\",\",\"\")&IF(AA3<>\"\",AA3&\",\",\"\")&IF(AB3<>\"\",AB3&\",\",\"\")&IF(AC3<>\"\",AC3&\",\",\"\")&IF(AD3<>\"\",AD3&\",\",\"\")&IF(AE3<>\"\",AE3&\",\",\"\")&IF(AF3<>\"\",AF3&\",\",\"\")&IF(AG3<>\"\",AG3&\",\",\"\")&IF(AH3<>\"\",AH3&\",\",\"\")&IF(AI3<>\"\",AI3&\",\",\"\")&IF(AJ3<>\"\",AJ3&\",\",\"\")&IF(AK3<>\"\",AK3&\",\",\"\")&IF(AL3<>\"\",AL3&\",\",\"\")&IF(AM3<>\"\",AM3&\",\",\"\")&IF(AN3<>\"\",AN3&\",\",\"\")&IF(AO3<>\"\",AO3&\",\",\"\")&IF(AP3<>\"\",AP3&\",\",\"\")&IF(AQ3<>\"\",AQ3&\",\",\"\")&IF(AR3<>\"\",AR3&\",\",\"\")&IF(AS3<>\"\",AS3&\",\",\"\")&IF(AT3<>\"\",AT3&\",\",\"\")&IF(AU3<>\"\",AU3&\",\",\"\")&IF(AV3<>\"\",AV3&\",\",\"\")&IF(AW3<>\"\",AW3&\",\",\"\")&IF(AX3<>\"\",AX3&\",\",\"\")&IF(AY3<>\"\",AY3&\",\",\"\")&IF(AZ3<>\"\",AZ3&\",\",\"\")&IF(BA3<>\"\",BA3&\",\",\"\")&IF(BB3<>\"\",BB3&\",\",\"\")&IF(BC3<>\"\",BC3&\",\",\"\")&IF(BD3<>\"\",BD3&\",\",\"\")&IF(BE3<>\"\",BE3&\",\",\"\"),LEN(IF(Z3<>\"\",Z3&\",\",\"\")&IF(AA3<>\"\",AA3&\",\",\"\")&IF(AB3<>\"\",AB3&\",\",\"\")&IF(AC3<>\"\",AC3&\",\",\"\")&IF(AD3<>\"\",AD3&\",\",\"\")&IF(AE3<>\"\",AE3&\",\",\"\")&IF(AF3<>\"\",AF3&\",\",\"\")&IF(AG3<>\"\",AG3&\",\",\"\")&IF(AH3<>\"\",AH3&\",\",\"\")&IF(AI3<>\"\",AI3&\",\",\"\")&IF(AJ3<>\"\",AJ3&\",\",\"\")&IF(AK3<>\"\",AK3&\",\",\"\")&IF(AL3<>\"\",AL3&\",\",\"\")&IF(AM3<>\"\",AM3&\",\",\"\")&IF(AN3<>\"\",AN3&\",\",\"\")&IF(AO3<>\"\",AO3&\",\",\"\")&IF(AP3<>\"\",AP3&\",\",\"\")&IF(AQ3<>\"\",AQ3&\",\",\"\")&IF(AR3<>\"\",AR3&\",\",\"\")&IF(AS3<>\"\",AS3&\",\",\"\")&IF(AT3<>\"\",AT3&\",\",\"\")&IF(AU3<>\"\",AU3&\",\",\"\")&IF(AV3<>\"\",AV3&\",\",\"\")&IF(AW3<>\"\",AW3&\",\",\"\")&IF(AX3<>\"\",AX3&\",\",\"\")&IF(AY3<>\"\",AY3&\",\",\"\")&IF(AZ3<>\"\",AZ3&\",\",\"\")&IF(BA3<>\"\",BA3&\",\",\"\")&IF(BB3<>\"\",BB3&\",\",\"\")&IF(BC3<>\"\",BC3&\",\",\"\")&IF(BD3<>\"\",BD3&\",\",\"\")&IF(BE3<>\"\",BE3&\",\",\"\"))-1)","v":"31"}]
["S","C","D",null,null,null,null,null,null,null,null,null,null,null,null,"111101",{"$f":"Q3","v":"110111"},"","ドラゴン",null,"A","",{"$f":"計算表!AB14","v":0},"～",{"$f":"計算表!AD14","v":0},"","","","","","","","","","","","","","","","","","","","","","","","","","","","","","",{"$f":"IF(Y4-W4>0,IF(OR(MOD(Y4-1,2)=V4,V4=\"\"),Y4-1,\"\"),\"\")","v":""},{"$f":"IF(OR(MOD(Y4-0,2)=V4,V4=\"\"),Y4-0,\"\")","v":0},{"$f":"LEFT(IF(Z4<>\"\",Z4&\",\",\"\")&IF(AA4<>\"\",AA4&\",\",\"\")&IF(AB4<>\"\",AB4&\",\",\"\")&IF(AC4<>\"\",AC4&\",\",\"\")&IF(AD4<>\"\",AD4&\",\",\"\")&IF(AE4<>\"\",AE4&\",\",\"\")&IF(AF4<>\"\",AF4&\",\",\"\")&IF(AG4<>\"\",AG4&\",\",\"\")&IF(AH4<>\"\",AH4&\",\",\"\")&IF(AI4<>\"\",AI4&\",\",\"\")&IF(AJ4<>\"\",AJ4&\",\",\"\")&IF(AK4<>\"\",AK4&\",\",\"\")&IF(AL4<>\"\",AL4&\",\",\"\")&IF(AM4<>\"\",AM4&\",\",\"\")&IF(AN4<>\"\",AN4&\",\",\"\")&IF(AO4<>\"\",AO4&\",\",\"\")&IF(AP4<>\"\",AP4&\",\",\"\")&IF(AQ4<>\"\",AQ4&\",\",\"\")&IF(AR4<>\"\",AR4&\",\",\"\")&IF(AS4<>\"\",AS4&\",\",\"\")&IF(AT4<>\"\",AT4&\",\",\"\")&IF(AU4<>\"\",AU4&\",\",\"\")&IF(AV4<>\"\",AV4&\",\",\"\")&IF(AW4<>\"\",AW4&\",\",\"\")&IF(AX4<>\"\",AX4&\",\",\"\")&IF(AY4<>\"\",AY4&\",\",\"\")&IF(AZ4<>\"\",AZ4&\",\",\"\")&IF(BA4<>\"\",BA4&\",\",\"\")&IF(BB4<>\"\",BB4&\",\",\"\")&IF(BC4<>\"\",BC4&\",\",\"\")&IF(BD4<>\"\",BD4&\",\",\"\")&IF(BE4<>\"\",BE4&\",\",\"\"),LEN(IF(Z4<>\"\",Z4&\",\",\"\")&IF(AA4<>\"\",AA4&\",\",\"\")&IF(AB4<>\"\",AB4&\",\",\"\")&IF(AC4<>\"\",AC4&\",\",\"\")&IF(AD4<>\"\",AD4&\",\",\"\")&IF(AE4<>\"\",AE4&\",\",\"\")&IF(AF4<>\"\",AF4&\",\",\"\")&IF(AG4<>\"\",AG4&\",\",\"\")&IF(AH4<>\"\",AH4&\",\",\"\")&IF(AI4<>\"\",AI4&\",\",\"\")&IF(AJ4<>\"\",AJ4&\",\",\"\")&IF(AK4<>\"\",AK4&\",\",\"\")&IF(AL4<>\"\",AL4&\",\",\"\")&IF(AM4<>\"\",AM4&\",\",\"\")&IF(AN4<>\"\",AN4&\",\",\"\")&IF(AO4<>\"\",AO4&\",\",\"\")&IF(AP4<>\"\",AP4&\",\",\"\")&IF(AQ4<>\"\",AQ4&\",\",\"\")&IF(AR4<>\"\",AR4&\",\",\"\")&IF(AS4<>\"\",AS4&\",\",\"\")&IF(AT4<>\"\",AT4&\",\",\"\")&IF(AU4<>\"\",AU4&\",\",\"\")&IF(AV4<>\"\",AV4&\",\",\"\")&IF(AW4<>\"\",AW4&\",\",\"\")&IF(AX4<>\"\",AX4&\",\",\"\")&IF(AY4<>\"\",AY4&\",\",\"\")&IF(AZ4<>\"\",AZ4&\",\",\"\")&IF(BA4<>\"\",BA4&\",\",\"\")&IF(BB4<>\"\",BB4&\",\",\"\")&IF(BC4<>\"\",BC4&\",\",\"\")&IF(BD4<>\"\",BD4&\",\",\"\")&IF(BE4<>\"\",BE4&\",\",\"\"))-1)","v":"0"}]
["奇","奇","奇",null,"悪","竜","竜","竜","竜","氷","氷","氷",null,null,null,"111100","110111","","ドラゴン",null,"B",{"$f":"IF(COUNT(V15:AK15)<>0,VALUE(V15&W15&X15&Y15&Z15&AA15&AB15&AC15&AD15&AE15&AF15&AG15&AH15&AI15&AJ15&AK15),\"\")","v":""},{"$f":"計算表!AB15","v":0},"～",{"$f":"計算表!AD15","v":0},"","","","","","","","","","","","","","","","","","","","","","","","","","","","","","","",0,"0"]
["偶","奇","奇",null,"氷","超","超","超","超","電","電","電",null,null,null,"111011","110111","","ドラゴン",null,"C",{"$f":"IF(COUNT(V16:AK16)<>0,VALUE(V16&W16&X16&Y16&Z16&AA16&AB16&AC16&AD16&AE16&AF16&AG16&AH16&AI16&AJ16&AK16),\"\")","v":1},{"$f":"計算表!AB16","v":30},"～",{"$f":"計算表!AD16","v":31},"","","","","","","","","","","","","","","","","","","","","","","","","","","","","","","",31,"31"]
["奇","偶","奇",null,"電","草","草","草","草","草","水","水",null,null,null,"111010","110111","","こおり",null,"D",1,{"$f":"計算表!AB17","v":0},"～",{"$f":"計算表!AD17","v":0},"","","","","","","","","","","","","","","","","","","","","","","","","","","","","","","","",{"$error":"#VALUE!"}]
["偶","偶","奇",null,"水","水","炎","炎","炎","炎","鋼","鋼",null,null,null,"111001","110111","","こおり",null,"S","",{"$f":"計算表!AB18","v":19},"～",{"$f":"計算表!AD18","v":20},"","","","","","","","","","","","","","","","","","","","","","","","","","","","","","",19,20,"19,20"]
["奇","奇","偶",null,"鋼","鋼","霊","霊","霊","霊","虫","虫",null,null,null,"111000","110111","","こおり"]
["偶","奇","偶",null,"虫","虫","虫","岩","岩","岩","岩","地",null,null,null,"110111","110111","こおり","こおり"]
["奇","偶","偶",null,"地","地","地","毒","毒","毒","毒","飛",null,null,null,"110110","110111","","エスパー"]
["偶","偶","偶",null,"飛","飛","飛","闘","闘","闘","闘","闘",null,null,null,"110101","110111","","エスパー",null,null,"悪","竜","氷","超","電","草","水","炎","鋼","霊","虫","岩","地","毒","飛","闘"]
[null,null,null,null,null,null,null,null,null,null,null,null,null,null,null,"110100","110111","","エスパー",null,"H",{"$f":"IF(計算表!AE12=\"あく\",1,\"\")","v":""}]
[null,null,null,null,null,null,null,null,null,null,null,null,null,null,null,"110011","110111","","エスパー",null,"A",{"$f":"IF(計算表!AE12=\"あく\",1,\"\")","v":""}]
[null,null,null,null,null,null,null,null,null,null,null,null,null,null,null,"110010","110111","","でんき",null,"B",{"$f":"IF(計算表!AE12=\"あく\",1,\"\")","v":""}]
[null,null,null,null,null,null,null,null,null,null,null,null,null,null,null,"110001","110111","","でんき",null,"C",{"$f":"IF(計算表!AE12=\"あく\",1,\"\")","v":""},{"$f":"IF(計算表!AE12=\"ドラゴン\",1,\"\")","v":""},{"$f":"IF(計算表!AE12=\"こおり\",1,\"\")","v":1},null,null,{"$f":"IF(計算表!AE12=\"でんき\",0,\"\")","v":""},{"$f":"IF(計算表!AE12=\"みず\",0,\"\")","v":""},{"$f":"IF(計算表!AE12=\"ほのお\",0,\"\")","v":""},null,{"$f":"IF(計算表!AE12=\"ゴースト\",1,\"\")","v":""},null,{"$f":"IF(計算表!AE12=\"いわ\",1,\"\")","v":""},null,{"$f":"IF(計算表!AE12=\"どく\",0,\"\")","v":""},{"$f":"IF(計算表!AE12=\"ひこう\",0,\"\")","v":""},{"$f":"IF(計算表!AE12=\"かくとう\",0,\"\")","v":""}]
[null,null,null,null,null,null,null,null,null,null,null,null,null,null,null,"110000","110111","","でんき",null,"D",{"$f":"IF(計算表!AE12=\"あく\",1,\"\")","v":""},{"$f":"IF(計算表!AE12=\"ドラゴン\",1,\"\")","v":""},{"$f":"IF(計算表!AE12=\"こおり\",1,\"\")","v":1},null,{"$f":"IF(計算表!AE12=\"でんき\",1,\"\")","v":""},{"$f":"IF(計算表!AE12=\"くさ\",1,\"\")","v":""},{"$f":"IF(計算表!AE12=\"みず\",1,\"\")","v":""},{"$f":"IF(計算表!AE12=\"ほのお\",1,\"\")","v":""},null,{"$f":"IF(計算表!AE12=\"ゴースト\",0,\"\")","v":""},{"$f":"IF(計算表!AE12=\"むし\",0,\"\")","v":""},{"$f":"IF(計算表!AE12=\"いわ\",0,\"\")","v":""},{"$f":"IF(計算表!AE12=\"じめん\",0,\"\")","v":""},{"$f":"IF(計算表!AE12=\"どく\",0,\"\")","v":""},{"$f":"IF(計算表!AE12=\"ひこう\",0,\"\")","v":""},{"$f":"IF(計算表!AE12=\"かくとう\",0,\"\")","v":""}]
[null,null,null,null,null,null,null,null,null,null,null,null,null,null,null,"101111","110111","","でんき",null,"S",{"$f":"IF(計算表!AE12=\"あく\",1,\"\")","v":""},{"$f":"IF(計算表!AE12=\"ドラゴン\",1,\"\")","v":""},null,{"$f":"IF(計算表!AE12=\"エスパー\",0,\"\")","v":""},null,{"$f":"IF(計算表!AE12=\"くさ\",1,\"\")","v":""},null,{"$f":"IF(計算表!AE12=\"ほのお\",0,\"\")","v":""},null,{"$f":"IF(計算表!AE12=\"ゴースト\",1,\"\")","v":""},null,{"$f":"IF(計算表!AE12=\"いわ\",0,\"\")","v":""},null,{"$f":"IF(計算表!AE12=\"どく\",1,\"\")","v":""},null,{"$f":"IF(計算表!AE12=\"かくとう\",0,\"\")","v":""}]
[null,null,null,null,null,null,null,null,null,null,null,null,null,null,null,"101110","110111","","くさ"]
[null,null,null,null,null,null,null,null,null,null,null,null,null,null,null,"101101","110111","","くさ"]
[null,null,null,null,null,null,null,null,null,null,null,null,null,null,null,"101100","110111","","くさ"]
[null,null,null,null,null,null,null,null,null,null,null,null,null,null,null,"101011","110111","","くさ"]
[null,null,null,null,null,null,null,null,null,null,null,null,null,null,null,"101010","110111","","くさ"]
[null,null,null,null,null,null,null,null,null,null,null,null,null,null,null,"101001","110111","","みず"]
[null,null,null,null,null,null,null,null,null,null,null,null,null,null,null,"101000","110111","","みず"]
[null,null,null,null,null,null,null,null,null,null,null,null,null,null,null,"100111","110111","","みず"]
[null,null,null,null,null,null,null,null,null,null,null,null,null,null,null,"100110","110111","","みず"]
[null,null,null,null,null,null,null,null,null,null,null,null,null,null,null,"100101","110111","","ほのお"]
[null,null,null,null,null,null,null,null,null,null,null,null,null,null,null,"100100","110111","","ほのお"]
[null,null,null,null,null,null,null,null,null,null,null,null,null,null,null,"100011","110111","","ほのお"]
[null,null,null,null,null,null,null,null,null,null,null,null,null,null,null,"100010","110111","","ほのお"]
[null,null,null,null,null,null,null,null,null,null,null,null,null,null,null,"100001","110111","","はがね"]
[null,null,null,null,null,null,null,null,null,null,null,null,null,null,null,"100000","110111","","はがね"]
[null,null,null,null,null,null,null,null,null,null,null,null,null,null,null,"011111","110111","","はがね"]
[null,null,null,null,null,null,null,null,null,null,null,null,null,null,null,"011110","110111","","はがね"]
[null,null,null,null,null,null,null,null,null,null,null,null,null,null,null,"011101","110111","","ゴースト"]
[null,null,null,null,null,null,null,null,null,null,null,null,null,null,null,"011100","110111","","ゴースト"]
[null,null,null,null,null,null,null,null,null,null,null,null,null,null,null,"011011","110111","","ゴースト"]
[null,null,null,null,null,null,null,null,null,null,null,null,null,null,null,"011010","110111","","ゴースト"]
[null,null,null,null,null,null,null,null,null,null,null,null,null,null,null,"011001","110111","","むし"]
[null,null,null,null,null,null,null,null,null,null,null,null,null,null,null,"011000","110111","","むし"]
[null,null,null,null,null,null,null,null,null,null,null,null,null,null,null,"010111","110111","","むし"]
[null,null,null,null,null,null,null,null,null,null,null,null,null,null,null,"010110","110111","","むし"]
[null,null,null,null,null,null,null,null,null,null,null,null,null,null,null,"010101","110111","","むし"]
[null,null,null,null,null,null,null,null,null,null,null,null,null,null,null,"010100","110111","","いわ"]
[null,null,null,null,null,null,null,null,null,null,null,null,null,null,null,"010011","110111","","いわ"]
[null,null,null,null,null,null,null,null,null,null,null,null,null,null,null,"010010","110111","","いわ"]
[null,null,null,null,null,null,null,null,null,null,null,null,null,null,null,"010001","110111","","いわ"]
[null,null,null,null,null,null,null,null,null,null,null,null,null,null,null,"010000","110111","","じめん"]
[null,null,null,null,null,null,null,null,null,null,null,null,null,null,null,"001111","110111","","じめん"]
[null,null,null,null,null,null,null,null,null,null,null,null,null,null,null,"001110","110111","","じめん"]
[null,null,null,null,null,null,null,null,null,null,null,null,null,null,null,"001101","110111","","じめん"]
[null,null,null,null,null,null,null,null,null,null,null,null,null,null,null,"001100","110111","","どく"]
[null,null,null,null,null,null,null,null,null,null,null,null,null,null,null,"001011","110111","","どく"]
[null,null,null,null,null,null,null,null,null,null,null,null,null,null,null,"001010","110111","","どく"]
[null,null,null,null,null,null,null,null,null,null,null,null,null,null,null,"001001","110111","","どく"]
[null,null,null,null,null,null,null,null,null,null,null,null,null,null,null,"001000","110111","","ひこう"]
[null,null,null,null,null,null,null,null,null,null,null,null,null,null,null,"000111","110111","","ひこう"]
[null,null,null,null,null,null,null,null,null,null,null,null,null,null,null,"000110","110111","","ひこう"]
[null,null,null,null,null,null,null,null,null,null,null,null,null,null,null,"000101","110111","","ひこう"]
[null,null,null,null,null,null,null,null,null,null,null,null,null,null,null,"000100","110111","","かくとう"]
[null,null,null,null,null,null,null,null,null,null,null,null,null,null,null,"000011","110111","","かくとう"]
[null,null,null,null,null,null,null,null,null,null,null,null,null,null,null,"000010","110111","","かくとう"]
[null,null,null,null,null,null,null,null,null,null,null,null,null,null,null,"000001","110111","","かくとう"]
[null,null,null,null,null,null,null,null,null,null,null,null,null,null,null,"000000","110111","","かくとう"]
[null,null,null,null,null,null,null,null,null,null,null,null,null,null,null,null,null,{"$f":"R2&R3&R4&R5&R6&R7&R8&R9&R10&R11&R12&R13&R14&R15&R16&R17&R18&R19&R20&R21&R22&R23&R24&R25&R26&R27&R28&R29&R30&R31&R32&R33&R34&R35&R36&R37&R38&R39&R40&R41&R42&R43&R44&R45&R46&R47&R48&R49&R50&R51&R52&R53&R54&R55&R56&R57&R58&R59&R60&R61&R62&R63&R64&R65","v":"こおり"}]

{"sheet":"相性表","index":3,"n_rows":30,"n_cols":62,"rows_kept":30,"cut":false,"hidden":false,"merged":[[1,25,1,42],[1,43,1,60],[27,20,27,23]]}
[]
[null,"　　　　受け\n攻め","普","炎","水","電","草","氷","格","毒","地","飛","超","虫","岩","幽","竜","悪","鋼","妖","○","△","×"]
[null,"ノーマル",null,null,null,null,null,null,null,null,null,null,null,null,"△","×",null,null,"△",null,{"$f":"COUNTIF(C3:T3,\"○\")","v":0},{"$f":"COUNTIF(D3:U3,\"△\")","v":2},{"$f":"COUNTIF(E3:V3,\"×\")","v":1},{"$f":"U3-V3-2*W3","v":-4},{"$f":"IF(B28=B3,\"○\",IF(B30=B3,\"○\",\"\"))","v":""},{"$f":"IF(C3=\"○\",2,IF(C3=\"△\",0.5,IF(C3=\"×\",0,1)))","v":1},1,1,1,1,1,1,1,1,1,1,1,0.5,0,1,1,0.5,1,{"$f":"IF(Y3=\"\",1,VALUE(Z3))","v":1},{"$f":"IF(Y4=\"\",1,VALUE(AA3))","v":1},{"$f":"IF(Y5=\"\",1,VALUE(AB3))","v":1},{"$f":"IF(Y6=\"\",1,VALUE(AC3))","v":1},{"$f":"IF(Y7=\"\",1,VALUE(AD3))","v":1},{"$f":"IF(Y8=\"\",1,VALUE(AE3))","v":1},{"$f":"IF(Y9=\"\",1,VALUE(AF3))","v":1},{"$f":"IF(Y10=\"\",1,VALUE(AG3))","v":1},{"$f":"IF(Y11=\"\",1,VALUE(AH3))","v":1},{"$f":"IF(Y12=\"\",1,VALUE(AI3))","v":1},{"$f":"IF(Y13=\"\",1,VALUE(AJ3))","v":1},{"$f":"IF(Y14=\"\",1,VALUE(AK3))","v":1},{"$f":"IF(Y15=\"\",1,VALUE(AL3))","v":1},{"$f":"IF(Y16=\"\",1,VALUE(AM3))","v":1},{"$f":"IF(Y17=\"\",1,VALUE(AN3))","v":1},{"$f":"IF(Y18=\"\",1,VALUE(AO3))","v":1},{"$f":"IF(Y19=\"\",1,VALUE(AP3))","v":0.5},{"$f":"IF(Y20=\"\",1,VALUE(AQ3))","v":1},{"$f":"PRODUCT(AR3:BI3)","v":0.5}]
[null,"ほのお",null,"△","△",null,"○","○",null,null,null,null,null,"○","△",null,"△",null,"○",null,{"$f":"COUNTIF(C4:T4,\"○\")","v":4},{"$f":"COUNTIF(D4:U4,\"△\")","v":4},{"$f":"COUNTIF(E4:V4,\"×\")","v":0},{"$f":"U4-V4-2*W4","v":0},{"$f":"IF(B28=B4,\"○\",IF(B30=B4,\"○\",\"\"))","v":""},{"$f":"IF(C4=\"○\",2,IF(C4=\"△\",0.5,IF(C4=\"×\",0,1)))","v":1},0.5,0.5,1,2,2,1,1,1,1,1,2,{"$f":"IF(O4=\"○\",2,IF(O4=\"△\",0.5,IF(O4=\"×\",0,1)))","v":0.5},1,0.5,1,2,1,{"$f":"IF(Y3=\"\",1,VALUE(Z4))","v":1},{"$f":"IF(Y4=\"\",1,VALUE(AA4))","v":1},{"$f":"IF(Y5=\"\",1,VALUE(AB4))","v":1},{"$f":"IF(Y6=\"\",1,VALUE(AC4))","v":1},{"$f":"IF(Y7=\"\",1,VALUE(AD4))","v":1},{"$f":"IF(Y8=\"\",1,VALUE(AE4))","v":1},{"$f":"IF(Y9=\"\",1,VALUE(AF4))","v":1},{"$f":"IF(Y10=\"\",1,VALUE(AG4))","v":1},{"$f":"IF(Y11=\"\",1,VALUE(AH4))","v":1},{"$f":"IF(Y12=\"\",1,VALUE(AI4))","v":1},{"$f":"IF(Y13=\"\",1,VALUE(AJ4))","v":1},{"$f":"IF(Y14=\"\",1,VALUE(AK4))","v":1},{"$f":"IF(Y15=\"\",1,VALUE(AL4))","v":1},{"$f":"IF(Y16=\"\",1,VALUE(AM4))","v":1},{"$f":"IF(Y17=\"\",1,VALUE(AN4))","v":1},{"$f":"IF(Y18=\"\",1,VALUE(AO4))","v":1},{"$f":"IF(Y19=\"\",1,VALUE(AP4))","v":2},{"$f":"IF(Y20=\"\",1,VALUE(AQ4))","v":1},{"$f":"PRODUCT(AR4:BI4)","v":2}]
[null,"みず",null,"○","△",null,"△",null,null,null,"○",null,null,null,"○",null,"△",null,null,null,{"$f":"COUNTIF(C5:T5,\"○\")","v":3},3,0,{"$f":"U5-V5-2*W5","v":0},{"$f":"IF(B28=B5,\"○\",IF(B30=B5,\"○\",\"\"))","v":""},{"$f":"IF(C5=\"○\",2,IF(C5=\"△\",0.5,IF(C5=\"×\",0,1)))","v":1},2,0.5,1,0.5,1,1,1,2,1,1,1,{"$f":"IF(O5=\"○\",2,IF(O5=\"△\",0.5,IF(O5=\"×\",0,1)))","v":2},1,0.5,1,1,1,{"$f":"IF(Y3=\"\",1,VALUE(Z5))","v":1},{"$f":"IF(Y4=\"\",1,VALUE(AA5))","v":1},{"$f":"IF(Y5=\"\",1,VALUE(AB5))","v":1},{"$f":"IF(Y6=\"\",1,VALUE(AC5))","v":1},{"$f":"IF(Y7=\"\",1,VALUE(AD5))","v":1},{"$f":"IF(Y8=\"\",1,VALUE(AE5))","v":1},{"$f":"IF(Y9=\"\",1,VALUE(AF5))","v":1},{"$f":"IF(Y10=\"\",1,VALUE(AG5))","v":1},{"$f":"IF(Y11=\"\",1,VALUE(AH5))","v":1},{"$f":"IF(Y12=\"\",1,VALUE(AI5))","v":1},{"$f":"IF(Y13=\"\",1,VALUE(AJ5))","v":1},{"$f":"IF(Y14=\"\",1,VALUE(AK5))","v":1},{"$f":"IF(Y15=\"\",1,VALUE(AL5))","v":1},{"$f":"IF(Y16=\"\",1,VALUE(AM5))","v":1},{"$f":"IF(Y17=\"\",1,VALUE(AN5))","v":1},{"$f":"IF(Y18=\"\",1,VALUE(AO5))","v":1},{"$f":"IF(Y19=\"\",1,VALUE(AP5))","v":1},{"$f":"IF(Y20=\"\",1,VALUE(AQ5))","v":1},1]
[null,"でんき",null,null,"○","△","△",null,null,null,"×","○",null,null,null,null,"△",null,null,null,2,3,1,-3,{"$f":"IF(B28=B6,\"○\",IF(B30=B6,\"○\",\"\"))","v":""},{"$f":"IF(C6=\"○\",2,IF(C6=\"△\",0.5,IF(C6=\"×\",0,1)))","v":1},1,2,0.5,0.5,1,1,1,0,2,1,1,{"$f":"IF(O6=\"○\",2,IF(O6=\"△\",0.5,IF(O6=\"×\",0,1)))","v":1},1,0.5,1,1,1,{"$f":"IF(Y3=\"\",1,VALUE(Z6))","v":1},{"$f":"IF(Y4=\"\",1,VALUE(AA6))","v":1},{"$f":"IF(Y5=\"\",1,VALUE(AB6))","v":1},{"$f":"IF(Y6=\"\",1,VALUE(AC6))","v":1},{"$f":"IF(Y7=\"\",1,VALUE(AD6))","v":1},{"$f":"IF(Y8=\"\",1,VALUE(AE6))","v":1},{"$f":"IF(Y9=\"\",1,VALUE(AF6))","v":1},{"$f":"IF(Y10=\"\",1,VALUE(AG6))","v":1},{"$f":"IF(Y11=\"\",1,VALUE(AH6))","v":1},{"$f":"IF(Y12=\"\",1,VALUE(AI6))","v":2},{"$f":"IF(Y13=\"\",1,VALUE(AJ6))","v":1},{"$f":"IF(Y14=\"\",1,VALUE(AK6))","v":1},{"$f":"IF(Y15=\"\",1,VALUE(AL6))","v":1},{"$f":"IF(Y16=\"\",1,VALUE(AM6))","v":1},{"$f":"IF(Y17=\"\",1,VALUE(AN6))","v":1},{"$f":"IF(Y18=\"\",1,VALUE(AO6))","v":1},{"$f":"IF(Y19=\"\",1,VALUE(AP6))","v":1},{"$f":"IF(Y20=\"\",1,VALUE(AQ6))","v":1},2]
[null,"くさ",null,"△","○",null,"△",null,null,"△","○","△",null,"△","○",null,"△",null,"△",null,3,7,0,-4,{"$f":"IF(B28=B7,\"○\",IF(B30=B7,\"○\",\"\"))","v":""},{"$f":"IF(C7=\"○\",2,IF(C7=\"△\",0.5,IF(C7=\"×\",0,1)))","v":1},0.5,2,1,0.5,1,1,0.5,2,0.5,1,0.5,2,1,0.5,1,0.5,1,{"$f":"IF(Y3=\"\",1,VALUE(Z7))","v":1},{"$f":"IF(Y4=\"\",1,VALUE(AA7))","v":1},{"$f":"IF(Y5=\"\",1,VALUE(AB7))","v":1},{"$f":"IF(Y6=\"\",1,VALUE(AC7))","v":1},{"$f":"IF(Y7=\"\",1,VALUE(AD7))","v":1},{"$f":"IF(Y8=\"\",1,VALUE(AE7))","v":1},{"$f":"IF(Y9=\"\",1,VALUE(AF7))","v":1},{"$f":"IF(Y10=\"\",1,VALUE(AG7))","v":1},{"$f":"IF(Y11=\"\",1,VALUE(AH7))","v":1},{"$f":"IF(Y12=\"\",1,VALUE(AI7))","v":0.5},{"$f":"IF(Y13=\"\",1,VALUE(AJ7))","v":1},{"$f":"IF(Y14=\"\",1,VALUE(AK7))","v":1},{"$f":"IF(Y15=\"\",1,VALUE(AL7))","v":1},{"$f":"IF(Y16=\"\",1,VALUE(AM7))","v":1},{"$f":"IF(Y17=\"\",1,VALUE(AN7))","v":1},{"$f":"IF(Y18=\"\",1,VALUE(AO7))","v":1},{"$f":"IF(Y19=\"\",1,VALUE(AP7))","v":0.5},{"$f":"IF(Y20=\"\",1,VALUE(AQ7))","v":1},0.25]
[null,"こおり",null,"△","△",null,"○","△",null,null,"○","○",null,null,null,null,"○",null,"△",null,4,4,0,0,{"$f":"IF(B28=B8,\"○\",IF(B30=B8,\"○\",\"\"))","v":""},1,0.5,0.5,1,2,0.5,1,1,2,2,1,1,1,1,2,1,0.5,1,{"$f":"IF(Y3=\"\",1,VALUE(Z8))","v":1},{"$f":"IF(Y4=\"\",1,VALUE(AA8))","v":1},{"$f":"IF(Y5=\"\",1,VALUE(AB8))","v":1},{"$f":"IF(Y6=\"\",1,VALUE(AC8))","v":1},{"$f":"IF(Y7=\"\",1,VALUE(AD8))","v":1},{"$f":"IF(Y8=\"\",1,VALUE(AE8))","v":1},{"$f":"IF(Y9=\"\",1,VALUE(AF8))","v":1},{"$f":"IF(Y10=\"\",1,VALUE(AG8))","v":1},{"$f":"IF(Y11=\"\",1,VALUE(AH8))","v":1},{"$f":"IF(Y12=\"\",1,VALUE(AI8))","v":2},{"$f":"IF(Y13=\"\",1,VALUE(AJ8))","v":1},{"$f":"IF(Y14=\"\",1,VALUE(AK8))","v":1},{"$f":"IF(Y15=\"\",1,VALUE(AL8))","v":1},{"$f":"IF(Y16=\"\",1,VALUE(AM8))","v":1},{"$f":"IF(Y17=\"\",1,VALUE(AN8))","v":1},{"$f":"IF(Y18=\"\",1,VALUE(AO8))","v":1},{"$f":"IF(Y19=\"\",1,VALUE(AP8))","v":0.5},{"$f":"IF(Y20=\"\",1,VALUE(AQ8))","v":1},1]
[null,"かくとう","○",null,null,null,null,"○",null,"△",null,"△","△","△","○","×",null,"○","○","△",5,5,1,-2,{"$f":"IF(B28=B9,\"○\",IF(B30=B9,\"○\",\"\"))","v":""},2,1,1,1,1,2,1,0.5,1,0.5,0.5,0.5,2,0,1,2,2,0.5,{"$f":"IF(Y3=\"\",1,VALUE(Z9))","v":1},{"$f":"IF(Y4=\"\",1,VALUE(AA9))","v":1},{"$f":"IF(Y5=\"\",1,VALUE(AB9))","v":1},{"$f":"IF(Y6=\"\",1,VALUE(AC9))","v":1},{"$f":"IF(Y7=\"\",1,VALUE(AD9))","v":1},{"$f":"IF(Y8=\"\",1,VALUE(AE9))","v":1},{"$f":"IF(Y9=\"\",1,VALUE(AF9))","v":1},{"$f":"IF(Y10=\"\",1,VALUE(AG9))","v":1},{"$f":"IF(Y11=\"\",1,VALUE(AH9))","v":1},{"$f":"IF(Y12=\"\",1,VALUE(AI9))","v":0.5},{"$f":"IF(Y13=\"\",1,VALUE(AJ9))","v":1},{"$f":"IF(Y14=\"\",1,VALUE(AK9))","v":1},{"$f":"IF(Y15=\"\",1,VALUE(AL9))","v":1},{"$f":"IF(Y16=\"\",1,VALUE(AM9))","v":1},{"$f":"IF(Y17=\"\",1,VALUE(AN9))","v":1},{"$f":"IF(Y18=\"\",1,VALUE(AO9))","v":1},{"$f":"IF(Y19=\"\",1,VALUE(AP9))","v":2},{"$f":"IF(Y20=\"\",1,VALUE(AQ9))","v":1},1]
[null,"どく",null,null,null,null,"○",null,null,"△","△",null,null,null,"△","△",null,null,"×","○",2,4,1,-4,{"$f":"IF(B28=B10,\"○\",IF(B30=B10,\"○\",\"\"))","v":""},1,1,1,1,2,1,1,0.5,0.5,1,1,1,0.5,0.5,1,1,0,2,{"$f":"IF(Y3=\"\",1,VALUE(Z10))","v":1},{"$f":"IF(Y4=\"\",1,VALUE(AA10))","v":1},{"$f":"IF(Y5=\"\",1,VALUE(AB10))","v":1},{"$f":"IF(Y6=\"\",1,VALUE(AC10))","v":1},{"$f":"IF(Y7=\"\",1,VALUE(AD10))","v":1},{"$f":"IF(Y8=\"\",1,VALUE(AE10))","v":1},{"$f":"IF(Y9=\"\",1,VALUE(AF10))","v":1},{"$f":"IF(Y10=\"\",1,VALUE(AG10))","v":1},{"$f":"IF(Y11=\"\",1,VALUE(AH10))","v":1},{"$f":"IF(Y12=\"\",1,VALUE(AI10))","v":1},{"$f":"IF(Y13=\"\",1,VALUE(AJ10))","v":1},{"$f":"IF(Y14=\"\",1,VALUE(AK10))","v":1},{"$f":"IF(Y15=\"\",1,VALUE(AL10))","v":1},{"$f":"IF(Y16=\"\",1,VALUE(AM10))","v":1},{"$f":"IF(Y17=\"\",1,VALUE(AN10))","v":1},{"$f":"IF(Y18=\"\",1,VALUE(AO10))","v":1},{"$f":"IF(Y19=\"\",1,VALUE(AP10))","v":0},{"$f":"IF(Y20=\"\",1,VALUE(AQ10))","v":1},0]
[null,"じめん",null,"○",null,"○","△",null,null,"○",null,"×",null,"△","○",null,null,null,"○",null,5,2,1,1,{"$f":"IF(B28=B11,\"○\",IF(B30=B11,\"○\",\"\"))","v":""},1,2,1,2,0.5,1,1,2,1,0,1,0.5,2,1,1,1,2,1,{"$f":"IF(Y3=\"\",1,VALUE(Z11))","v":1},{"$f":"IF(Y4=\"\",1,VALUE(AA11))","v":1},{"$f":"IF(Y5=\"\",1,VALUE(AB11))","v":1},{"$f":"IF(Y6=\"\",1,VALUE(AC11))","v":1},{"$f":"IF(Y7=\"\",1,VALUE(AD11))","v":1},{"$f":"IF(Y8=\"\",1,VALUE(AE11))","v":1},{"$f":"IF(Y9=\"\",1,VALUE(AF11))","v":1},{"$f":"IF(Y10=\"\",1,VALUE(AG11))","v":1},{"$f":"IF(Y11=\"\",1,VALUE(AH11))","v":1},{"$f":"IF(Y12=\"\",1,VALUE(AI11))","v":0},{"$f":"IF(Y13=\"\",1,VALUE(AJ11))","v":1},{"$f":"IF(Y14=\"\",1,VALUE(AK11))","v":1},{"$f":"IF(Y15=\"\",1,VALUE(AL11))","v":1},{"$f":"IF(Y16=\"\",1,VALUE(AM11))","v":1},{"$f":"IF(Y17=\"\",1,VALUE(AN11))","v":1},{"$f":"IF(Y18=\"\",1,VALUE(AO11))","v":1},{"$f":"IF(Y19=\"\",1,VALUE(AP11))","v":2},{"$f":"IF(Y20=\"\",1,VALUE(AQ11))","v":1},0]
[null,"ひこう",null,null,null,"△","○",null,"○",null,null,null,null,"○","△",null,null,null,"△",null,3,3,0,0,{"$f":"IF(B28=B12,\"○\",IF(B30=B12,\"○\",\"\"))","v":"○"},1,1,1,0.5,2,1,2,1,1,1,1,2,0.5,1,1,1,0.5,1,{"$f":"IF(Y3=\"\",1,VALUE(Z12))","v":1},{"$f":"IF(Y4=\"\",1,VALUE(AA12))","v":1},{"$f":"IF(Y5=\"\",1,VALUE(AB12))","v":1},{"$f":"IF(Y6=\"\",1,VALUE(AC12))","v":1},{"$f":"IF(Y7=\"\",1,VALUE(AD12))","v":1},{"$f":"IF(Y8=\"\",1,VALUE(AE12))","v":1},{"$f":"IF(Y9=\"\",1,VALUE(AF12))","v":1},{"$f":"IF(Y10=\"\",1,VALUE(AG12))","v":1},{"$f":"IF(Y11=\"\",1,VALUE(AH12))","v":1},{"$f":"IF(Y12=\"\",1,VALUE(AI12))","v":1},{"$f":"IF(Y13=\"\",1,VALUE(AJ12))","v":1},{"$f":"IF(Y14=\"\",1,VALUE(AK12))","v":1},{"$f":"IF(Y15=\"\",1,VALUE(AL12))","v":1},{"$f":"IF(Y16=\"\",1,VALUE(AM12))","v":1},{"$f":"IF(Y17=\"\",1,VALUE(AN12))","v":1},{"$f":"IF(Y18=\"\",1,VALUE(AO12))","v":1},{"$f":"IF(Y19=\"\",1,VALUE(AP12))","v":0.5},{"$f":"IF(Y20=\"\",1,VALUE(AQ12))","v":1},0.5]
[null,"エスパー",null,null,null,null,null,null,"○","○",null,null,"△",null,null,null,null,"×","△",null,2,2,1,-2,{"$f":"IF(B28=B13,\"○\",IF(B30=B13,\"○\",\"\"))","v":""},1,1,1,1,1,1,2,2,1,1,0.5,1,1,1,1,0,0.5,1,{"$f":"IF(Y3=\"\",1,VALUE(Z13))","v":1},{"$f":"IF(Y4=\"\",1,VALUE(AA13))","v":1},{"$f":"IF(Y5=\"\",1,VALUE(AB13))","v":1},{"$f":"IF(Y6=\"\",1,VALUE(AC13))","v":1},{"$f":"IF(Y7=\"\",1,VALUE(AD13))","v":1},{"$f":"IF(Y8=\"\",1,VALUE(AE13))","v":1},{"$f":"IF(Y9=\"\",1,VALUE(AF13))","v":1},{"$f":"IF(Y10=\"\",1,VALUE(AG13))","v":1},{"$f":"IF(Y11=\"\",1,VALUE(AH13))","v":1},{"$f":"IF(Y12=\"\",1,VALUE(AI13))","v":1},{"$f":"IF(Y13=\"\",1,VALUE(AJ13))","v":1},{"$f":"IF(Y14=\"\",1,VALUE(AK13))","v":1},{"$f":"IF(Y15=\"\",1,VALUE(AL13))","v":1},{"$f":"IF(Y16=\"\",1,VALUE(AM13))","v":1},{"$f":"IF(Y17=\"\",1,VALUE(AN13))","v":1},{"$f":"IF(Y18=\"\",1,VALUE(AO13))","v":1},{"$f":"IF(Y19=\"\",1,VALUE(AP13))","v":0.5},{"$f":"IF(Y20=\"\",1,VALUE(AQ13))","v":1},0.5]
[null,"むし",null,"△",null,null,"○",null,"△","△",null,"△","○",null,null,"△",null,"○","△","△",3,7,0,-4,{"$f":"IF(B28=B14,\"○\",IF(B30=B14,\"○\",\"\"))","v":""},1,0.5,1,1,2,1,0.5,0.5,1,0.5,2,1,1,0.5,1,2,0.5,0.5,{"$f":"IF(Y3=\"\",1,VALUE(Z14))","v":1},{"$f":"IF(Y4=\"\",1,VALUE(AA14))","v":1},{"$f":"IF(Y5=\"\",1,VALUE(AB14))","v":1},{"$f":"IF(Y6=\"\",1,VALUE(AC14))","v":1},{"$f":"IF(Y7=\"\",1,VALUE(AD14))","v":1},{"$f":"IF(Y8=\"\",1,VALUE(AE14))","v":1},{"$f":"IF(Y9=\"\",1,VALUE(AF14))","v":1},{"$f":"IF(Y10=\"\",1,VALUE(AG14))","v":1},{"$f":"IF(Y11=\"\",1,VALUE(AH14))","v":1},{"$f":"IF(Y12=\"\",1,VALUE(AI14))","v":0.5},{"$f":"IF(Y13=\"\",1,VALUE(AJ14))","v":1},{"$f":"IF(Y14=\"\",1,VALUE(AK14))","v":1},{"$f":"IF(Y15=\"\",1,VALUE(AL14))","v":1},{"$f":"IF(Y16=\"\",1,VALUE(AM14))","v":1},{"$f":"IF(Y17=\"\",1,VALUE(AN14))","v":1},{"$f":"IF(Y18=\"\",1,VALUE(AO14))","v":1},{"$f":"IF(Y19=\"\",1,VALUE(AP14))","v":0.5},{"$f":"IF(Y20=\"\",1,VALUE(AQ14))","v":1},0.25]
[null,"いわ",null,"○",null,null,null,"○","△",null,"△","○",null,"○",null,null,null,null,"△",null,4,3,0,1,{"$f":"IF(B28=B15,\"○\",IF(B30=B15,\"○\",\"\"))","v":""},1,2,1,1,1,2,0.5,1,0.5,2,1,2,1,1,1,1,0.5,1,{"$f":"IF(Y3=\"\",1,VALUE(Z15))","v":1},{"$f":"IF(Y4=\"\",1,VALUE(AA15))","v":1},{"$f":"IF(Y5=\"\",1,VALUE(AB15))","v":1},{"$f":"IF(Y6=\"\",1,VALUE(AC15))","v":1},{"$f":"IF(Y7=\"\",1,VALUE(AD15))","v":1},{"$f":"IF(Y8=\"\",1,VALUE(AE15))","v":1},{"$f":"IF(Y9=\"\",1,VALUE(AF15))","v":1},{"$f":"IF(Y10=\"\",1,VALUE(AG15))","v":1},{"$f":"IF(Y11=\"\",1,VALUE(AH15))","v":1},{"$f":"IF(Y12=\"\",1,VALUE(AI15))","v":2},{"$f":"IF(Y13=\"\",1,VALUE(AJ15))","v":1},{"$f":"IF(Y14=\"\",1,VALUE(AK15))","v":1},{"$f":"IF(Y15=\"\",1,VALUE(AL15))","v":1},{"$f":"IF(Y16=\"\",1,VALUE(AM15))","v":1},{"$f":"IF(Y17=\"\",1,VALUE(AN15))","v":1},{"$f":"IF(Y18=\"\",1,VALUE(AO15))","v":1},{"$f":"IF(Y19=\"\",1,VALUE(AP15))","v":0.5},{"$f":"IF(Y20=\"\",1,VALUE(AQ15))","v":1},1]
[null,"ゴースト","×",null,null,null,null,null,null,null,null,null,"○",null,null,"○",null,"△",null,null,2,1,0,1,{"$f":"IF(B28=B16,\"○\",IF(B30=B16,\"○\",\"\"))","v":""},0,1,1,1,1,1,1,1,1,1,2,1,1,2,1,0.5,1,1,{"$f":"IF(Y3=\"\",1,VALUE(Z16))","v":1},{"$f":"IF(Y4=\"\",1,VALUE(AA16))","v":1},{"$f":"IF(Y5=\"\",1,VALUE(AB16))","v":1},{"$f":"IF(Y6=\"\",1,VALUE(AC16))","v":1},{"$f":"IF(Y7=\"\",1,VALUE(AD16))","v":1},{"$f":"IF(Y8=\"\",1,VALUE(AE16))","v":1},{"$f":"IF(Y9=\"\",1,VALUE(AF16))","v":1},{"$f":"IF(Y10=\"\",1,VALUE(AG16))","v":1},{"$f":"IF(Y11=\"\",1,VALUE(AH16))","v":1},{"$f":"IF(Y12=\"\",1,VALUE(AI16))","v":1},{"$f":"IF(Y13=\"\",1,VALUE(AJ16))","v":1},{"$f":"IF(Y14=\"\",1,VALUE(AK16))","v":1},{"$f":"IF(Y15=\"\",1,VALUE(AL16))","v":1},{"$f":"IF(Y16=\"\",1,VALUE(AM16))","v":1},{"$f":"IF(Y17=\"\",1,VALUE(AN16))","v":1},{"$f":"IF(Y18=\"\",1,VALUE(AO16))","v":1},{"$f":"IF(Y19=\"\",1,VALUE(AP16))","v":1},{"$f":"IF(Y20=\"\",1,VALUE(AQ16))","v":1},1]
[null,"ドラゴン",null,null,null,null,null,null,null,null,null,null,null,null,null,null,"○",null,"△","×",1,1,1,-2,{"$f":"IF(B28=B17,\"○\",IF(B30=B17,\"○\",\"\"))","v":""},1,1,1,1,1,1,1,1,1,1,1,1,1,1,2,1,0.5,0,{"$f":"IF(Y3=\"\",1,VALUE(Z17))","v":1},{"$f":"IF(Y4=\"\",1,VALUE(AA17))","v":1},{"$f":"IF(Y5=\"\",1,VALUE(AB17))","v":1},{"$f":"IF(Y6=\"\",1,VALUE(AC17))","v":1},{"$f":"IF(Y7=\"\",1,VALUE(AD17))","v":1},{"$f":"IF(Y8=\"\",1,VALUE(AE17))","v":1},{"$f":"IF(Y9=\"\",1,VALUE(AF17))","v":1},{"$f":"IF(Y10=\"\",1,VALUE(AG17))","v":1},{"$f":"IF(Y11=\"\",1,VALUE(AH17))","v":1},{"$f":"IF(Y12=\"\",1,VALUE(AI17))","v":1},{"$f":"IF(Y13=\"\",1,VALUE(AJ17))","v":1},{"$f":"IF(Y14=\"\",1,VALUE(AK17))","v":1},{"$f":"IF(Y15=\"\",1,VALUE(AL17))","v":1},{"$f":"IF(Y16=\"\",1,VALUE(AM17))","v":1},{"$f":"IF(Y17=\"\",1,VALUE(AN17))","v":1},{"$f":"IF(Y18=\"\",1,VALUE(AO17))","v":1},{"$f":"IF(Y19=\"\",1,VALUE(AP17))","v":0.5},{"$f":"IF(Y20=\"\",1,VALUE(AQ17))","v":1},0.5]
[null,"あく",null,null,null,null,null,null,"△",null,null,null,"○",null,null,"○",null,"△",null,"△",2,3,0,-1,{"$f":"IF(B28=B18,\"○\",IF(B30=B18,\"○\",\"\"))","v":""},1,1,1,{"$f":"IF(F18=\"○\",2,IF(F18=\"△\",0.5,IF(F18=\"×\",0,1)))","v":1},1,1,0.5,1,1,1,2,1,1,2,1,0.5,1,0.5,{"$f":"IF(Y3=\"\",1,VALUE(Z18))","v":1},{"$f":"IF(Y4=\"\",1,VALUE(AA18))","v":1},{"$f":"IF(Y5=\"\",1,VALUE(AB18))","v":1},{"$f":"IF(Y6=\"\",1,VALUE(AC18))","v":1},{"$f":"IF(Y7=\"\",1,VALUE(AD18))","v":1},{"$f":"IF(Y8=\"\",1,VALUE(AE18))","v":1},{"$f":"IF(Y9=\"\",1,VALUE(AF18))","v":1},{"$f":"IF(Y10=\"\",1,VALUE(AG18))","v":1},{"$f":"IF(Y11=\"\",1,VALUE(AH18))","v":1},{"$f":"IF(Y12=\"\",1,VALUE(AI18))","v":1},{"$f":"IF(Y13=\"\",1,VALUE(AJ18))","v":1},{"$f":"IF(Y14=\"\",1,VALUE(AK18))","v":1},{"$f":"IF(Y15=\"\",1,VALUE(AL18))","v":1},{"$f":"IF(Y16=\"\",1,VALUE(AM18))","v":1},{"$f":"IF(Y17=\"\",1,VALUE(AN18))","v":1},{"$f":"IF(Y18=\"\",1,VALUE(AO18))","v":1},{"$f":"IF(Y19=\"\",1,VALUE(AP18))","v":1},{"$f":"IF(Y20=\"\",1,VALUE(AQ18))","v":1},1]
[null,"はがね",null,"△","△","△",null,"○",null,null,null,null,null,null,"○",null,null,null,"△","○",3,4,0,-1,{"$f":"IF(B28=B19,\"○\",IF(B30=B19,\"○\",\"\"))","v":"○"},1,0.5,0.5,0.5,1,2,1,1,1,1,1,1,2,1,1,1,0.5,2,{"$f":"IF(Y3=\"\",1,VALUE(Z19))","v":1},{"$f":"IF(Y4=\"\",1,VALUE(AA19))","v":1},{"$f":"IF(Y5=\"\",1,VALUE(AB19))","v":1},{"$f":"IF(Y6=\"\",1,VALUE(AC19))","v":1},{"$f":"IF(Y7=\"\",1,VALUE(AD19))","v":1},{"$f":"IF(Y8=\"\",1,VALUE(AE19))","v":1},{"$f":"IF(Y9=\"\",1,VALUE(AF19))","v":1},{"$f":"IF(Y10=\"\",1,VALUE(AG19))","v":1},{"$f":"IF(Y11=\"\",1,VALUE(AH19))","v":1},{"$f":"IF(Y12=\"\",1,VALUE(AI19))","v":1},{"$f":"IF(Y13=\"\",1,VALUE(AJ19))","v":1},{"$f":"IF(Y14=\"\",1,VALUE(AK19))","v":1},{"$f":"IF(Y15=\"\",1,VALUE(AL19))","v":1},{"$f":"IF(Y16=\"\",1,VALUE(AM19))","v":1},{"$f":"IF(Y17=\"\",1,VALUE(AN19))","v":1},{"$f":"IF(Y18=\"\",1,VALUE(AO19))","v":1},{"$f":"IF(Y19=\"\",1,VALUE(AP19))","v":0.5},{"$f":"IF(Y20=\"\",1,VALUE(AQ19))","v":1},0.5]
[null,"フェアリー",null,"△",null,null,null,null,"○","△",null,null,null,null,null,null,"○","○","△",null,3,3,0,0,{"$f":"IF(B28=B20,\"○\",IF(B30=B20,\"○\",\"\"))","v":""},1,0.5,1,1,1,1,2,0.5,1,1,1,1,1,1,2,2,0.5,1,{"$f":"IF(Y3=\"\",1,VALUE(Z20))","v":1},{"$f":"IF(Y4=\"\",1,VALUE(AA20))","v":1},{"$f":"IF(Y5=\"\",1,VALUE(AB20))","v":1},{"$f":"IF(Y6=\"\",1,VALUE(AC20))","v":1},{"$f":"IF(Y7=\"\",1,VALUE(AD20))","v":1},{"$f":"IF(Y8=\"\",1,VALUE(AE20))","v":1},{"$f":"IF(Y9=\"\",1,VALUE(AF20))","v":1},{"$f":"IF(Y10=\"\",1,VALUE(AG20))","v":1},{"$f":"IF(Y11=\"\",1,VALUE(AH20))","v":1},{"$f":"IF(Y12=\"\",1,VALUE(AI20))","v":1},{"$f":"IF(Y13=\"\",1,VALUE(AJ20))","v":1},{"$f":"IF(Y14=\"\",1,VALUE(AK20))","v":1},{"$f":"IF(Y15=\"\",1,VALUE(AL20))","v":1},{"$f":"IF(Y16=\"\",1,VALUE(AM20))","v":1},{"$f":"IF(Y17=\"\",1,VALUE(AN20))","v":1},{"$f":"IF(Y18=\"\",1,VALUE(AO20))","v":1},{"$f":"IF(Y19=\"\",1,VALUE(AP20))","v":0.5},{"$f":"IF(Y20=\"\",1,VALUE(AQ20))","v":1},0.5]
[null,"ばつぐん",{"$f":"COUNTIF(C3:C20,\"○\")","v":1},{"$f":"COUNTIF(D3:D20,\"○\")","v":3},{"$f":"COUNTIF(E3:E20,\"○\")","v":2},1,5,4,3,2,3,3,3,3,5,2,3,3,3,2]
[null,"いまいち",{"$f":"COUNTIF(C3:C20,\"△\")","v":0},{"$f":"COUNTIF(D3:D20,\"△\")","v":6},4,3,4,1,3,5,2,3,2,3,4,2,4,2,10,3]
[null,"こうかがない",{"$f":"COUNTIF(C3:C20,\"×\")","v":1},{"$f":"COUNTIF(D3:D20,\"×\")","v":0},0,0,0,0,0,0,1,1,0,0,0,2,0,1,1,1]
[null,null,{"$f":"2*C23+C22-C21","v":1},{"$f":"2*D23+D22-D21","v":3},2,2,-1,-3,0,3,1,2,-1,0,-1,4,1,1,9,3]
[]
[]
[null,"タイプ１","普","炎","水","電","草","氷","格","毒","地","飛","超","虫","岩","幽","竜","悪","鋼","妖"," フライングプレス"]
[null,"ひこう",{"$f":"IF(BJ3=0,\"×\",IF(BJ3=0.25,\"▲\",IF(BJ3=0.5,\"△\",IF(BJ3=1,\"\",IF(BJ3=2,\"○\",IF(BJ3=4,\"◎\",))))))","v":"△"},{"$f":"IF(BJ4=0,\"×\",IF(BJ4=0.25,\"▲\",IF(BJ4=0.5,\"△\",IF(BJ4=1,\"\",IF(BJ4=2,\"○\",IF(BJ4=4,\"◎\",))))))","v":"○"},{"$f":"IF(BJ5=0,\"×\",IF(BJ5=0.25,\"▲\",IF(BJ5=0.5,\"△\",IF(BJ5=1,\"\",IF(BJ5=2,\"○\",IF(BJ5=4,\"◎\",))))))","v":""},{"$f":"IF(BJ6=0,\"×\",IF(BJ6=0.25,\"▲\",IF(BJ6=0.5,\"△\",IF(BJ6=1,\"\",IF(BJ6=2,\"○\",IF(BJ6=4,\"◎\",))))))","v":"○"},{"$f":"IF(BJ7=0,\"×\",IF(BJ7=0.25,\"▲\",IF(BJ7=0.5,\"△\",IF(BJ7=1,\"\",IF(BJ7=2,\"○\",IF(BJ7=4,\"◎\",))))))","v":"▲"},{"$f":"IF(BJ8=0,\"×\",IF(BJ8=0.25,\"▲\",IF(BJ8=0.5,\"△\",IF(BJ8=1,\"\",IF(BJ8=2,\"○\",IF(BJ8=4,\"◎\",))))))","v":""},{"$f":"IF(BJ9=0,\"×\",IF(BJ9=0.25,\"▲\",IF(BJ9=0.5,\"△\",IF(BJ9=1,\"\",IF(BJ9=2,\"○\",IF(BJ9=4,\"◎\",))))))","v":""},{"$f":"IF(BJ10=0,\"×\",IF(BJ10=0.25,\"▲\",IF(BJ10=0.5,\"△\",IF(BJ10=1,\"\",IF(BJ10=2,\"○\",IF(BJ10=4,\"◎\",))))))","v":"×"},{"$f":"IF(BJ11=0,\"×\",IF(BJ11=0.25,\"▲\",IF(BJ11=0.5,\"△\",IF(BJ11=1,\"\",IF(BJ11=2,\"○\",IF(BJ11=4,\"◎\",))))))","v":"×"},{"$f":"IF(BJ12=0,\"×\",IF(BJ12=0.25,\"▲\",IF(BJ12=0.5,\"△\",IF(BJ12=1,\"\",IF(BJ12=2,\"○\",IF(BJ12=4,\"◎\",))))))","v":"△"},{"$f":"IF(BJ13=0,\"×\",IF(BJ13=0.25,\"▲\",IF(BJ13=0.5,\"△\",IF(BJ13=1,\"\",IF(BJ13=2,\"○\",IF(BJ13=4,\"◎\",))))))","v":"△"},{"$f":"IF(BJ14=0,\"×\",IF(BJ14=0.25,\"▲\",IF(BJ14=0.5,\"△\",IF(BJ14=1,\"\",IF(BJ14=2,\"○\",IF(BJ14=4,\"◎\",))))))","v":"▲"},{"$f":"IF(BJ15=0,\"×\",IF(BJ15=0.25,\"▲\",IF(BJ15=0.5,\"△\",IF(BJ15=1,\"\",IF(BJ15=2,\"○\",IF(BJ15=4,\"◎\",))))))","v":""},{"$f":"IF(BJ16=0,\"×\",IF(BJ16=0.25,\"▲\",IF(BJ16=0.5,\"△\",IF(BJ16=1,\"\",IF(BJ16=2,\"○\",IF(BJ16=4,\"◎\",))))))","v":""},{"$f":"IF(BJ17=0,\"×\",IF(BJ17=0.25,\"▲\",IF(BJ17=0.5,\"△\",IF(BJ17=1,\"\",IF(BJ17=2,\"○\",IF(BJ17=4,\"◎\",))))))","v":"△"},{"$f":"IF(BJ18=0,\"×\",IF(BJ18=0.25,\"▲\",IF(BJ18=0.5,\"△\",IF(BJ18=1,\"\",IF(BJ18=2,\"○\",IF(BJ18=4,\"◎\",))))))","v":""},{"$f":"IF(BJ19=0,\"×\",IF(BJ19=0.25,\"▲\",IF(BJ19=0.5,\"△\",IF(BJ19=1,\"\",IF(BJ19=2,\"○\",IF(BJ19=4,\"◎\",))))))","v":"△"},{"$f":"IF(BJ20=0,\"×\",IF(BJ20=0.25,\"▲\",IF(BJ20=0.5,\"△\",IF(BJ20=1,\"\",IF(BJ20=2,\"○\",IF(BJ20=4,\"◎\",))))))","v":"△"},{"$f":"フライングプレス!O7","v":"△"}]
[null,"タイプ2","◎……4倍",null,null,"△……0.5倍",null,null,null,"×……無効"]
[null,"はがね","○……2倍",null,null,"▲……0.25倍",null,null,null,"無印……等倍"]

{"sheet":"TypeData","index":4,"n_rows":37,"n_cols":62,"rows_kept":37,"cut":false,"hidden":true,"merged":[[1,43,1,60],[27,20,27,23],[34,1,34,3],[34,4,34,7],[35,1,35,3],[35,4,35,7],[35,8,35,11],[35,12,35,14],[1,25,1,42]]}
[]
[null,"　　　　受け\n攻め","普","炎","水","電","草","氷","格","毒","地","飛","超","虫","岩","幽","竜","悪","鋼","妖","○","△","×"]
[null,"ノーマル",null,null,null,null,null,null,null,null,null,null,null,null,"△","×",null,null,"△",null,{"$f":"COUNTIF(C3:T3,\"○\")","v":0},{"$f":"COUNTIF(D3:U3,\"△\")","v":2},{"$f":"COUNTIF(E3:V3,\"×\")","v":1},{"$f":"U3-V3-2*W3","v":-4},{"$f":"IF(B28=B3,\"○\",IF(B30=B3,\"○\",\"\"))","v":""},{"$f":"IF(C3=\"○\",2,IF(C3=\"△\",0.5,IF(C3=\"×\",0,1)))","v":1},1,1,1,1,1,1,1,1,1,1,1,0.5,0,1,1,{"$f":"IF(S3=\"○\",2,IF(S3=\"△\",0.5,IF(S3=\"×\",0,1)))","v":0.5},1,{"$f":"IF(Y3=\"\",1,VALUE(Z3))","v":1},{"$f":"IF(Y4=\"\",1,VALUE(AA3))","v":1},{"$f":"IF(Y5=\"\",1,VALUE(AB3))","v":1},{"$f":"IF(Y6=\"\",1,VALUE(AC3))","v":1},{"$f":"IF(Y7=\"\",1,VALUE(AD3))","v":1},{"$f":"IF(Y8=\"\",1,VALUE(AE3))","v":1},{"$f":"IF(Y9=\"\",1,VALUE(AF3))","v":1},{"$f":"IF(Y10=\"\",1,VALUE(AG3))","v":1},{"$f":"IF(Y11=\"\",1,VALUE(AH3))","v":1},{"$f":"IF(Y12=\"\",1,VALUE(AI3))","v":1},{"$f":"IF(Y13=\"\",1,VALUE(AJ3))","v":1},{"$f":"IF(Y14=\"\",1,VALUE(AK3))","v":1},{"$f":"IF(Y15=\"\",1,VALUE(AL3))","v":1},{"$f":"IF(Y16=\"\",1,VALUE(AM3))","v":1},{"$f":"IF(Y17=\"\",1,VALUE(AN3))","v":1},{"$f":"IF(Y18=\"\",1,VALUE(AO3))","v":1},{"$f":"IF(Y19=\"\",1,VALUE(AP3))","v":0.5},{"$f":"IF(Y20=\"\",1,VALUE(AQ3))","v":1},{"$f":"PRODUCT(AR3:BI3)","v":0.5}]
[null,"ほのお",null,"△","△",null,"○","○",null,null,null,null,null,"○","△",null,"△",null,"○",null,{"$f":"COUNTIF(C4:T4,\"○\")","v":4},{"$f":"COUNTIF(D4:U4,\"△\")","v":4},{"$f":"COUNTIF(E4:V4,\"×\")","v":0},{"$f":"U4-V4-2*W4","v":0},{"$f":"IF(B28=B4,\"○\",IF(B30=B4,\"○\",\"\"))","v":""},{"$f":"IF(C4=\"○\",2,IF(C4=\"△\",0.5,IF(C4=\"×\",0,1)))","v":1},0.5,0.5,1,2,2,1,1,1,1,1,2,{"$f":"IF(O4=\"○\",2,IF(O4=\"△\",0.5,IF(O4=\"×\",0,1)))","v":0.5},1,0.5,1,2,1,{"$f":"IF(Y3=\"\",1,VALUE(Z4))","v":1},{"$f":"IF(Y4=\"\",1,VALUE(AA4))","v":1},{"$f":"IF(Y5=\"\",1,VALUE(AB4))","v":1},{"$f":"IF(Y6=\"\",1,VALUE(AC4))","v":1},{"$f":"IF(Y7=\"\",1,VALUE(AD4))","v":1},{"$f":"IF(Y8=\"\",1,VALUE(AE4))","v":1},{"$f":"IF(Y9=\"\",1,VALUE(AF4))","v":1},{"$f":"IF(Y10=\"\",1,VALUE(AG4))","v":1},{"$f":"IF(Y11=\"\",1,VALUE(AH4))","v":1},{"$f":"IF(Y12=\"\",1,VALUE(AI4))","v":1},{"$f":"IF(Y13=\"\",1,VALUE(AJ4))","v":1},{"$f":"IF(Y14=\"\",1,VALUE(AK4))","v":1},{"$f":"IF(Y15=\"\",1,VALUE(AL4))","v":1},{"$f":"IF(Y16=\"\",1,VALUE(AM4))","v":1},{"$f":"IF(Y17=\"\",1,VALUE(AN4))","v":0.5},{"$f":"IF(Y18=\"\",1,VALUE(AO4))","v":1},{"$f":"IF(Y19=\"\",1,VALUE(AP4))","v":2},{"$f":"IF(Y20=\"\",1,VALUE(AQ4))","v":1},{"$f":"PRODUCT(AR4:BI4)","v":1}]
[null,"みず",null,"○","△",null,"△",null,null,null,"○",null,null,null,"○",null,"△",null,null,null,{"$f":"COUNTIF(C5:T5,\"○\")","v":3},3,0,{"$f":"U5-V5-2*W5","v":0},{"$f":"IF(B28=B5,\"○\",IF(B30=B5,\"○\",\"\"))","v":""},{"$f":"IF(C5=\"○\",2,IF(C5=\"△\",0.5,IF(C5=\"×\",0,1)))","v":1},2,0.5,1,0.5,1,1,1,2,1,1,1,{"$f":"IF(O5=\"○\",2,IF(O5=\"△\",0.5,IF(O5=\"×\",0,1)))","v":2},1,0.5,1,1,1,{"$f":"IF(Y3=\"\",1,VALUE(Z5))","v":1},{"$f":"IF(Y4=\"\",1,VALUE(AA5))","v":1},{"$f":"IF(Y5=\"\",1,VALUE(AB5))","v":1},{"$f":"IF(Y6=\"\",1,VALUE(AC5))","v":1},{"$f":"IF(Y7=\"\",1,VALUE(AD5))","v":1},{"$f":"IF(Y8=\"\",1,VALUE(AE5))","v":1},{"$f":"IF(Y9=\"\",1,VALUE(AF5))","v":1},{"$f":"IF(Y10=\"\",1,VALUE(AG5))","v":1},{"$f":"IF(Y11=\"\",1,VALUE(AH5))","v":1},{"$f":"IF(Y12=\"\",1,VALUE(AI5))","v":1},{"$f":"IF(Y13=\"\",1,VALUE(AJ5))","v":1},{"$f":"IF(Y14=\"\",1,VALUE(AK5))","v":1},{"$f":"IF(Y15=\"\",1,VALUE(AL5))","v":1},{"$f":"IF(Y16=\"\",1,VALUE(AM5))","v":1},{"$f":"IF(Y17=\"\",1,VALUE(AN5))","v":0.5},{"$f":"IF(Y18=\"\",1,VALUE(AO5))","v":1},{"$f":"IF(Y19=\"\",1,VALUE(AP5))","v":1},{"$f":"IF(Y20=\"\",1,VALUE(AQ5))","v":1},0.5]
[null,"でんき",null,null,"○","△","△",null,null,null,"×","○",null,null,null,null,"△",null,null,null,2,3,1,-3,{"$f":"IF(B28=B6,\"○\",IF(B30=B6,\"○\",\"\"))","v":""},{"$f":"IF(C6=\"○\",2,IF(C6=\"△\",0.5,IF(C6=\"×\",0,1)))","v":1},1,2,0.5,0.5,1,1,1,0,2,1,1,{"$f":"IF(O6=\"○\",2,IF(O6=\"△\",0.5,IF(O6=\"×\",0,1)))","v":1},1,0.5,1,1,1,{"$f":"IF(Y3=\"\",1,VALUE(Z6))","v":1},{"$f":"IF(Y4=\"\",1,VALUE(AA6))","v":1},{"$f":"IF(Y5=\"\",1,VALUE(AB6))","v":1},{"$f":"IF(Y6=\"\",1,VALUE(AC6))","v":1},{"$f":"IF(Y7=\"\",1,VALUE(AD6))","v":1},{"$f":"IF(Y8=\"\",1,VALUE(AE6))","v":1},{"$f":"IF(Y9=\"\",1,VALUE(AF6))","v":1},{"$f":"IF(Y10=\"\",1,VALUE(AG6))","v":1},{"$f":"IF(Y11=\"\",1,VALUE(AH6))","v":1},{"$f":"IF(Y12=\"\",1,VALUE(AI6))","v":1},{"$f":"IF(Y13=\"\",1,VALUE(AJ6))","v":1},{"$f":"IF(Y14=\"\",1,VALUE(AK6))","v":1},{"$f":"IF(Y15=\"\",1,VALUE(AL6))","v":1},{"$f":"IF(Y16=\"\",1,VALUE(AM6))","v":1},{"$f":"IF(Y17=\"\",1,VALUE(AN6))","v":0.5},{"$f":"IF(Y18=\"\",1,VALUE(AO6))","v":1},{"$f":"IF(Y19=\"\",1,VALUE(AP6))","v":1},{"$f":"IF(Y20=\"\",1,VALUE(AQ6))","v":1},0.5]
[null,"くさ",null,"△","○",null,"△",null,null,"△","○","△",null,"△","○",null,"△",null,"△",null,3,7,0,-4,{"$f":"IF(B28=B7,\"○\",IF(B30=B7,\"○\",\"\"))","v":""},{"$f":"IF(C7=\"○\",2,IF(C7=\"△\",0.5,IF(C7=\"×\",0,1)))","v":1},0.5,2,1,0.5,1,1,0.5,2,0.5,1,0.5,2,1,0.5,1,0.5,1,{"$f":"IF(Y3=\"\",1,VALUE(Z7))","v":1},{"$f":"IF(Y4=\"\",1,VALUE(AA7))","v":1},{"$f":"IF(Y5=\"\",1,VALUE(AB7))","v":1},{"$f":"IF(Y6=\"\",1,VALUE(AC7))","v":1},{"$f":"IF(Y7=\"\",1,VALUE(AD7))","v":1},{"$f":"IF(Y8=\"\",1,VALUE(AE7))","v":1},{"$f":"IF(Y9=\"\",1,VALUE(AF7))","v":1},{"$f":"IF(Y10=\"\",1,VALUE(AG7))","v":1},{"$f":"IF(Y11=\"\",1,VALUE(AH7))","v":1},{"$f":"IF(Y12=\"\",1,VALUE(AI7))","v":1},{"$f":"IF(Y13=\"\",1,VALUE(AJ7))","v":1},{"$f":"IF(Y14=\"\",1,VALUE(AK7))","v":1},{"$f":"IF(Y15=\"\",1,VALUE(AL7))","v":1},{"$f":"IF(Y16=\"\",1,VALUE(AM7))","v":1},{"$f":"IF(Y17=\"\",1,VALUE(AN7))","v":0.5},{"$f":"IF(Y18=\"\",1,VALUE(AO7))","v":1},{"$f":"IF(Y19=\"\",1,VALUE(AP7))","v":0.5},{"$f":"IF(Y20=\"\",1,VALUE(AQ7))","v":1},0.25]
[null,"こおり",null,"△","△",null,"○","△",null,null,"○","○",null,null,null,null,"○",null,"△",null,4,4,0,0,{"$f":"IF(B28=B8,\"○\",IF(B30=B8,\"○\",\"\"))","v":""},1,0.5,0.5,1,2,0.5,1,1,2,2,1,1,1,1,2,1,0.5,1,{"$f":"IF(Y3=\"\",1,VALUE(Z8))","v":1},{"$f":"IF(Y4=\"\",1,VALUE(AA8))","v":1},{"$f":"IF(Y5=\"\",1,VALUE(AB8))","v":1},{"$f":"IF(Y6=\"\",1,VALUE(AC8))","v":1},{"$f":"IF(Y7=\"\",1,VALUE(AD8))","v":1},{"$f":"IF(Y8=\"\",1,VALUE(AE8))","v":1},{"$f":"IF(Y9=\"\",1,VALUE(AF8))","v":1},{"$f":"IF(Y10=\"\",1,VALUE(AG8))","v":1},{"$f":"IF(Y11=\"\",1,VALUE(AH8))","v":1},{"$f":"IF(Y12=\"\",1,VALUE(AI8))","v":1},{"$f":"IF(Y13=\"\",1,VALUE(AJ8))","v":1},{"$f":"IF(Y14=\"\",1,VALUE(AK8))","v":1},{"$f":"IF(Y15=\"\",1,VALUE(AL8))","v":1},{"$f":"IF(Y16=\"\",1,VALUE(AM8))","v":1},{"$f":"IF(Y17=\"\",1,VALUE(AN8))","v":2},{"$f":"IF(Y18=\"\",1,VALUE(AO8))","v":1},{"$f":"IF(Y19=\"\",1,VALUE(AP8))","v":0.5},{"$f":"IF(Y20=\"\",1,VALUE(AQ8))","v":1},1]
[null,"かくとう","○",null,null,null,null,"○",null,"△",null,"△","△","△","○","×",null,"○","○","△",5,5,1,-2,{"$f":"IF(B28=B9,\"○\",IF(B30=B9,\"○\",\"\"))","v":""},2,1,1,1,1,2,1,0.5,1,0.5,0.5,0.5,2,0,1,2,2,0.5,{"$f":"IF(Y3=\"\",1,VALUE(Z9))","v":1},{"$f":"IF(Y4=\"\",1,VALUE(AA9))","v":1},{"$f":"IF(Y5=\"\",1,VALUE(AB9))","v":1},{"$f":"IF(Y6=\"\",1,VALUE(AC9))","v":1},{"$f":"IF(Y7=\"\",1,VALUE(AD9))","v":1},{"$f":"IF(Y8=\"\",1,VALUE(AE9))","v":1},{"$f":"IF(Y9=\"\",1,VALUE(AF9))","v":1},{"$f":"IF(Y10=\"\",1,VALUE(AG9))","v":1},{"$f":"IF(Y11=\"\",1,VALUE(AH9))","v":1},{"$f":"IF(Y12=\"\",1,VALUE(AI9))","v":1},{"$f":"IF(Y13=\"\",1,VALUE(AJ9))","v":1},{"$f":"IF(Y14=\"\",1,VALUE(AK9))","v":1},{"$f":"IF(Y15=\"\",1,VALUE(AL9))","v":1},{"$f":"IF(Y16=\"\",1,VALUE(AM9))","v":1},{"$f":"IF(Y17=\"\",1,VALUE(AN9))","v":1},{"$f":"IF(Y18=\"\",1,VALUE(AO9))","v":1},{"$f":"IF(Y19=\"\",1,VALUE(AP9))","v":2},{"$f":"IF(Y20=\"\",1,VALUE(AQ9))","v":1},2]
[null,"どく",null,null,null,null,"○",null,null,"△","△",null,null,null,"△","△",null,null,"×","○",2,4,1,-4,{"$f":"IF(B28=B10,\"○\",IF(B30=B10,\"○\",\"\"))","v":""},1,1,1,1,2,1,1,0.5,0.5,1,1,1,0.5,0.5,1,1,0,2,{"$f":"IF(Y3=\"\",1,VALUE(Z10))","v":1},{"$f":"IF(Y4=\"\",1,VALUE(AA10))","v":1},{"$f":"IF(Y5=\"\",1,VALUE(AB10))","v":1},{"$f":"IF(Y6=\"\",1,VALUE(AC10))","v":1},{"$f":"IF(Y7=\"\",1,VALUE(AD10))","v":1},{"$f":"IF(Y8=\"\",1,VALUE(AE10))","v":1},{"$f":"IF(Y9=\"\",1,VALUE(AF10))","v":1},{"$f":"IF(Y10=\"\",1,VALUE(AG10))","v":1},{"$f":"IF(Y11=\"\",1,VALUE(AH10))","v":1},{"$f":"IF(Y12=\"\",1,VALUE(AI10))","v":1},{"$f":"IF(Y13=\"\",1,VALUE(AJ10))","v":1},{"$f":"IF(Y14=\"\",1,VALUE(AK10))","v":1},{"$f":"IF(Y15=\"\",1,VALUE(AL10))","v":1},{"$f":"IF(Y16=\"\",1,VALUE(AM10))","v":1},{"$f":"IF(Y17=\"\",1,VALUE(AN10))","v":1},{"$f":"IF(Y18=\"\",1,VALUE(AO10))","v":1},{"$f":"IF(Y19=\"\",1,VALUE(AP10))","v":0},{"$f":"IF(Y20=\"\",1,VALUE(AQ10))","v":1},0]
[null,"じめん",null,"○",null,"○","△",null,null,"○",null,"×",null,"△","○",null,null,null,"○",null,5,2,1,1,{"$f":"IF(B28=B11,\"○\",IF(B30=B11,\"○\",\"\"))","v":""},1,2,1,2,0.5,1,1,2,1,0,1,0.5,2,1,1,1,2,1,{"$f":"IF(Y3=\"\",1,VALUE(Z11))","v":1},{"$f":"IF(Y4=\"\",1,VALUE(AA11))","v":1},{"$f":"IF(Y5=\"\",1,VALUE(AB11))","v":1},{"$f":"IF(Y6=\"\",1,VALUE(AC11))","v":1},{"$f":"IF(Y7=\"\",1,VALUE(AD11))","v":1},{"$f":"IF(Y8=\"\",1,VALUE(AE11))","v":1},{"$f":"IF(Y9=\"\",1,VALUE(AF11))","v":1},{"$f":"IF(Y10=\"\",1,VALUE(AG11))","v":1},{"$f":"IF(Y11=\"\",1,VALUE(AH11))","v":1},{"$f":"IF(Y12=\"\",1,VALUE(AI11))","v":1},{"$f":"IF(Y13=\"\",1,VALUE(AJ11))","v":1},{"$f":"IF(Y14=\"\",1,VALUE(AK11))","v":1},{"$f":"IF(Y15=\"\",1,VALUE(AL11))","v":1},{"$f":"IF(Y16=\"\",1,VALUE(AM11))","v":1},{"$f":"IF(Y17=\"\",1,VALUE(AN11))","v":1},{"$f":"IF(Y18=\"\",1,VALUE(AO11))","v":1},{"$f":"IF(Y19=\"\",1,VALUE(AP11))","v":2},{"$f":"IF(Y20=\"\",1,VALUE(AQ11))","v":1},2]
[null,"ひこう",null,null,null,"△","○",null,"○",null,null,null,null,"○","△",null,null,null,"△",null,3,3,0,0,{"$f":"IF(B28=B12,\"○\",IF(B30=B12,\"○\",\"\"))","v":""},1,1,1,0.5,2,1,2,1,1,1,1,2,0.5,1,1,1,0.5,1,{"$f":"IF(Y3=\"\",1,VALUE(Z12))","v":1},{"$f":"IF(Y4=\"\",1,VALUE(AA12))","v":1},{"$f":"IF(Y5=\"\",1,VALUE(AB12))","v":1},{"$f":"IF(Y6=\"\",1,VALUE(AC12))","v":1},{"$f":"IF(Y7=\"\",1,VALUE(AD12))","v":1},{"$f":"IF(Y8=\"\",1,VALUE(AE12))","v":1},{"$f":"IF(Y9=\"\",1,VALUE(AF12))","v":1},{"$f":"IF(Y10=\"\",1,VALUE(AG12))","v":1},{"$f":"IF(Y11=\"\",1,VALUE(AH12))","v":1},{"$f":"IF(Y12=\"\",1,VALUE(AI12))","v":1},{"$f":"IF(Y13=\"\",1,VALUE(AJ12))","v":1},{"$f":"IF(Y14=\"\",1,VALUE(AK12))","v":1},{"$f":"IF(Y15=\"\",1,VALUE(AL12))","v":1},{"$f":"IF(Y16=\"\",1,VALUE(AM12))","v":1},{"$f":"IF(Y17=\"\",1,VALUE(AN12))","v":1},{"$f":"IF(Y18=\"\",1,VALUE(AO12))","v":1},{"$f":"IF(Y19=\"\",1,VALUE(AP12))","v":0.5},{"$f":"IF(Y20=\"\",1,VALUE(AQ12))","v":1},0.5]
[null,"エスパー",null,null,null,null,null,null,"○","○",null,null,"△",null,null,null,null,"×","△",null,2,2,1,-2,{"$f":"IF(B28=B13,\"○\",IF(B30=B13,\"○\",\"\"))","v":""},1,1,1,1,1,1,2,2,1,1,0.5,1,1,1,1,0,0.5,1,{"$f":"IF(Y3=\"\",1,VALUE(Z13))","v":1},{"$f":"IF(Y4=\"\",1,VALUE(AA13))","v":1},{"$f":"IF(Y5=\"\",1,VALUE(AB13))","v":1},{"$f":"IF(Y6=\"\",1,VALUE(AC13))","v":1},{"$f":"IF(Y7=\"\",1,VALUE(AD13))","v":1},{"$f":"IF(Y8=\"\",1,VALUE(AE13))","v":1},{"$f":"IF(Y9=\"\",1,VALUE(AF13))","v":1},{"$f":"IF(Y10=\"\",1,VALUE(AG13))","v":1},{"$f":"IF(Y11=\"\",1,VALUE(AH13))","v":1},{"$f":"IF(Y12=\"\",1,VALUE(AI13))","v":1},{"$f":"IF(Y13=\"\",1,VALUE(AJ13))","v":1},{"$f":"IF(Y14=\"\",1,VALUE(AK13))","v":1},{"$f":"IF(Y15=\"\",1,VALUE(AL13))","v":1},{"$f":"IF(Y16=\"\",1,VALUE(AM13))","v":1},{"$f":"IF(Y17=\"\",1,VALUE(AN13))","v":1},{"$f":"IF(Y18=\"\",1,VALUE(AO13))","v":1},{"$f":"IF(Y19=\"\",1,VALUE(AP13))","v":0.5},{"$f":"IF(Y20=\"\",1,VALUE(AQ13))","v":1},0.5]
[null,"むし",null,"△",null,null,"○",null,"△","△",null,"△","○",null,null,"△",null,"○","△","△",3,7,0,-4,{"$f":"IF(B28=B14,\"○\",IF(B30=B14,\"○\",\"\"))","v":""},1,0.5,1,1,2,1,0.5,0.5,1,0.5,2,1,1,0.5,1,2,0.5,0.5,{"$f":"IF(Y3=\"\",1,VALUE(Z14))","v":1},{"$f":"IF(Y4=\"\",1,VALUE(AA14))","v":1},{"$f":"IF(Y5=\"\",1,VALUE(AB14))","v":1},{"$f":"IF(Y6=\"\",1,VALUE(AC14))","v":1},{"$f":"IF(Y7=\"\",1,VALUE(AD14))","v":1},{"$f":"IF(Y8=\"\",1,VALUE(AE14))","v":1},{"$f":"IF(Y9=\"\",1,VALUE(AF14))","v":1},{"$f":"IF(Y10=\"\",1,VALUE(AG14))","v":1},{"$f":"IF(Y11=\"\",1,VALUE(AH14))","v":1},{"$f":"IF(Y12=\"\",1,VALUE(AI14))","v":1},{"$f":"IF(Y13=\"\",1,VALUE(AJ14))","v":1},{"$f":"IF(Y14=\"\",1,VALUE(AK14))","v":1},{"$f":"IF(Y15=\"\",1,VALUE(AL14))","v":1},{"$f":"IF(Y16=\"\",1,VALUE(AM14))","v":1},{"$f":"IF(Y17=\"\",1,VALUE(AN14))","v":1},{"$f":"IF(Y18=\"\",1,VALUE(AO14))","v":1},{"$f":"IF(Y19=\"\",1,VALUE(AP14))","v":0.5},{"$f":"IF(Y20=\"\",1,VALUE(AQ14))","v":1},0.5]
[null,"いわ",null,"○",null,null,null,"○","△",null,"△","○",null,"○",null,null,null,null,"△",null,4,3,0,1,{"$f":"IF(B28=B15,\"○\",IF(B30=B15,\"○\",\"\"))","v":""},1,2,1,1,1,2,0.5,1,0.5,2,1,2,1,1,1,1,0.5,1,{"$f":"IF(Y3=\"\",1,VALUE(Z15))","v":1},{"$f":"IF(Y4=\"\",1,VALUE(AA15))","v":1},{"$f":"IF(Y5=\"\",1,VALUE(AB15))","v":1},{"$f":"IF(Y6=\"\",1,VALUE(AC15))","v":1},{"$f":"IF(Y7=\"\",1,VALUE(AD15))","v":1},{"$f":"IF(Y8=\"\",1,VALUE(AE15))","v":1},{"$f":"IF(Y9=\"\",1,VALUE(AF15))","v":1},{"$f":"IF(Y10=\"\",1,VALUE(AG15))","v":1},{"$f":"IF(Y11=\"\",1,VALUE(AH15))","v":1},{"$f":"IF(Y12=\"\",1,VALUE(AI15))","v":1},{"$f":"IF(Y13=\"\",1,VALUE(AJ15))","v":1},{"$f":"IF(Y14=\"\",1,VALUE(AK15))","v":1},{"$f":"IF(Y15=\"\",1,VALUE(AL15))","v":1},{"$f":"IF(Y16=\"\",1,VALUE(AM15))","v":1},{"$f":"IF(Y17=\"\",1,VALUE(AN15))","v":1},{"$f":"IF(Y18=\"\",1,VALUE(AO15))","v":1},{"$f":"IF(Y19=\"\",1,VALUE(AP15))","v":0.5},{"$f":"IF(Y20=\"\",1,VALUE(AQ15))","v":1},0.5]
[null,"ゴースト","×",null,null,null,null,null,null,null,null,null,"○",null,null,"○",null,"△",null,null,2,1,0,1,{"$f":"IF(B28=B16,\"○\",IF(B30=B16,\"○\",\"\"))","v":""},0,1,1,1,1,1,1,1,1,1,2,1,1,2,1,0.5,1,1,{"$f":"IF(Y3=\"\",1,VALUE(Z16))","v":1},{"$f":"IF(Y4=\"\",1,VALUE(AA16))","v":1},{"$f":"IF(Y5=\"\",1,VALUE(AB16))","v":1},{"$f":"IF(Y6=\"\",1,VALUE(AC16))","v":1},{"$f":"IF(Y7=\"\",1,VALUE(AD16))","v":1},{"$f":"IF(Y8=\"\",1,VALUE(AE16))","v":1},{"$f":"IF(Y9=\"\",1,VALUE(AF16))","v":1},{"$f":"IF(Y10=\"\",1,VALUE(AG16))","v":1},{"$f":"IF(Y11=\"\",1,VALUE(AH16))","v":1},{"$f":"IF(Y12=\"\",1,VALUE(AI16))","v":1},{"$f":"IF(Y13=\"\",1,VALUE(AJ16))","v":1},{"$f":"IF(Y14=\"\",1,VALUE(AK16))","v":1},{"$f":"IF(Y15=\"\",1,VALUE(AL16))","v":1},{"$f":"IF(Y16=\"\",1,VALUE(AM16))","v":1},{"$f":"IF(Y17=\"\",1,VALUE(AN16))","v":1},{"$f":"IF(Y18=\"\",1,VALUE(AO16))","v":1},{"$f":"IF(Y19=\"\",1,VALUE(AP16))","v":1},{"$f":"IF(Y20=\"\",1,VALUE(AQ16))","v":1},1]
[null,"ドラゴン",null,null,null,null,null,null,null,null,null,null,null,null,null,null,"○",null,"△","×",1,1,1,-2,{"$f":"IF(B28=B17,\"○\",IF(B30=B17,\"○\",\"\"))","v":"○"},1,1,1,1,1,1,1,1,1,1,1,1,1,1,2,1,0.5,0,{"$f":"IF(Y3=\"\",1,VALUE(Z17))","v":1},{"$f":"IF(Y4=\"\",1,VALUE(AA17))","v":1},{"$f":"IF(Y5=\"\",1,VALUE(AB17))","v":1},{"$f":"IF(Y6=\"\",1,VALUE(AC17))","v":1},{"$f":"IF(Y7=\"\",1,VALUE(AD17))","v":1},{"$f":"IF(Y8=\"\",1,VALUE(AE17))","v":1},{"$f":"IF(Y9=\"\",1,VALUE(AF17))","v":1},{"$f":"IF(Y10=\"\",1,VALUE(AG17))","v":1},{"$f":"IF(Y11=\"\",1,VALUE(AH17))","v":1},{"$f":"IF(Y12=\"\",1,VALUE(AI17))","v":1},{"$f":"IF(Y13=\"\",1,VALUE(AJ17))","v":1},{"$f":"IF(Y14=\"\",1,VALUE(AK17))","v":1},{"$f":"IF(Y15=\"\",1,VALUE(AL17))","v":1},{"$f":"IF(Y16=\"\",1,VALUE(AM17))","v":1},{"$f":"IF(Y17=\"\",1,VALUE(AN17))","v":2},{"$f":"IF(Y18=\"\",1,VALUE(AO17))","v":1},{"$f":"IF(Y19=\"\",1,VALUE(AP17))","v":0.5},{"$f":"IF(Y20=\"\",1,VALUE(AQ17))","v":1},1]
[null,"あく",null,null,null,null,null,null,"△",null,null,null,"○",null,null,"○",null,"△",null,"△",2,3,0,-1,{"$f":"IF(B28=B18,\"○\",IF(B30=B18,\"○\",\"\"))","v":""},1,1,1,1,1,1,0.5,1,1,1,2,1,1,2,1,0.5,1,0.5,{"$f":"IF(Y3=\"\",1,VALUE(Z18))","v":1},{"$f":"IF(Y4=\"\",1,VALUE(AA18))","v":1},{"$f":"IF(Y5=\"\",1,VALUE(AB18))","v":1},{"$f":"IF(Y6=\"\",1,VALUE(AC18))","v":1},{"$f":"IF(Y7=\"\",1,VALUE(AD18))","v":1},{"$f":"IF(Y8=\"\",1,VALUE(AE18))","v":1},{"$f":"IF(Y9=\"\",1,VALUE(AF18))","v":1},{"$f":"IF(Y10=\"\",1,VALUE(AG18))","v":1},{"$f":"IF(Y11=\"\",1,VALUE(AH18))","v":1},{"$f":"IF(Y12=\"\",1,VALUE(AI18))","v":1},{"$f":"IF(Y13=\"\",1,VALUE(AJ18))","v":1},{"$f":"IF(Y14=\"\",1,VALUE(AK18))","v":1},{"$f":"IF(Y15=\"\",1,VALUE(AL18))","v":1},{"$f":"IF(Y16=\"\",1,VALUE(AM18))","v":1},{"$f":"IF(Y17=\"\",1,VALUE(AN18))","v":1},{"$f":"IF(Y18=\"\",1,VALUE(AO18))","v":1},{"$f":"IF(Y19=\"\",1,VALUE(AP18))","v":1},{"$f":"IF(Y20=\"\",1,VALUE(AQ18))","v":1},1]
[null,"はがね",null,"△","△","△",null,"○",null,null,null,null,null,null,"○",null,null,null,"△","○",3,4,0,-1,{"$f":"IF(B28=B19,\"○\",IF(B30=B19,\"○\",\"\"))","v":"○"},1,0.5,0.5,0.5,1,2,1,1,1,1,1,1,2,1,1,1,{"$f":"IF(S19=\"○\",2,IF(S19=\"△\",0.5,IF(S19=\"×\",0,1)))","v":0.5},2,{"$f":"IF(Y3=\"\",1,VALUE(Z19))","v":1},{"$f":"IF(Y4=\"\",1,VALUE(AA19))","v":1},{"$f":"IF(Y5=\"\",1,VALUE(AB19))","v":1},{"$f":"IF(Y6=\"\",1,VALUE(AC19))","v":1},{"$f":"IF(Y7=\"\",1,VALUE(AD19))","v":1},{"$f":"IF(Y8=\"\",1,VALUE(AE19))","v":1},{"$f":"IF(Y9=\"\",1,VALUE(AF19))","v":1},{"$f":"IF(Y10=\"\",1,VALUE(AG19))","v":1},{"$f":"IF(Y11=\"\",1,VALUE(AH19))","v":1},{"$f":"IF(Y12=\"\",1,VALUE(AI19))","v":1},{"$f":"IF(Y13=\"\",1,VALUE(AJ19))","v":1},{"$f":"IF(Y14=\"\",1,VALUE(AK19))","v":1},{"$f":"IF(Y15=\"\",1,VALUE(AL19))","v":1},{"$f":"IF(Y16=\"\",1,VALUE(AM19))","v":1},{"$f":"IF(Y17=\"\",1,VALUE(AN19))","v":1},{"$f":"IF(Y18=\"\",1,VALUE(AO19))","v":1},{"$f":"IF(Y19=\"\",1,VALUE(AP19))","v":0.5},{"$f":"IF(Y20=\"\",1,VALUE(AQ19))","v":1},0.5]
[null,"フェアリー",null,"△",null,null,null,null,"○","△",null,null,null,null,null,null,"○","○","△",null,3,3,0,0,{"$f":"IF(B28=B20,\"○\",IF(B30=B20,\"○\",\"\"))","v":""},1,0.5,1,1,1,1,2,0.5,1,1,1,1,1,1,2,2,0.5,1,{"$f":"IF(Y3=\"\",1,VALUE(Z20))","v":1},{"$f":"IF(Y4=\"\",1,VALUE(AA20))","v":1},{"$f":"IF(Y5=\"\",1,VALUE(AB20))","v":1},{"$f":"IF(Y6=\"\",1,VALUE(AC20))","v":1},{"$f":"IF(Y7=\"\",1,VALUE(AD20))","v":1},{"$f":"IF(Y8=\"\",1,VALUE(AE20))","v":1},{"$f":"IF(Y9=\"\",1,VALUE(AF20))","v":1},{"$f":"IF(Y10=\"\",1,VALUE(AG20))","v":1},{"$f":"IF(Y11=\"\",1,VALUE(AH20))","v":1},{"$f":"IF(Y12=\"\",1,VALUE(AI20))","v":1},{"$f":"IF(Y13=\"\",1,VALUE(AJ20))","v":1},{"$f":"IF(Y14=\"\",1,VALUE(AK20))","v":1},{"$f":"IF(Y15=\"\",1,VALUE(AL20))","v":1},{"$f":"IF(Y16=\"\",1,VALUE(AM20))","v":1},{"$f":"IF(Y17=\"\",1,VALUE(AN20))","v":2},{"$f":"IF(Y18=\"\",1,VALUE(AO20))","v":1},{"$f":"IF(Y19=\"\",1,VALUE(AP20))","v":0.5},{"$f":"IF(Y20=\"\",1,VALUE(AQ20))","v":1},1]
[null,"ばつぐん",{"$f":"COUNTIF(C3:C20,\"○\")","v":1},{"$f":"COUNTIF(D3:D20,\"○\")","v":3},{"$f":"COUNTIF(E3:E20,\"○\")","v":2},1,5,4,3,2,3,3,3,3,5,2,3,3,3,2]
[null,"いまいち",{"$f":"COUNTIF(C3:C20,\"△\")","v":0},{"$f":"COUNTIF(D3:D20,\"△\")","v":6},4,3,4,1,3,5,2,3,2,3,4,2,4,2,10,3]
[null,"こうかがない",{"$f":"COUNTIF(C3:C20,\"×\")","v":1},{"$f":"COUNTIF(D3:D20,\"×\")","v":0},0,0,0,0,0,0,1,1,0,0,0,2,0,1,1,1]
[null,null,{"$f":"2*C23+C22-C21","v":1},{"$f":"2*D23+D22-D21","v":3},2,2,-1,-3,0,3,1,2,-1,0,-1,4,1,1,9,3]
[]
[]
[null,"タイプ１","普","炎","水","電","草","氷","格","毒","地","飛","超","虫","岩","幽","竜","悪","鋼","妖"," フライングプレス"]
[null,{"$f":"計算表!F4","v":"はがね"},{"$f":"IF(BJ3=0,\"×\",IF(BJ3=0.25,\"▲\",IF(BJ3=0.5,\"△\",IF(BJ3=1,\"\",IF(BJ3=2,\"○\",IF(BJ3=4,\"◎\",))))))","v":"△"},{"$f":"IF(BJ4=0,\"×\",IF(BJ4=0.25,\"▲\",IF(BJ4=0.5,\"△\",IF(BJ4=1,\"\",IF(BJ4=2,\"○\",IF(BJ4=4,\"◎\",))))))","v":""},{"$f":"IF(BJ5=0,\"×\",IF(BJ5=0.25,\"▲\",IF(BJ5=0.5,\"△\",IF(BJ5=1,\"\",IF(BJ5=2,\"○\",IF(BJ5=4,\"◎\",))))))","v":"△"},{"$f":"IF(BJ6=0,\"×\",IF(BJ6=0.25,\"▲\",IF(BJ6=0.5,\"△\",IF(BJ6=1,\"\",IF(BJ6=2,\"○\",IF(BJ6=4,\"◎\",))))))","v":"△"},{"$f":"IF(BJ7=0,\"×\",IF(BJ7=0.25,\"▲\",IF(BJ7=0.5,\"△\",IF(BJ7=1,\"\",IF(BJ7=2,\"○\",IF(BJ7=4,\"◎\",))))))","v":"▲"},{"$f":"IF(BJ8=0,\"×\",IF(BJ8=0.25,\"▲\",IF(BJ8=0.5,\"△\",IF(BJ8=1,\"\",IF(BJ8=2,\"○\",IF(BJ8=4,\"◎\",))))))","v":""},{"$f":"IF(BJ9=0,\"×\",IF(BJ9=0.25,\"▲\",IF(BJ9=0.5,\"△\",IF(BJ9=1,\"\",IF(BJ9=2,\"○\",IF(BJ9=4,\"◎\",))))))","v":"○"},{"$f":"IF(BJ10=0,\"×\",IF(BJ10=0.25,\"▲\",IF(BJ10=0.5,\"△\",IF(BJ10=1,\"\",IF(BJ10=2,\"○\",IF(BJ10=4,\"◎\",))))))","v":"×"},{"$f":"IF(BJ11=0,\"×\",IF(BJ11=0.25,\"▲\",IF(BJ11=0.5,\"△\",IF(BJ11=1,\"\",IF(BJ11=2,\"○\",IF(BJ11=4,\"◎\",))))))","v":"○"},{"$f":"IF(BJ12=0,\"×\",IF(BJ12=0.25,\"▲\",IF(BJ12=0.5,\"△\",IF(BJ12=1,\"\",IF(BJ12=2,\"○\",IF(BJ12=4,\"◎\",))))))","v":"△"},{"$f":"IF(BJ13=0,\"×\",IF(BJ13=0.25,\"▲\",IF(BJ13=0.5,\"△\",IF(BJ13=1,\"\",IF(BJ13=2,\"○\",IF(BJ13=4,\"◎\",))))))","v":"△"},{"$f":"IF(BJ14=0,\"×\",IF(BJ14=0.25,\"▲\",IF(BJ14=0.5,\"△\",IF(BJ14=1,\"\",IF(BJ14=2,\"○\",IF(BJ14=4,\"◎\",))))))","v":"△"},{"$f":"IF(BJ15=0,\"×\",IF(BJ15=0.25,\"▲\",IF(BJ15=0.5,\"△\",IF(BJ15=1,\"\",IF(BJ15=2,\"○\",IF(BJ15=4,\"◎\",))))))","v":"△"},{"$f":"IF(BJ16=0,\"×\",IF(BJ16=0.25,\"▲\",IF(BJ16=0.5,\"△\",IF(BJ16=1,\"\",IF(BJ16=2,\"○\",IF(BJ16=4,\"◎\",))))))","v":""},{"$f":"IF(BJ17=0,\"×\",IF(BJ17=0.25,\"▲\",IF(BJ17=0.5,\"△\",IF(BJ17=1,\"\",IF(BJ17=2,\"○\",IF(BJ17=4,\"◎\",))))))","v":""},{"$f":"IF(BJ18=0,\"×\",IF(BJ18=0.25,\"▲\",IF(BJ18=0.5,\"△\",IF(BJ18=1,\"\",IF(BJ18=2,\"○\",IF(BJ18=4,\"◎\",))))))","v":""},{"$f":"IF(BJ19=0,\"×\",IF(BJ19=0.25,\"▲\",IF(BJ19=0.5,\"△\",IF(BJ19=1,\"\",IF(BJ19=2,\"○\",IF(BJ19=4,\"◎\",))))))","v":"△"},{"$f":"IF(BJ20=0,\"×\",IF(BJ20=0.25,\"▲\",IF(BJ20=0.5,\"△\",IF(BJ20=1,\"\",IF(BJ20=2,\"○\",IF(BJ20=4,\"◎\",))))))","v":""},{"$f":"O37","v":""}]
[null,"タイプ2","◎……4倍",null,null,"△……0.5倍",null,null,null,"×……無効"]
[null,{"$f":"計算表!G4","v":"ドラゴン"},"○……2倍",null,null,"▲……0.25倍",null,null,null,"無印……等倍"]
[]
[{"$f":"\"\"","v":""},null,"ノーマル","ほのお","みず","でんき","くさ","こおり","かくとう","どく","じめん","ひこう","エスパー","むし","いわ","ゴースト","ドラゴン","あく","はがね","フェアリー"]
[null,null,"○",null,null,"△","○","○","○","△",null,"△","△","△",null,"×",null,"○",null,"△"]
[null,null,{"$f":"IF(E35=C32,2,IF(E36=C32,2,1))","v":1},1,1,{"$f":"IF(E35=F32,0.5,IF(E36=F32,0.5,1))","v":1},{"$f":"IF(E35=G32,2,IF(E36=G32,2,1))","v":1},{"$f":"IF(E35=H32,2,IF(E36=H32,2,1))","v":1},{"$f":"IF(E35=I32,2,IF(E36=I32,2,1))","v":1},{"$f":"IF(E35=J32,0.5,IF(E36=J32,0.5,1))","v":1},1,{"$f":"IF(E35=L32,0.5,IF(E36=L32,0.5,1))","v":1},{"$f":"IF(E35=M32,0.5,IF(E36=M32,0.5,1))","v":1},{"$f":"IF(E35=N32,0.5,IF(E36=N32,0.5,1))","v":1},1,{"$f":"IF(E35=P32,0,IF(E36=P32,0,1))","v":1},1,{"$f":"IF(E35=R32,2,IF(E36=R32,2,1))","v":1},1,{"$f":"IF(E35=T32,0.5,IF(E36=T32,0.5,1))","v":1}]
[null,"タイプ１",null,null,{"$f":"B28","v":"はがね"}]
[null,"タイプ２",null,null,{"$f":"B30","v":"ドラゴン"},null,null,null,"ダメージ",null,null,null,{"$f":"IF(CONCATENATE(E35,E36)=\"\",\"\",PRODUCT(C34:T34))","v":1},null,null,"倍"]
[null,null,null,null,null,null,null,null,null,null,null,null,null,null,{"$f":"IF(M36=4,\"○\",IF(M36=2,\"○\",IF(M36=1,\"\",IF(M36=0.5,\"△\",IF(M36=0.25,\"△\",IF(M36=0,\"×\",))))))","v":""}]

{"sheet":"EnemyData","index":5,"n_rows":37,"n_cols":62,"rows_kept":37,"cut":false,"hidden":true,"merged":[[1,25,1,42],[1,43,1,60],[27,20,27,23],[34,1,34,3],[34,4,34,7],[35,1,35,3],[35,4,35,7],[35,8,35,11],[35,12,35,14],[28,20,28,23]]}
[]
[null,"　　　　受け\n攻め","普","炎","水","電","草","氷","格","毒","地","飛","超","虫","岩","幽","竜","悪","鋼","妖","○","△","×"]
[null,"ノーマル",null,null,null,null,null,null,null,null,null,null,null,null,"△","×",null,null,"△",null,{"$f":"COUNTIF(C3:T3,\"○\")","v":0},{"$f":"COUNTIF(D3:U3,\"△\")","v":2},{"$f":"COUNTIF(E3:V3,\"×\")","v":1},{"$f":"U3-V3-2*W3","v":-4},{"$f":"IF(B28=B3,\"○\",IF(B30=B3,\"○\",\"\"))","v":""},{"$f":"IF(C3=\"○\",2,IF(C3=\"△\",0.5,IF(C3=\"×\",0,1)))","v":1},1,1,1,1,1,1,1,1,1,1,1,0.5,0,1,1,{"$f":"IF(S3=\"○\",2,IF(S3=\"△\",0.5,IF(S3=\"×\",0,1)))","v":0.5},1,{"$f":"IF(Y3=\"\",1,VALUE(Z3))","v":1},{"$f":"IF(Y4=\"\",1,VALUE(AA3))","v":1},{"$f":"IF(Y5=\"\",1,VALUE(AB3))","v":1},{"$f":"IF(Y6=\"\",1,VALUE(AC3))","v":1},{"$f":"IF(Y7=\"\",1,VALUE(AD3))","v":1},{"$f":"IF(Y8=\"\",1,VALUE(AE3))","v":1},{"$f":"IF(Y9=\"\",1,VALUE(AF3))","v":1},{"$f":"IF(Y10=\"\",1,VALUE(AG3))","v":1},{"$f":"IF(Y11=\"\",1,VALUE(AH3))","v":1},{"$f":"IF(Y12=\"\",1,VALUE(AI3))","v":1},{"$f":"IF(Y13=\"\",1,VALUE(AJ3))","v":1},{"$f":"IF(Y14=\"\",1,VALUE(AK3))","v":1},{"$f":"IF(Y15=\"\",1,VALUE(AL3))","v":1},{"$f":"IF(Y16=\"\",1,VALUE(AM3))","v":1},{"$f":"IF(Y17=\"\",1,VALUE(AN3))","v":1},{"$f":"IF(Y18=\"\",1,VALUE(AO3))","v":1},{"$f":"IF(Y19=\"\",1,VALUE(AP3))","v":1},{"$f":"IF(Y20=\"\",1,VALUE(AQ3))","v":1},{"$f":"PRODUCT(AR3:BI3)","v":1}]
[null,"ほのお",null,"△","△",null,"○","○",null,null,null,null,null,"○","△",null,"△",null,"○",null,{"$f":"COUNTIF(C4:T4,\"○\")","v":4},{"$f":"COUNTIF(D4:U4,\"△\")","v":4},{"$f":"COUNTIF(E4:V4,\"×\")","v":0},{"$f":"U4-V4-2*W4","v":0},{"$f":"IF(B28=B4,\"○\",IF(B30=B4,\"○\",\"\"))","v":""},{"$f":"IF(C4=\"○\",2,IF(C4=\"△\",0.5,IF(C4=\"×\",0,1)))","v":1},0.5,0.5,1,2,2,1,1,1,1,1,2,{"$f":"IF(O4=\"○\",2,IF(O4=\"△\",0.5,IF(O4=\"×\",0,1)))","v":0.5},1,0.5,1,2,1,{"$f":"IF(Y3=\"\",1,VALUE(Z4))","v":1},{"$f":"IF(Y4=\"\",1,VALUE(AA4))","v":1},{"$f":"IF(Y5=\"\",1,VALUE(AB4))","v":1},{"$f":"IF(Y6=\"\",1,VALUE(AC4))","v":1},{"$f":"IF(Y7=\"\",1,VALUE(AD4))","v":1},{"$f":"IF(Y8=\"\",1,VALUE(AE4))","v":1},{"$f":"IF(Y9=\"\",1,VALUE(AF4))","v":1},{"$f":"IF(Y10=\"\",1,VALUE(AG4))","v":1},{"$f":"IF(Y11=\"\",1,VALUE(AH4))","v":1},{"$f":"IF(Y12=\"\",1,VALUE(AI4))","v":1},{"$f":"IF(Y13=\"\",1,VALUE(AJ4))","v":1},{"$f":"IF(Y14=\"\",1,VALUE(AK4))","v":1},{"$f":"IF(Y15=\"\",1,VALUE(AL4))","v":1},{"$f":"IF(Y16=\"\",1,VALUE(AM4))","v":1},{"$f":"IF(Y17=\"\",1,VALUE(AN4))","v":0.5},{"$f":"IF(Y18=\"\",1,VALUE(AO4))","v":1},{"$f":"IF(Y19=\"\",1,VALUE(AP4))","v":1},{"$f":"IF(Y20=\"\",1,VALUE(AQ4))","v":1},{"$f":"PRODUCT(AR4:BI4)","v":0.5}]
[null,"みず",null,"○","△",null,"△",null,null,null,"○",null,null,null,"○",null,"△",null,null,null,{"$f":"COUNTIF(C5:T5,\"○\")","v":3},3,0,{"$f":"U5-V5-2*W5","v":0},{"$f":"IF(B28=B5,\"○\",IF(B30=B5,\"○\",\"\"))","v":""},{"$f":"IF(C5=\"○\",2,IF(C5=\"△\",0.5,IF(C5=\"×\",0,1)))","v":1},2,0.5,1,0.5,1,1,1,2,1,1,1,{"$f":"IF(O5=\"○\",2,IF(O5=\"△\",0.5,IF(O5=\"×\",0,1)))","v":2},1,0.5,1,1,1,{"$f":"IF(Y3=\"\",1,VALUE(Z5))","v":1},{"$f":"IF(Y4=\"\",1,VALUE(AA5))","v":1},{"$f":"IF(Y5=\"\",1,VALUE(AB5))","v":1},{"$f":"IF(Y6=\"\",1,VALUE(AC5))","v":1},{"$f":"IF(Y7=\"\",1,VALUE(AD5))","v":1},{"$f":"IF(Y8=\"\",1,VALUE(AE5))","v":1},{"$f":"IF(Y9=\"\",1,VALUE(AF5))","v":1},{"$f":"IF(Y10=\"\",1,VALUE(AG5))","v":1},{"$f":"IF(Y11=\"\",1,VALUE(AH5))","v":2},{"$f":"IF(Y12=\"\",1,VALUE(AI5))","v":1},{"$f":"IF(Y13=\"\",1,VALUE(AJ5))","v":1},{"$f":"IF(Y14=\"\",1,VALUE(AK5))","v":1},{"$f":"IF(Y15=\"\",1,VALUE(AL5))","v":1},{"$f":"IF(Y16=\"\",1,VALUE(AM5))","v":1},{"$f":"IF(Y17=\"\",1,VALUE(AN5))","v":0.5},{"$f":"IF(Y18=\"\",1,VALUE(AO5))","v":1},{"$f":"IF(Y19=\"\",1,VALUE(AP5))","v":1},{"$f":"IF(Y20=\"\",1,VALUE(AQ5))","v":1},1]
[null,"でんき",null,null,"○","△","△",null,null,null,"×","○",null,null,null,null,"△",null,null,null,2,3,1,-3,{"$f":"IF(B28=B6,\"○\",IF(B30=B6,\"○\",\"\"))","v":""},{"$f":"IF(C6=\"○\",2,IF(C6=\"△\",0.5,IF(C6=\"×\",0,1)))","v":1},1,2,0.5,0.5,1,1,1,0,2,1,1,{"$f":"IF(O6=\"○\",2,IF(O6=\"△\",0.5,IF(O6=\"×\",0,1)))","v":1},1,0.5,1,1,1,{"$f":"IF(Y3=\"\",1,VALUE(Z6))","v":1},{"$f":"IF(Y4=\"\",1,VALUE(AA6))","v":1},{"$f":"IF(Y5=\"\",1,VALUE(AB6))","v":1},{"$f":"IF(Y6=\"\",1,VALUE(AC6))","v":1},{"$f":"IF(Y7=\"\",1,VALUE(AD6))","v":1},{"$f":"IF(Y8=\"\",1,VALUE(AE6))","v":1},{"$f":"IF(Y9=\"\",1,VALUE(AF6))","v":1},{"$f":"IF(Y10=\"\",1,VALUE(AG6))","v":1},{"$f":"IF(Y11=\"\",1,VALUE(AH6))","v":0},{"$f":"IF(Y12=\"\",1,VALUE(AI6))","v":1},{"$f":"IF(Y13=\"\",1,VALUE(AJ6))","v":1},{"$f":"IF(Y14=\"\",1,VALUE(AK6))","v":1},{"$f":"IF(Y15=\"\",1,VALUE(AL6))","v":1},{"$f":"IF(Y16=\"\",1,VALUE(AM6))","v":1},{"$f":"IF(Y17=\"\",1,VALUE(AN6))","v":0.5},{"$f":"IF(Y18=\"\",1,VALUE(AO6))","v":1},{"$f":"IF(Y19=\"\",1,VALUE(AP6))","v":1},{"$f":"IF(Y20=\"\",1,VALUE(AQ6))","v":1},0]
[null,"くさ",null,"△","○",null,"△",null,null,"△","○","△",null,"△","○",null,"△",null,"△",null,3,7,0,-4,{"$f":"IF(B28=B7,\"○\",IF(B30=B7,\"○\",\"\"))","v":""},{"$f":"IF(C7=\"○\",2,IF(C7=\"△\",0.5,IF(C7=\"×\",0,1)))","v":1},0.5,2,1,0.5,1,1,0.5,2,0.5,1,0.5,2,1,0.5,1,0.5,1,{"$f":"IF(Y3=\"\",1,VALUE(Z7))","v":1},{"$f":"IF(Y4=\"\",1,VALUE(AA7))","v":1},{"$f":"IF(Y5=\"\",1,VALUE(AB7))","v":1},{"$f":"IF(Y6=\"\",1,VALUE(AC7))","v":1},{"$f":"IF(Y7=\"\",1,VALUE(AD7))","v":1},{"$f":"IF(Y8=\"\",1,VALUE(AE7))","v":1},{"$f":"IF(Y9=\"\",1,VALUE(AF7))","v":1},{"$f":"IF(Y10=\"\",1,VALUE(AG7))","v":1},{"$f":"IF(Y11=\"\",1,VALUE(AH7))","v":2},{"$f":"IF(Y12=\"\",1,VALUE(AI7))","v":1},{"$f":"IF(Y13=\"\",1,VALUE(AJ7))","v":1},{"$f":"IF(Y14=\"\",1,VALUE(AK7))","v":1},{"$f":"IF(Y15=\"\",1,VALUE(AL7))","v":1},{"$f":"IF(Y16=\"\",1,VALUE(AM7))","v":1},{"$f":"IF(Y17=\"\",1,VALUE(AN7))","v":0.5},{"$f":"IF(Y18=\"\",1,VALUE(AO7))","v":1},{"$f":"IF(Y19=\"\",1,VALUE(AP7))","v":1},{"$f":"IF(Y20=\"\",1,VALUE(AQ7))","v":1},1]
[null,"こおり",null,"△","△",null,"○","△",null,null,"○","○",null,null,null,null,"○",null,"△",null,4,4,0,0,{"$f":"IF(B28=B8,\"○\",IF(B30=B8,\"○\",\"\"))","v":""},1,0.5,0.5,1,2,0.5,1,1,2,2,1,1,1,1,2,1,0.5,1,{"$f":"IF(Y3=\"\",1,VALUE(Z8))","v":1},{"$f":"IF(Y4=\"\",1,VALUE(AA8))","v":1},{"$f":"IF(Y5=\"\",1,VALUE(AB8))","v":1},{"$f":"IF(Y6=\"\",1,VALUE(AC8))","v":1},{"$f":"IF(Y7=\"\",1,VALUE(AD8))","v":1},{"$f":"IF(Y8=\"\",1,VALUE(AE8))","v":1},{"$f":"IF(Y9=\"\",1,VALUE(AF8))","v":1},{"$f":"IF(Y10=\"\",1,VALUE(AG8))","v":1},{"$f":"IF(Y11=\"\",1,VALUE(AH8))","v":2},{"$f":"IF(Y12=\"\",1,VALUE(AI8))","v":1},{"$f":"IF(Y13=\"\",1,VALUE(AJ8))","v":1},{"$f":"IF(Y14=\"\",1,VALUE(AK8))","v":1},{"$f":"IF(Y15=\"\",1,VALUE(AL8))","v":1},{"$f":"IF(Y16=\"\",1,VALUE(AM8))","v":1},{"$f":"IF(Y17=\"\",1,VALUE(AN8))","v":2},{"$f":"IF(Y18=\"\",1,VALUE(AO8))","v":1},{"$f":"IF(Y19=\"\",1,VALUE(AP8))","v":1},{"$f":"IF(Y20=\"\",1,VALUE(AQ8))","v":1},4]
[null,"かくとう","○",null,null,null,null,"○",null,"△",null,"△","△","△","○","×",null,"○","○","△",5,5,1,-2,{"$f":"IF(B28=B9,\"○\",IF(B30=B9,\"○\",\"\"))","v":""},2,1,1,1,1,2,1,0.5,1,0.5,0.5,0.5,2,0,1,2,2,0.5,{"$f":"IF(Y3=\"\",1,VALUE(Z9))","v":1},{"$f":"IF(Y4=\"\",1,VALUE(AA9))","v":1},{"$f":"IF(Y5=\"\",1,VALUE(AB9))","v":1},{"$f":"IF(Y6=\"\",1,VALUE(AC9))","v":1},{"$f":"IF(Y7=\"\",1,VALUE(AD9))","v":1},{"$f":"IF(Y8=\"\",1,VALUE(AE9))","v":1},{"$f":"IF(Y9=\"\",1,VALUE(AF9))","v":1},{"$f":"IF(Y10=\"\",1,VALUE(AG9))","v":1},{"$f":"IF(Y11=\"\",1,VALUE(AH9))","v":1},{"$f":"IF(Y12=\"\",1,VALUE(AI9))","v":1},{"$f":"IF(Y13=\"\",1,VALUE(AJ9))","v":1},{"$f":"IF(Y14=\"\",1,VALUE(AK9))","v":1},{"$f":"IF(Y15=\"\",1,VALUE(AL9))","v":1},{"$f":"IF(Y16=\"\",1,VALUE(AM9))","v":1},{"$f":"IF(Y17=\"\",1,VALUE(AN9))","v":1},{"$f":"IF(Y18=\"\",1,VALUE(AO9))","v":1},{"$f":"IF(Y19=\"\",1,VALUE(AP9))","v":1},{"$f":"IF(Y20=\"\",1,VALUE(AQ9))","v":1},1]
[null,"どく",null,null,null,null,"○",null,null,"△","△",null,null,null,"△","△",null,null,"×","○",2,4,1,-4,{"$f":"IF(B28=B10,\"○\",IF(B30=B10,\"○\",\"\"))","v":""},1,1,1,1,2,1,1,0.5,0.5,1,1,1,0.5,0.5,1,1,0,2,{"$f":"IF(Y3=\"\",1,VALUE(Z10))","v":1},{"$f":"IF(Y4=\"\",1,VALUE(AA10))","v":1},{"$f":"IF(Y5=\"\",1,VALUE(AB10))","v":1},{"$f":"IF(Y6=\"\",1,VALUE(AC10))","v":1},{"$f":"IF(Y7=\"\",1,VALUE(AD10))","v":1},{"$f":"IF(Y8=\"\",1,VALUE(AE10))","v":1},{"$f":"IF(Y9=\"\",1,VALUE(AF10))","v":1},{"$f":"IF(Y10=\"\",1,VALUE(AG10))","v":1},{"$f":"IF(Y11=\"\",1,VALUE(AH10))","v":0.5},{"$f":"IF(Y12=\"\",1,VALUE(AI10))","v":1},{"$f":"IF(Y13=\"\",1,VALUE(AJ10))","v":1},{"$f":"IF(Y14=\"\",1,VALUE(AK10))","v":1},{"$f":"IF(Y15=\"\",1,VALUE(AL10))","v":1},{"$f":"IF(Y16=\"\",1,VALUE(AM10))","v":1},{"$f":"IF(Y17=\"\",1,VALUE(AN10))","v":1},{"$f":"IF(Y18=\"\",1,VALUE(AO10))","v":1},{"$f":"IF(Y19=\"\",1,VALUE(AP10))","v":1},{"$f":"IF(Y20=\"\",1,VALUE(AQ10))","v":1},0.5]
[null,"じめん",null,"○",null,"○","△",null,null,"○",null,"×",null,"△","○",null,null,null,"○",null,5,2,1,1,{"$f":"IF(B28=B11,\"○\",IF(B30=B11,\"○\",\"\"))","v":"○"},1,2,1,2,0.5,1,1,2,1,0,1,0.5,2,1,1,1,2,1,{"$f":"IF(Y3=\"\",1,VALUE(Z11))","v":1},{"$f":"IF(Y4=\"\",1,VALUE(AA11))","v":1},{"$f":"IF(Y5=\"\",1,VALUE(AB11))","v":1},{"$f":"IF(Y6=\"\",1,VALUE(AC11))","v":1},{"$f":"IF(Y7=\"\",1,VALUE(AD11))","v":1},{"$f":"IF(Y8=\"\",1,VALUE(AE11))","v":1},{"$f":"IF(Y9=\"\",1,VALUE(AF11))","v":1},{"$f":"IF(Y10=\"\",1,VALUE(AG11))","v":1},{"$f":"IF(Y11=\"\",1,VALUE(AH11))","v":1},{"$f":"IF(Y12=\"\",1,VALUE(AI11))","v":1},{"$f":"IF(Y13=\"\",1,VALUE(AJ11))","v":1},{"$f":"IF(Y14=\"\",1,VALUE(AK11))","v":1},{"$f":"IF(Y15=\"\",1,VALUE(AL11))","v":1},{"$f":"IF(Y16=\"\",1,VALUE(AM11))","v":1},{"$f":"IF(Y17=\"\",1,VALUE(AN11))","v":1},{"$f":"IF(Y18=\"\",1,VALUE(AO11))","v":1},{"$f":"IF(Y19=\"\",1,VALUE(AP11))","v":1},{"$f":"IF(Y20=\"\",1,VALUE(AQ11))","v":1},1]
[null,"ひこう",null,null,null,"△","○",null,"○",null,null,null,null,"○","△",null,null,null,"△",null,3,3,0,0,{"$f":"IF(B28=B12,\"○\",IF(B30=B12,\"○\",\"\"))","v":""},1,1,1,0.5,2,1,2,1,1,1,1,2,0.5,1,1,1,0.5,1,{"$f":"IF(Y3=\"\",1,VALUE(Z12))","v":1},{"$f":"IF(Y4=\"\",1,VALUE(AA12))","v":1},{"$f":"IF(Y5=\"\",1,VALUE(AB12))","v":1},{"$f":"IF(Y6=\"\",1,VALUE(AC12))","v":1},{"$f":"IF(Y7=\"\",1,VALUE(AD12))","v":1},{"$f":"IF(Y8=\"\",1,VALUE(AE12))","v":1},{"$f":"IF(Y9=\"\",1,VALUE(AF12))","v":1},{"$f":"IF(Y10=\"\",1,VALUE(AG12))","v":1},{"$f":"IF(Y11=\"\",1,VALUE(AH12))","v":1},{"$f":"IF(Y12=\"\",1,VALUE(AI12))","v":1},{"$f":"IF(Y13=\"\",1,VALUE(AJ12))","v":1},{"$f":"IF(Y14=\"\",1,VALUE(AK12))","v":1},{"$f":"IF(Y15=\"\",1,VALUE(AL12))","v":1},{"$f":"IF(Y16=\"\",1,VALUE(AM12))","v":1},{"$f":"IF(Y17=\"\",1,VALUE(AN12))","v":1},{"$f":"IF(Y18=\"\",1,VALUE(AO12))","v":1},{"$f":"IF(Y19=\"\",1,VALUE(AP12))","v":1},{"$f":"IF(Y20=\"\",1,VALUE(AQ12))","v":1},1]
[null,"エスパー",null,null,null,null,null,null,"○","○",null,null,"△",null,null,null,null,"×","△",null,2,2,1,-2,{"$f":"IF(B28=B13,\"○\",IF(B30=B13,\"○\",\"\"))","v":""},1,1,1,1,1,1,2,2,1,1,0.5,1,1,1,1,0,0.5,1,{"$f":"IF(Y3=\"\",1,VALUE(Z13))","v":1},{"$f":"IF(Y4=\"\",1,VALUE(AA13))","v":1},{"$f":"IF(Y5=\"\",1,VALUE(AB13))","v":1},{"$f":"IF(Y6=\"\",1,VALUE(AC13))","v":1},{"$f":"IF(Y7=\"\",1,VALUE(AD13))","v":1},{"$f":"IF(Y8=\"\",1,VALUE(AE13))","v":1},{"$f":"IF(Y9=\"\",1,VALUE(AF13))","v":1},{"$f":"IF(Y10=\"\",1,VALUE(AG13))","v":1},{"$f":"IF(Y11=\"\",1,VALUE(AH13))","v":1},{"$f":"IF(Y12=\"\",1,VALUE(AI13))","v":1},{"$f":"IF(Y13=\"\",1,VALUE(AJ13))","v":1},{"$f":"IF(Y14=\"\",1,VALUE(AK13))","v":1},{"$f":"IF(Y15=\"\",1,VALUE(AL13))","v":1},{"$f":"IF(Y16=\"\",1,VALUE(AM13))","v":1},{"$f":"IF(Y17=\"\",1,VALUE(AN13))","v":1},{"$f":"IF(Y18=\"\",1,VALUE(AO13))","v":1},{"$f":"IF(Y19=\"\",1,VALUE(AP13))","v":1},{"$f":"IF(Y20=\"\",1,VALUE(AQ13))","v":1},1]
[null,"むし",null,"△",null,null,"○",null,"△","△",null,"△","○",null,null,"△",null,"○","△","△",3,7,0,-4,{"$f":"IF(B28=B14,\"○\",IF(B30=B14,\"○\",\"\"))","v":""},1,0.5,1,1,2,1,0.5,0.5,1,0.5,2,1,1,0.5,1,2,0.5,0.5,{"$f":"IF(Y3=\"\",1,VALUE(Z14))","v":1},{"$f":"IF(Y4=\"\",1,VALUE(AA14))","v":1},{"$f":"IF(Y5=\"\",1,VALUE(AB14))","v":1},{"$f":"IF(Y6=\"\",1,VALUE(AC14))","v":1},{"$f":"IF(Y7=\"\",1,VALUE(AD14))","v":1},{"$f":"IF(Y8=\"\",1,VALUE(AE14))","v":1},{"$f":"IF(Y9=\"\",1,VALUE(AF14))","v":1},{"$f":"IF(Y10=\"\",1,VALUE(AG14))","v":1},{"$f":"IF(Y11=\"\",1,VALUE(AH14))","v":1},{"$f":"IF(Y12=\"\",1,VALUE(AI14))","v":1},{"$f":"IF(Y13=\"\",1,VALUE(AJ14))","v":1},{"$f":"IF(Y14=\"\",1,VALUE(AK14))","v":1},{"$f":"IF(Y15=\"\",1,VALUE(AL14))","v":1},{"$f":"IF(Y16=\"\",1,VALUE(AM14))","v":1},{"$f":"IF(Y17=\"\",1,VALUE(AN14))","v":1},{"$f":"IF(Y18=\"\",1,VALUE(AO14))","v":1},{"$f":"IF(Y19=\"\",1,VALUE(AP14))","v":1},{"$f":"IF(Y20=\"\",1,VALUE(AQ14))","v":1},1]
[null,"いわ",null,"○",null,null,null,"○","△",null,"△","○",null,"○",null,null,null,null,"△",null,4,3,0,1,{"$f":"IF(B28=B15,\"○\",IF(B30=B15,\"○\",\"\"))","v":""},1,2,1,1,1,2,0.5,1,0.5,2,1,2,1,1,1,1,0.5,1,{"$f":"IF(Y3=\"\",1,VALUE(Z15))","v":1},{"$f":"IF(Y4=\"\",1,VALUE(AA15))","v":1},{"$f":"IF(Y5=\"\",1,VALUE(AB15))","v":1},{"$f":"IF(Y6=\"\",1,VALUE(AC15))","v":1},{"$f":"IF(Y7=\"\",1,VALUE(AD15))","v":1},{"$f":"IF(Y8=\"\",1,VALUE(AE15))","v":1},{"$f":"IF(Y9=\"\",1,VALUE(AF15))","v":1},{"$f":"IF(Y10=\"\",1,VALUE(AG15))","v":1},{"$f":"IF(Y11=\"\",1,VALUE(AH15))","v":0.5},{"$f":"IF(Y12=\"\",1,VALUE(AI15))","v":1},{"$f":"IF(Y13=\"\",1,VALUE(AJ15))","v":1},{"$f":"IF(Y14=\"\",1,VALUE(AK15))","v":1},{"$f":"IF(Y15=\"\",1,VALUE(AL15))","v":1},{"$f":"IF(Y16=\"\",1,VALUE(AM15))","v":1},{"$f":"IF(Y17=\"\",1,VALUE(AN15))","v":1},{"$f":"IF(Y18=\"\",1,VALUE(AO15))","v":1},{"$f":"IF(Y19=\"\",1,VALUE(AP15))","v":1},{"$f":"IF(Y20=\"\",1,VALUE(AQ15))","v":1},0.5]
[null,"ゴースト","×",null,null,null,null,null,null,null,null,null,"○",null,null,"○",null,"△",null,null,2,1,0,1,{"$f":"IF(B28=B16,\"○\",IF(B30=B16,\"○\",\"\"))","v":""},0,1,1,1,1,1,1,1,1,1,2,1,1,2,1,0.5,1,1,{"$f":"IF(Y3=\"\",1,VALUE(Z16))","v":1},{"$f":"IF(Y4=\"\",1,VALUE(AA16))","v":1},{"$f":"IF(Y5=\"\",1,VALUE(AB16))","v":1},{"$f":"IF(Y6=\"\",1,VALUE(AC16))","v":1},{"$f":"IF(Y7=\"\",1,VALUE(AD16))","v":1},{"$f":"IF(Y8=\"\",1,VALUE(AE16))","v":1},{"$f":"IF(Y9=\"\",1,VALUE(AF16))","v":1},{"$f":"IF(Y10=\"\",1,VALUE(AG16))","v":1},{"$f":"IF(Y11=\"\",1,VALUE(AH16))","v":1},{"$f":"IF(Y12=\"\",1,VALUE(AI16))","v":1},{"$f":"IF(Y13=\"\",1,VALUE(AJ16))","v":1},{"$f":"IF(Y14=\"\",1,VALUE(AK16))","v":1},{"$f":"IF(Y15=\"\",1,VALUE(AL16))","v":1},{"$f":"IF(Y16=\"\",1,VALUE(AM16))","v":1},{"$f":"IF(Y17=\"\",1,VALUE(AN16))","v":1},{"$f":"IF(Y18=\"\",1,VALUE(AO16))","v":1},{"$f":"IF(Y19=\"\",1,VALUE(AP16))","v":1},{"$f":"IF(Y20=\"\",1,VALUE(AQ16))","v":1},1]
[null,"ドラゴン",null,null,null,null,null,null,null,null,null,null,null,null,null,null,"○",null,"△","×",1,1,1,-2,{"$f":"IF(B28=B17,\"○\",IF(B30=B17,\"○\",\"\"))","v":"○"},1,1,1,1,1,1,1,1,1,1,1,1,1,1,2,1,0.5,0,{"$f":"IF(Y3=\"\",1,VALUE(Z17))","v":1},{"$f":"IF(Y4=\"\",1,VALUE(AA17))","v":1},{"$f":"IF(Y5=\"\",1,VALUE(AB17))","v":1},{"$f":"IF(Y6=\"\",1,VALUE(AC17))","v":1},{"$f":"IF(Y7=\"\",1,VALUE(AD17))","v":1},{"$f":"IF(Y8=\"\",1,VALUE(AE17))","v":1},{"$f":"IF(Y9=\"\",1,VALUE(AF17))","v":1},{"$f":"IF(Y10=\"\",1,VALUE(AG17))","v":1},{"$f":"IF(Y11=\"\",1,VALUE(AH17))","v":1},{"$f":"IF(Y12=\"\",1,VALUE(AI17))","v":1},{"$f":"IF(Y13=\"\",1,VALUE(AJ17))","v":1},{"$f":"IF(Y14=\"\",1,VALUE(AK17))","v":1},{"$f":"IF(Y15=\"\",1,VALUE(AL17))","v":1},{"$f":"IF(Y16=\"\",1,VALUE(AM17))","v":1},{"$f":"IF(Y17=\"\",1,VALUE(AN17))","v":2},{"$f":"IF(Y18=\"\",1,VALUE(AO17))","v":1},{"$f":"IF(Y19=\"\",1,VALUE(AP17))","v":1},{"$f":"IF(Y20=\"\",1,VALUE(AQ17))","v":1},2]
[null,"あく",null,null,null,null,null,null,"△",null,null,null,"○",null,null,"○",null,"△",null,"△",2,3,0,-1,{"$f":"IF(B28=B18,\"○\",IF(B30=B18,\"○\",\"\"))","v":""},1,1,1,1,1,1,0.5,1,1,1,2,1,1,2,1,0.5,1,0.5,{"$f":"IF(Y3=\"\",1,VALUE(Z18))","v":1},{"$f":"IF(Y4=\"\",1,VALUE(AA18))","v":1},{"$f":"IF(Y5=\"\",1,VALUE(AB18))","v":1},{"$f":"IF(Y6=\"\",1,VALUE(AC18))","v":1},{"$f":"IF(Y7=\"\",1,VALUE(AD18))","v":1},{"$f":"IF(Y8=\"\",1,VALUE(AE18))","v":1},{"$f":"IF(Y9=\"\",1,VALUE(AF18))","v":1},{"$f":"IF(Y10=\"\",1,VALUE(AG18))","v":1},{"$f":"IF(Y11=\"\",1,VALUE(AH18))","v":1},{"$f":"IF(Y12=\"\",1,VALUE(AI18))","v":1},{"$f":"IF(Y13=\"\",1,VALUE(AJ18))","v":1},{"$f":"IF(Y14=\"\",1,VALUE(AK18))","v":1},{"$f":"IF(Y15=\"\",1,VALUE(AL18))","v":1},{"$f":"IF(Y16=\"\",1,VALUE(AM18))","v":1},{"$f":"IF(Y17=\"\",1,VALUE(AN18))","v":1},{"$f":"IF(Y18=\"\",1,VALUE(AO18))","v":1},{"$f":"IF(Y19=\"\",1,VALUE(AP18))","v":1},{"$f":"IF(Y20=\"\",1,VALUE(AQ18))","v":1},1]
[null,"はがね",null,"△","△","△",null,"○",null,null,null,null,null,null,"○",null,null,null,"△","○",3,4,0,-1,{"$f":"IF(B28=B19,\"○\",IF(B30=B19,\"○\",\"\"))","v":""},1,0.5,0.5,0.5,1,2,1,1,1,1,1,1,2,1,1,1,{"$f":"IF(S19=\"○\",2,IF(S19=\"△\",0.5,IF(S19=\"×\",0,1)))","v":0.5},2,{"$f":"IF(Y3=\"\",1,VALUE(Z19))","v":1},{"$f":"IF(Y4=\"\",1,VALUE(AA19))","v":1},{"$f":"IF(Y5=\"\",1,VALUE(AB19))","v":1},{"$f":"IF(Y6=\"\",1,VALUE(AC19))","v":1},{"$f":"IF(Y7=\"\",1,VALUE(AD19))","v":1},{"$f":"IF(Y8=\"\",1,VALUE(AE19))","v":1},{"$f":"IF(Y9=\"\",1,VALUE(AF19))","v":1},{"$f":"IF(Y10=\"\",1,VALUE(AG19))","v":1},{"$f":"IF(Y11=\"\",1,VALUE(AH19))","v":1},{"$f":"IF(Y12=\"\",1,VALUE(AI19))","v":1},{"$f":"IF(Y13=\"\",1,VALUE(AJ19))","v":1},{"$f":"IF(Y14=\"\",1,VALUE(AK19))","v":1},{"$f":"IF(Y15=\"\",1,VALUE(AL19))","v":1},{"$f":"IF(Y16=\"\",1,VALUE(AM19))","v":1},{"$f":"IF(Y17=\"\",1,VALUE(AN19))","v":1},{"$f":"IF(Y18=\"\",1,VALUE(AO19))","v":1},{"$f":"IF(Y19=\"\",1,VALUE(AP19))","v":1},{"$f":"IF(Y20=\"\",1,VALUE(AQ19))","v":1},1]
[null,"フェアリー",null,"△",null,null,null,null,"○","△",null,null,null,null,null,null,"○","○","△",null,3,3,0,0,{"$f":"IF(B28=B20,\"○\",IF(B30=B20,\"○\",\"\"))","v":""},1,0.5,1,1,1,1,2,0.5,1,1,1,1,1,1,2,2,0.5,1,{"$f":"IF(Y3=\"\",1,VALUE(Z20))","v":1},{"$f":"IF(Y4=\"\",1,VALUE(AA20))","v":1},{"$f":"IF(Y5=\"\",1,VALUE(AB20))","v":1},{"$f":"IF(Y6=\"\",1,VALUE(AC20))","v":1},{"$f":"IF(Y7=\"\",1,VALUE(AD20))","v":1},{"$f":"IF(Y8=\"\",1,VALUE(AE20))","v":1},{"$f":"IF(Y9=\"\",1,VALUE(AF20))","v":1},{"$f":"IF(Y10=\"\",1,VALUE(AG20))","v":1},{"$f":"IF(Y11=\"\",1,VALUE(AH20))","v":1},{"$f":"IF(Y12=\"\",1,VALUE(AI20))","v":1},{"$f":"IF(Y13=\"\",1,VALUE(AJ20))","v":1},{"$f":"IF(Y14=\"\",1,VALUE(AK20))","v":1},{"$f":"IF(Y15=\"\",1,VALUE(AL20))","v":1},{"$f":"IF(Y16=\"\",1,VALUE(AM20))","v":1},{"$f":"IF(Y17=\"\",1,VALUE(AN20))","v":2},{"$f":"IF(Y18=\"\",1,VALUE(AO20))","v":1},{"$f":"IF(Y19=\"\",1,VALUE(AP20))","v":1},{"$f":"IF(Y20=\"\",1,VALUE(AQ20))","v":1},2]
[null,"ばつぐん",{"$f":"COUNTIF(C3:C20,\"○\")","v":1},{"$f":"COUNTIF(D3:D20,\"○\")","v":3},{"$f":"COUNTIF(E3:E20,\"○\")","v":2},1,5,4,3,2,3,3,3,3,5,2,3,3,3,2]
[null,"いまいち",{"$f":"COUNTIF(C3:C20,\"△\")","v":0},{"$f":"COUNTIF(D3:D20,\"△\")","v":6},4,3,4,1,3,5,2,3,2,3,4,2,4,2,10,3]
[null,"こうかがない",{"$f":"COUNTIF(C3:C20,\"×\")","v":1},{"$f":"COUNTIF(D3:D20,\"×\")","v":0},0,0,0,0,0,0,1,1,0,0,0,2,0,1,1,1]
[null,null,{"$f":"2*C23+C22-C21","v":1},{"$f":"2*D23+D22-D21","v":3},2,2,-1,-3,0,3,1,2,-1,0,-1,4,1,1,9,3]
[]
[]
[null,"タイプ１","普","炎","水","電","草","氷","格","毒","地","飛","超","虫","岩","幽","竜","悪","鋼","妖"," フライングプレス"]
[null,{"$f":"計算表!AF27","v":"ドラゴン"},{"$f":"IF(B32=\"ノーマル\",BJ3,\"\")","v":""},{"$f":"IF(B32=\"ほのお\",BJ4,\"\")","v":""},{"$f":"IF(B32=\"みず\",BJ5,\"\")","v":""},{"$f":"IF(B32=\"でんき\",BJ6,\"\")","v":""},{"$f":"IF(B32=\"くさ\",BJ7,\"\")","v":""},{"$f":"IF(B32=\"こおり\",BJ8,\"\")","v":""},{"$f":"IF(AND(U28<>\"\",B32=\"かくとう\"),BJ9,\"\")","v":""},{"$f":"IF(B32=\"どく\",BJ10,\"\")","v":""},{"$f":"IF(B32=\"じめん\",BJ11,\"\")","v":""},{"$f":"IF(B32=\"ひこう\",BJ12,\"\")","v":""},{"$f":"IF(B32=\"エスパー\",BJ13,\"\")","v":""},{"$f":"IF(B32=\"むし\",BJ14,\"\")","v":""},{"$f":"IF(B32=\"いわ\",BJ15,\"\")","v":""},{"$f":"IF(B32=\"ゴースト\",BJ16,\"\")","v":""},{"$f":"IF(B32=\"ドラゴン\",BJ17,\"\")","v":2},{"$f":"IF(B32=\"あく\",BJ18,\"\")","v":""},{"$f":"IF(B32=\"はがね\",BJ19,\"\")","v":""},{"$f":"IF(B32=\"フェアリー\",BJ20,\"\")","v":""},{"$f":"IF(計算表!B22=\"フライングプレス\",M36,\"\")","v":""}]
[null,"タイプ2","◎……4倍",null,null,"△……0.5倍",null,null,null,"×……無効",null,null,null,null,null,null,null,null,null,"タイプ相性",{"$f":"IF(SUM(C28:X28)=4,\"ばつぐん(4倍)\",\nIF(SUM(C28:X28)=2,\"ばつぐん(2倍)\",\nIF(SUM(C28:X28)=1,\"(特になし)\",\nIF(SUM(C28:X28)=0.5,\"いまひとつ(0.5倍)\",\nIF(SUM(C28:X28)=0.25,\"いまひとつ(0.25倍)\",\"こうかがない(0倍)\")))))","v":"ばつぐん(2倍)"}]
[null,{"$f":"計算表!AH27","v":"じめん"},"○……2倍",null,null,"▲……0.25倍",null,null,null,"無印……等倍"]
[null,"攻撃技のタイプ"]
[{"$f":"\"\"","v":""},{"$f":"計算表!B26","v":"ドラゴン"},"普","炎","水","電","草","氷","格","毒","地","飛","超","虫","岩","幽","竜","悪","鋼","妖"]
[null,null,"○",null,null,"△","○","○","○","△",null,"△","△","△",null,"×",null,"○",null,"△"]
[null,null,{"$f":"IF(E35=C32,2,IF(E36=C32,2,1))","v":1},1,1,{"$f":"IF(E35=F32,0.5,IF(E36=F32,0.5,1))","v":1},{"$f":"IF(E35=G32,2,IF(E36=G32,2,1))","v":1},{"$f":"IF(E35=H32,2,IF(E36=H32,2,1))","v":1},{"$f":"IF(E35=I32,2,IF(E36=I32,2,1))","v":1},{"$f":"IF(E35=J32,0.5,IF(E36=J32,0.5,1))","v":1},1,{"$f":"IF(E35=L32,0.5,IF(E36=L32,0.5,1))","v":1},{"$f":"IF(E35=M32,0.5,IF(E36=M32,0.5,1))","v":1},{"$f":"IF(E35=N32,0.5,IF(E36=N32,0.5,1))","v":1},1,{"$f":"IF(E35=P32,0,IF(E36=P32,0,1))","v":1},1,{"$f":"IF(E35=R32,2,IF(E36=R32,2,1))","v":1},1,{"$f":"IF(E35=T32,0.5,IF(E36=T32,0.5,1))","v":1}]
[null,"タイプ１",null,null,{"$f":"B28","v":"ドラゴン"}]
[null,"タイプ２",null,null,{"$f":"B30","v":"じめん"},null,null,null,"ダメージ",null,null,null,{"$f":"IF(CONCATENATE(E35,E36)=\"\",\"\",PRODUCT(C34:T34))","v":1},null,null,"倍"]
[null,null,null,null,null,null,null,null,null,null,null,null,null,null,{"$f":"IF(M36=4,\"○\",IF(M36=2,\"○\",IF(M36=1,\"\",IF(M36=0.5,\"△\",IF(M36=0.25,\"△\",IF(M36=0,\"×\",))))))","v":""}]

{"sheet":"ポケモン一覧","index":6,"n_rows":909,"n_cols":13,"rows_kept":909,"cut":false,"hidden":false,"merged":[[0,10,0,11],[0,2,0,3]]}
["No.","なまえ","タイプ",null,"HP","こうげき","ぼうぎょ","とくこう","とくぼう","すばやさ","とくせい",null,"かくれとくせい"]
["001-0","フシギダネ","くさ","どく",45,49,49,65,65,45,"しんりょく",null,"ようりょくそ"]
["002-0","フシギソウ","くさ","どく",60,62,63,80,80,60,"しんりょく",null,"ようりょくそ"]
["003-0","フシギバナ","くさ","どく",80,82,83,100,100,80,"しんりょく",null,"ようりょくそ"]
["003-1","メガフシギバナ","くさ","どく",80,100,123,122,120,80,"あついしぼう"]
["004-0","ヒトカゲ","ほのお",null,39,52,43,60,50,65,"もうか",null,"サンパワー"]
["005-0","リザード","ほのお",null,58,64,58,80,65,80,"もうか",null,"サンパワー"]
["006-0","リザードン","ほのお","ひこう",78,84,78,109,85,100,"もうか",null,"サンパワー"]
["006-1","メガリザードンX","ほのお","ドラゴン",78,130,111,130,85,100,"かたいツメ"]
["006-1","メガリザードンY","ほのお","ひこう",78,104,78,159,115,100,"ひでり"]
["007-0","ゼニガメ","みず",null,44,48,65,50,64,43,"げきりゅう",null,"あめうけざら"]
["008-0","カメール","みず",null,59,63,80,65,80,58,"げきりゅう",null,"あめうけざら"]
["009-0","カメックス","みず",null,79,83,100,85,105,78,"げきりゅう",null,"あめうけざら"]
["009-1","メガカメックス","みず",null,79,103,120,135,115,78,"メガランチャー"]
["010-0","キャタピー","むし",null,45,30,35,20,20,45,"りんぷん",null,"にげあし"]
["011-0","トランセル","むし",null,50,20,55,25,25,30,"だっぴ",null,"だっぴ"]
["012-0","バタフリー","むし","ひこう",60,45,50,90,80,70,"ふくがん",null,"いろめがね"]
["013-0","ビードル","むし","どく",40,35,30,20,20,50,"りんぷん",null,"にげあし"]
["014-0","コクーン","むし","どく",45,25,50,25,25,35,"だっぴ",null,"だっぴ"]
["015-0","スピアー","むし","どく",65,90,40,45,80,75,"むしのしらせ",null,"スナイパー"]
["015-1","メガスピアー","むし","どく",65,150,40,15,80,145,"てきおうりょく"]
["016-0","ポッポ","ノーマル","ひこう",40,45,40,35,35,56,"するどいめ","ちどりあし","はとむね"]
["017-0","ピジョン","ノーマル","ひこう",63,60,55,50,50,71,"するどいめ","ちどりあし","はとむね"]
["018-0","ピジョット","ノーマル","ひこう",83,80,75,70,70,101,"するどいめ","ちどりあし","はとむね"]
["018-1","メガピジョット","ノーマル","ひこう",83,80,80,135,80,121,"ノーガード"]
["019-0","コラッタ","ノーマル",null,30,56,35,25,35,72,"にげあし","こんじょう","はりきり"]
["019-1","コラッタ（アローラのすがた）","あく","ノーマル",30,56,35,25,35,72,"くいしんぼう ","はりきり","あついしぼう"]
["020-0","ラッタ","ノーマル",null,55,81,60,50,70,97,"にげあし","こんじょう","はりきり"]
["020-1","ラッタ（アローラのすがた）","あく","ノーマル",75,71,70,40,80,77,"くいしんぼう ","はりきり","あついしぼう"]
["021-0","オニスズメ","ひこう","ノーマル",40,60,30,31,31,70,"するどいめ",null,"スナイパー"]
["022-0","オニドリル","ひこう","ノーマル",65,90,65,61,61,100,"するどいめ",null,"スナイパー"]
["023-0","アーボ","どく",null,35,60,44,40,54,55,"いかく","だっぴ","きんちょうかん"]
["024-0","アーボック","どく",null,60,95,69,65,79,80,"いかく","だっぴ","きんちょうかん"]
["025-0","ピカチュウ","でんき",null,35,55,40,50,50,90,"せいでんき",null,"ひらいしん"]
["026-0","ライチュウ","でんき",null,60,90,55,90,80,110,"せいでんき",null,"ひらいしん"]
["026-1","ライチュウ（アローラのすがた）","でんき","エスパー",60,85,50,95,85,110,"サーフテール"]
["027-0","サンド","じめん",null,50,75,85,20,30,40,"すながくれ",null,"すなかき"]
["027-1","サンド（アローラのすがた）","こおり","はがね",50,75,90,10,35,40,"ゆきがくれ",null,"ゆきかき"]
["028-0","サンドパン","じめん",null,75,100,110,45,55,65,"すながくれ",null,"すなかき"]
["028-1","サンドパン（アローラのすがた）","こおり","はがね",75,100,120,25,65,65,"ゆきがくれ",null,"ゆきかき"]
["029-0","ニドラン♀","どく",null,55,47,52,40,40,41,"どくのトゲ","とうそうしん","はりきり"]
["030-0","ニドリーナ","どく",null,70,62,67,55,55,56,"どくのトゲ","とうそうしん","はりきり"]
["031-0","ニドクイン","どく","じめん",90,92,87,75,85,76,"どくのトゲ","とうそうしん","ちからずく"]
["032-0","ニドラン♂","どく",null,46,57,40,40,40,50,"どくのトゲ","とうそうしん","はりきり"]
["033-0","ニドリーノ","どく",null,61,72,57,55,55,65,"どくのトゲ","とうそうしん","はりきり"]
["034-0","ニドキング","どく","じめん",81,102,77,85,75,85,"どくのトゲ","とうそうしん","ちからずく"]
["035-0","ピッピ","フェアリー",null,70,45,48,60,65,35,"メロメロボディ","マジックガード","フレンドガード"]
["036-0","ピクシー","フェアリー",null,95,70,73,95,90,60,"メロメロボディ","マジックガード","てんねん"]
["037-0","ロコン","ほのお",null,38,41,40,50,65,65,"もらいび",null,"ひでり"]
["037-1","ロコン（アローラのすがた）","こおり",null,38,41,40,50,65,65,"ゆきがくれ",null,"ゆきふらし"]
["038-0","キュウコン","ほのお",null,73,76,75,81,100,100,"もらいび",null,"ひでり"]
["038-1","キュウコン（アローラのすがた）","こおり","フェアリー",73,67,75,81,100,109,"ゆきがくれ",null,"ゆきふらし"]
["039-0","プリン","ノーマル","フェアリー",115,45,20,45,25,20,"メロメロボディ","かちき","フレンドガード"]
["040-0","プクリン","ノーマル","フェアリー",140,70,45,85,50,45,"メロメロボディ","かちき","おみとおし"]
["041-0","ズバット","どく","ひこう",40,45,35,30,40,55,"せいしんりょく",null,"すりぬけ"]
["042-0","ゴルバット","どく","ひこう",75,80,70,65,75,90,"せいしんりょく",null,"すりぬけ"]
["043-0","ナゾノクサ","くさ","どく",45,50,55,75,65,30,"ようりょくそ",null,"にげあし"]
["044-0","クサイハナ","くさ","どく",60,65,70,85,75,40,"ようりょくそ",null,"あくしゅう"]
["045-0","ラフレシア","くさ","どく",75,80,85,110,90,50,"ようりょくそ",null,"ほうし"]
["046-0","パラス","むし","くさ",35,70,55,45,55,25,"ほうし","かんそうはだ","しめりけ"]
["047-0","パラセクト","むし","くさ",60,95,80,60,80,30,"ほうし","かんそうはだ","しめりけ"]
["048-0","コンパン","むし","どく",60,55,50,40,55,45,"ふくがん","いろめがね","にげあし"]
["049-0","モルフォン","むし","どく",70,65,60,90,75,90,"りんぷん","いろめがね","ミラクルスキン"]
["050-0","ディグダ","じめん",null,10,55,25,35,45,95,"すながくれ","ありじごく","すなのちから"]
["050-1","ディグダ（アローラのすがた）","じめん","はがね",10,55,30,35,45,90,"すながくれ ","カーリーヘアー ","すなのちから"]
["051-0","ダグトリオ","じめん",null,35,100,50,50,70,120,"すながくれ","ありじごく","すなのちから"]
["051-1","ダグトリオ（アローラのすがた）","じめん","はがね",35,100,60,50,70,110,"すながくれ ","カーリーヘアー ","すなのちから"]
["052-0","ニャース","ノーマル",null,40,45,35,40,40,90,"ものひろい","テクニシャン","きんちょうかん"]
["052-1","ニャース（アローラのすがた）","あく",null,40,35,35,50,40,90,"ものひろい ","テクニシャン","びびり"]
["053-0","ペルシアン","ノーマル",null,65,70,60,65,65,115,"じゅうなん","テクニシャン","きんちょうかん"]
["053-1","ペルシアン（アローラのすがた）","あく",null,65,60,60,75,65,115,"ファーコート ","テクニシャン","びびり"]
["054-0","コダック","みず",null,50,52,48,65,50,55,"しめりけ","ノーてんき","すいすい"]
["055-0","ゴルダック","みず",null,80,82,78,95,80,85,"しめりけ","ノーてんき","すいすい"]
["056-0","マンキー","かくとう",null,40,80,35,35,45,70,"やるき","いかりのつぼ","まけんき"]
["057-0","オコリザル","かくとう",null,65,105,60,60,70,95,"やるき","いかりのつぼ","まけんき"]
["058-0","ガーディ","ほのお",null,55,70,45,70,50,60,"いかく","もらいび","せいぎのこころ"]
["059-0","ウィンディ","ほのお",null,90,110,80,100,80,95,"いかく","もらいび","せいぎのこころ"]
["060-0","ニョロモ","みず",null,40,50,40,40,40,90,"ちょすい","しめりけ","すいすい"]
["061-0","ニョロゾ","みず",null,65,65,65,50,50,90,"ちょすい","しめりけ","すいすい"]
["062-0","ニョロボン","みず","かくとう",90,95,95,70,90,70,"ちょすい","しめりけ","すいすい"]
["063-0","ケーシィ","エスパー",null,25,20,15,105,55,90,"シンクロ","せいしんりょく","マジックガード"]
["064-0","ユンゲラー","エスパー",null,40,35,30,120,70,105,"シンクロ","せいしんりょく","マジックガード"]
["065-0","フーディン","エスパー",null,55,50,45,135,95,120,"シンクロ","せいしんりょく","マジックガード"]
["065-1","メガフーディン","エスパー",null,55,50,65,175,95,150,"トレース"]
["066-0","ワンリキー","かくとう",null,70,80,50,35,35,35,"こんじょう","ノーガード","ふくつのこころ"]
["067-0","ゴーリキー","かくとう",null,80,100,70,50,60,45,"こんじょう","ノーガード","ふくつのこころ"]
["068-0","カイリキー","かくとう",null,90,130,80,65,85,55,"こんじょう","ノーガード","ふくつのこころ"]
["069-0","マダツボミ","くさ","どく",50,75,35,70,30,40,"ようりょくそ",null,"くいしんぼう"]
["070-0","ウツドン","くさ","どく",65,90,50,85,45,55,"ようりょくそ",null,"くいしんぼう"]
["071-0","ウツボット","くさ","どく",80,105,65,100,70,70,"ようりょくそ",null,"くいしんぼう"]
["072-0","メノクラゲ","みず","どく",40,40,35,50,100,70,"クリアボディ","ヘドロえき","あめうけざら"]
["073-0","ドククラゲ","みず","どく",80,70,65,80,120,100,"クリアボディ","ヘドロえき","あめうけざら"]
["074-0","イシツブテ","いわ","じめん",40,80,100,30,30,20,"いしあたま","がんじょう","すながくれ"]
["074-1","イシツブテ（アローラのすがた）","いわ","でんき",40,80,100,30,30,20,"じりょく ","がんじょう ","エレキスキン"]
["075-0","ゴローン","いわ","じめん",55,95,115,45,45,35,"いしあたま","がんじょう","すながくれ"]
["075-1","ゴローン（アローラのすがた）","いわ","でんき",55,95,115,45,45,35,"じりょく ","がんじょう ","エレキスキン"]
["076-0","ゴローニャ","いわ","じめん",80,120,130,55,65,45,"いしあたま","がんじょう","すながくれ"]
["076-1","ゴローニャ（アローラのすがた）","いわ","でんき",80,120,130,55,65,45,"じりょく ","がんじょう ","エレキスキン"]
["077-0","ポニータ","ほのお",null,50,85,55,65,65,90,"にげあし","もらいび","ほのおのからだ"]
["078-0","ギャロップ","ほのお",null,65,100,70,80,80,105,"にげあし","もらいび","ほのおのからだ"]
["079-0","ヤドン","みず","エスパー",90,65,65,40,40,15,"どんかん","マイペース","さいせいりょく"]
["080-0","ヤドラン","みず","エスパー",95,75,110,100,80,30,"どんかん","マイペース","さいせいりょく"]
["080-1","メガヤドラン","みず","エスパー",95,75,180,130,80,30,"シェルアーマー"]
["081-0","コイル","でんき","はがね",25,35,70,95,55,45,"じりょく","がんじょう","アナライズ"]
["082-0","レアコイル","でんき","はがね",50,60,95,120,70,70,"じりょく","がんじょう","アナライズ"]
["083-0","カモネギ","ノーマル","ひこう",52,90,55,58,62,60,"するどいめ","せいしんりょく","まけんき"]
["084-0","ドードー","ノーマル","ひこう",35,85,45,35,35,75,"にげあし","はやおき","ちどりあし"]
["085-0","ドードリオ","ノーマル","ひこう",60,110,70,60,60,110,"にげあし","はやおき","ちどりあし"]
["086-0","パウワウ","みず",null,65,45,55,45,70,45,"あついしぼう","うるおいボディ","アイスボディ"]
["087-0","ジュゴン","みず","こおり",90,70,80,70,95,70,"あついしぼう","うるおいボディ","アイスボディ"]
["088-0","ベトベター","どく",null,80,80,50,40,50,25,"あくしゅう","ねんちゃく","どくしゅ"]
["088-1","ベトベター（アローラのすがた）","どく","あく",80,80,50,40,50,25,"どくしゅ ","くいしんぼう","かがくのちから"]
["089-0","ベトベトン","どく",null,105,105,75,65,100,50,"あくしゅう","ねんちゃく","どくしゅ"]
["089-1","ベトベトン（アローラのすがた）","どく","あく",105,105,75,65,100,50,"どくしゅ ","くいしんぼう","かがくのちから"]
["090-0","シェルダー","みず",null,30,65,100,45,25,40,"シェルアーマー","スキルリンク","ぼうじん"]
["091-0","パルシェン","みず","こおり",50,95,180,85,45,70,"シェルアーマー","スキルリンク","ぼうじん"]
["092-0","ゴース","ゴースト","どく",30,35,30,100,35,80,"ふゆう"]
["093-0","ゴースト","ゴースト","どく",45,50,45,115,55,95,"ふゆう"]
["094-0","ゲンガー","ゴースト","どく",60,65,60,130,75,110,"のろわれボディ"]
["094-1","メガゲンガー","ゴースト","どく",60,65,80,170,95,130,"かげふみ"]
["095-0","イワーク","いわ","じめん",35,45,160,30,45,70,"いしあたま","がんじょう","くだけるよろい"]
["096-0","スリープ","エスパー",null,60,48,45,43,90,42,"ふみん","よちむ","せいしんりょく"]
["097-0","スリーパー","エスパー",null,85,73,70,73,115,67,"ふみん","よちむ","せいしんりょく"]
["098-0","クラブ","みず",null,30,105,90,25,25,50,"かいりきバサミ","シェルアーマー","ちからずく"]
["099-0","キングラー","みず",null,55,130,115,50,50,75,"かいりきバサミ","シェルアーマー","ちからずく"]
["100-0","ビリリダマ","でんき",null,40,30,50,55,55,100,"ぼうおん","せいでんき","ゆうばく"]
["101-0","マルマイン","でんき",null,60,50,70,80,80,150,"ぼうおん","せいでんき","ゆうばく"]
["102-0","タマタマ","くさ","エスパー",60,40,80,60,45,40,"ようりょくそ",null,"しゅうかく"]
["103-0","ナッシー","くさ","エスパー",95,95,85,125,75,55,"ようりょくそ",null,"しゅうかく"]
["103-1","ナッシー（アローラのすがた）","くさ","ドラゴン",95,105,85,125,75,45,"おみとおし",null,"しゅうかく"]
["104-0","カラカラ","じめん",null,50,50,95,40,50,35,"いしあたま","ひらいしん","カブトアーマー"]
["105-0","ガラガラ","じめん",null,60,80,110,50,80,45,"いしあたま","ひらいしん","カブトアーマー"]
["105-1","ガラガラ（アローラのすがた）","ほのお","ゴースト",60,80,110,50,80,45,"のろわれボディ ","ひらいしん","いしあたま"]
["106-0","サワムラー","かくとう",null,50,120,53,35,110,87,"じゅうなん","すてみ","かるわざ"]
["107-0","エビワラー","かくとう",null,50,105,79,35,110,76,"するどいめ","てつのこぶし","せいしんりょく"]
["108-0","ベロリンガ","ノーマル",null,90,55,75,60,75,30,"マイペース","どんかん","ノーてんき"]
["109-0","ドガース","どく",null,40,65,95,60,45,35,"ふゆう"]
["110-0","マタドガス","どく",null,65,90,120,85,70,60,"ふゆう"]
["111-0","サイホーン","じめん","いわ",80,85,95,30,30,25,"ひらいしん","いしあたま","すてみ"]
["112-0","サイドン","じめん","いわ",105,130,120,45,45,40,"ひらいしん","いしあたま","すてみ"]
["113-0","ラッキー","ノーマル",null,250,5,5,35,105,50,"しぜんかいふく","てんのめぐみ","いやしのこころ"]
["114-0","モンジャラ","くさ",null,65,55,115,100,40,60,"ようりょくそ","リーフガード","さいせいりょく"]
["115-0","ガルーラ","ノーマル",null,105,95,80,40,80,90,"はやおき","きもったま","せいしんりょく"]
["115-1","メガガルーラ","ノーマル",null,105,125,100,60,100,100,"おやこあい"]
["116-0","タッツー","みず",null,30,40,70,70,25,60,"すいすい","スナイパー","しめりけ"]
["117-0","シードラ","みず",null,55,65,95,95,45,85,"どくのトゲ","スナイパー","しめりけ"]
["118-0","トサキント","みず",null,45,67,60,35,50,63,"すいすい","みずのベール","ひらいしん"]
["119-0","アズマオウ","みず",null,80,92,65,65,80,68,"すいすい","みずのベール","ひらいしん"]
["120-0","ヒトデマン","みず",null,30,45,55,70,55,85,"はっこう","しぜんかいふく","アナライズ"]
["121-0","スターミー","みず","エスパー",60,75,85,100,85,115,"はっこう","しぜんかいふく","アナライズ"]
["122-0","バリヤード","エスパー","フェアリー",40,45,65,100,120,90,"ぼうおん","フィルター","テクニシャン"]
["123-0","ストライク","むし","はがね",70,110,80,55,80,105,"むしのしらせ","テクニシャン","ふくつのこころ"]
["124-0","ルージュラ","こおり","エスパー",65,50,35,115,95,95,"どんかん","よちむ","かんそうはだ"]
["125-0","エレブー","でんき",null,65,83,57,95,85,105,"せいでんき",null,"やるき"]
["126-0","ブーバー","ほのお",null,65,95,57,100,85,93,"ほのおのからだ",null,"やるき"]
["127-0","カイロス","むし",null,65,125,100,55,70,85,"かいりきバサミ","かたやぶり","じしんかじょう"]
["127-1","メガカイロス","むし","ひこう",65,155,120,65,90,105,"スカイスキン"]
["128-0","ケンタロス","ノーマル",null,75,100,95,40,70,110,"いかく","いかりのつぼ","ちからずく"]
["129-0","コイキング","みず",null,20,10,55,15,20,80,"すいすい",null,"びびり"]
["130-0","ギャラドス","みず","ひこう",95,125,79,60,100,81,"いかく",null,"じしんかじょう"]
["130-1","メガギャラドス","みず","あく",95,155,109,70,130,81,"かたやぶり"]
["131-0","ラプラス","みず","こおり",130,85,80,85,95,60,"ちょすい","シェルアーマー","うるおいボディ"]
["132-0","メタモン","ノーマル",null,48,48,48,48,48,48,"じゅうなん",null,"かわりもの"]
["133-0","イーブイ","ノーマル",null,55,55,50,45,65,55,"にげあし","てきおうりょく","きけんよち"]
["134-0","シャワーズ","みず",null,130,65,60,110,95,65,"ちょすい",null,"うるおいボディ"]
["135-0","サンダース","でんき",null,65,65,60,110,95,130,"ちくでん",null,"はやあし"]
["136-0","ブースター","ほのお",null,65,130,60,95,110,65,"もらいび",null,"こんじょう"]
["137-0","ポリゴン","ノーマル",null,65,60,70,85,75,40,"トレース","ダウンロード","アナライズ"]
["138-0","オムナイト","いわ","みず",35,40,100,90,55,35,"すいすい","シェルアーマー","くだけるよろい"]
["139-0","オムスター","いわ","みず",70,60,125,115,70,55,"すいすい","シェルアーマー","くだけるよろい"]
["140-0","カブト","いわ","みず",30,80,90,55,45,55,"すいすい","カブトアーマー","くだけるよろい"]
["141-0","カブトプス","いわ","みず",60,115,105,65,70,80,"すいすい","カブトアーマー","くだけるよろい"]
["142-0","プテラ","いわ","ひこう",80,105,65,60,75,130,"いしあたま","プレッシャー","きんちょうかん"]
["142-1","メガプテラ","いわ","ひこう",80,135,85,70,95,150,"かたいツメ"]
["143-0","カビゴン","ノーマル",null,160,110,65,65,110,30,"めんえき","あついしぼう","くいしんぼう"]
["144-0","フリーザー","こおり","ひこう",90,85,100,95,125,85,"プレッシャー",null,"ゆきがくれ"]
["145-0","サンダー","でんき","ひこう",90,90,85,125,90,100,"プレッシャー",null,"せいでんき"]
["146-0","ファイヤー","ほのお","ひこう",90,100,90,125,85,90,"プレッシャー",null,"ほのおのからだ"]
["147-0","ミニリュウ","ドラゴン",null,41,64,45,50,50,50,"だっぴ",null,"ふしぎなうろこ"]
["148-0","ハクリュー","ドラゴン",null,61,84,65,70,70,70,"だっぴ",null,"ふしぎなうろこ"]
["149-0","カイリュー","ドラゴン","ひこう",91,134,95,100,100,80,"せいしんりょく",null,"マルチスケイル"]
["150-0","ミュウツー","エスパー",null,106,110,90,154,90,130,"プレッシャー",null,"きんちょうかん"]
["150-1","メガミュウツーX","エスパー","かくとう",106,190,100,154,100,130,"ふくつのこころ"]
["150-1","メガミュウツーY","エスパー",null,106,150,70,194,120,140,"ふみん"]
["151-0","ミュウ","エスパー",null,100,100,100,100,100,100,"シンクロ"]
["152-0","チコリータ","くさ",null,45,49,65,49,65,45,"しんりょく",null,"リーフガード"]
["153-0","ベイリーフ","くさ",null,60,62,80,63,80,60,"しんりょく",null,"リーフガード"]
["154-0","メガニウム","くさ",null,80,82,100,83,100,80,"しんりょく",null,"リーフガード"]
["155-0","ヒノアラシ","ほのお",null,39,52,43,60,50,65,"もうか",null,"もらいび"]
["156-0","マグマラシ","ほのお",null,58,64,58,80,65,80,"もうか",null,"もらいび"]
["157-0","バクフーン","ほのお",null,78,84,78,109,85,100,"もうか",null,"もらいび"]
["158-0","ワニノコ","みず",null,50,65,64,44,48,43,"げきりゅう",null,"ちからずく"]
["159-0","アリゲイツ","みず",null,65,80,80,59,63,58,"げきりゅう",null,"ちからずく"]
["160-0","オーダイル","みず",null,85,105,100,79,83,78,"げきりゅう",null,"ちからずく"]
["161-0","オタチ","ノーマル",null,35,46,34,35,45,20,"にげあし","するどいめ","おみとおし"]
["162-0","オオタチ","ノーマル",null,85,76,64,45,55,90,"にげあし","するどいめ","おみとおし"]
["163-0","ホーホー","ノーマル","ひこう",60,30,30,36,56,50,"ふみん","するどいめ","いろめがね"]
["164-0","ヨルノズク","ノーマル","ひこう",100,50,50,86,96,70,"ふみん","するどいめ","いろめがね"]
["165-0","レディバ","むし","ひこう",40,20,30,40,80,55,"むしのしらせ","はやおき","びびり"]
["166-0","レディアン","むし","ひこう",55,35,50,55,110,85,"むしのしらせ","はやおき","てつのこぶし"]
["167-0","イトマル","むし","どく",40,60,40,40,40,30,"むしのしらせ","ふみん","スナイパー"]
["168-0","アリアドス","むし","どく",70,90,70,60,70,40,"むしのしらせ","ふみん","スナイパー"]
["169-0","クロバット","どく","ひこう",85,90,80,70,80,130,"せいしんりょく",null,"すりぬけ"]
["170-0","チョンチー","みず","でんき",75,38,38,56,56,67,"ちくでん","はっこう","ちょすい"]
["171-0","ランターン","みず","でんき",125,58,58,76,76,67,"ちくでん","はっこう","ちょすい"]
["172-0","ピチュー","でんき",null,20,40,15,35,35,60,"せいでんき",null,"ひらいしん"]
["173-0","ピィ","フェアリー",null,50,25,28,45,55,15,"メロメロボディ","マジックガード","フレンドガード"]
["174-0","ププリン","ノーマル","フェアリー",90,30,15,40,20,15,"メロメロボディ","かちき","フレンドガード"]
["175-0","トゲピー","フェアリー",null,35,20,65,40,65,20,"はりきり","てんのめぐみ","きょううん"]
["176-0","トゲチック","フェアリー","ひこう",55,40,85,80,105,40,"はりきり","てんのめぐみ","きょううん"]
["177-0","ネイティ","エスパー","ひこう",40,50,45,70,45,70,"シンクロ","はやおき","マジックミラー"]
["178-0","ネイティオ","エスパー","ひこう",65,75,70,95,70,95,"シンクロ","はやおき","マジックミラー"]
["179-0","メリープ","でんき",null,55,40,40,65,45,35,"せいでんき",null,"プラス"]
["180-0","モココ","でんき",null,70,55,55,80,60,45,"せいでんき",null,"プラス"]
["181-0","デンリュウ","でんき",null,90,75,85,115,90,55,"せいでんき",null,"プラス"]
["181-1","メガデンリュウ","でんき",null,90,95,105,165,110,45,"かたやぶり"]
["182-0","キレイハナ","くさ",null,75,80,95,90,100,50,"ようりょくそ",null,"いやしのこころ"]
["183-0","マリル","みず","フェアリー",70,20,50,20,50,40,"あついしぼう","ちからもち","そうしょく"]
["184-0","マリルリ","みず","フェアリー",100,50,80,60,80,50,"あついしぼう","ちからもち","そうしょく"]
["185-0","ウソッキー","いわ",null,70,100,115,30,65,30,"がんじょう","いしあたま","びびり"]
["186-0","ニョロトノ","みず",null,90,75,75,90,100,70,"ちょすい","しめりけ","あめふらし"]
["187-0","ハネッコ","くさ","ひこう",35,35,40,35,55,50,"ようりょくそ","リーフガード","すりぬけ"]
["188-0","ポポッコ","くさ","ひこう",55,45,50,45,65,80,"ようりょくそ","リーフガード","すりぬけ"]
["189-0","ワタッコ","くさ","ひこう",75,55,70,55,95,110,"ようりょくそ","リーフガード","すりぬけ"]
["190-0","エイパム","ノーマル",null,55,70,55,40,55,85,"にげあし","ものひろい","スキルリンク"]
["191-0","ヒマナッツ","くさ",null,30,30,30,30,30,30,"ようりょくそ","サンパワー","はやおき"]
["192-0","キマワリ","くさ",null,75,75,55,105,85,30,"ようりょくそ","サンパワー","はやおき"]
["193-0","ヤンヤンマ","むし","ひこう",65,65,45,75,45,95,"かそく","ふくがん","おみとおし"]
["194-0","ウパー","みず","じめん",55,45,45,25,25,15,"しめりけ","ちょすい","てんねん"]
["195-0","ヌオー","みず","じめん",95,85,85,65,65,35,"しめりけ","ちょすい","てんねん"]
["196-0","エーフィ","エスパー",null,65,65,60,130,95,110,"シンクロ",null,"マジックミラー"]
["197-0","ブラッキー","あく",null,95,65,110,60,130,65,"シンクロ",null,"せいしんりょく"]
["198-0","ヤミカラス","あく","ひこう",60,85,42,85,42,91,"ふみん","きょううん","いたずらごころ"]
["199-0","ヤドキング","みず","エスパー",95,75,80,100,110,30,"どんかん","マイペース","さいせいりょく"]
["200-0","ムウマ","ゴースト",null,60,60,60,85,85,85,"ふゆう"]
["201-0","アンノーン","エスパー",null,48,72,48,72,48,48,"ふゆう"]
["202-0","ソーナンス","エスパー",null,190,33,58,33,58,33,"かげふみ",null,"テレパシー"]
["203-0","キリンリキ","ノーマル","エスパー",70,80,65,90,65,85,"せいしんりょく","はやおき","そうしょく"]
["204-0","クヌギダマ","むし",null,50,65,90,35,35,15,"がんじょう",null,"ぼうじん"]
["205-0","フォレトス","むし","はがね",75,90,140,60,60,40,"がんじょう",null,"ぼうじん"]
["206-0","ノコッチ","ノーマル",null,100,70,70,65,65,45,"てんのめぐみ","にげあし","びびり"]
["207-0","グライガー","じめん","ひこう",65,75,105,35,65,85,"かいりきバサミ","すながくれ","めんえき"]
["208-0","ハガネール","はがね","じめん",75,85,200,55,65,30,"いしあたま","がんじょう","ちからずく"]
["208-1","メガハガネール","はがね","じめん",75,125,230,55,95,30,"すなのちから"]
["209-0","ブルー","フェアリー",null,60,80,50,40,40,30,"いかく","にげあし","びびり"]
["210-0","グランブル","フェアリー",null,90,120,75,60,60,45,"いかく","はやあし","びびり"]
["211-0","ハリーセン","みず","どく",65,95,85,55,55,85,"どくのトゲ","すいすい","いかく"]
["212-0","ハッサム","むし","はがね",70,130,100,55,80,65,"むしのしらせ","テクニシャン","ライトメタル"]
["212-1","メガハッサム","むし","はがね",70,150,140,65,100,75,"テクニシャン"]
["213-0","ツボツボ","いわ","むし",20,10,230,10,230,5,"がんじょう","くいしんぼう","あまのじゃく"]
["214-0","ヘラクロス","むし","かくとう",80,125,75,40,95,85,"むしのしらせ","こんじょう","じしんかじょう"]
["214-1","メガヘラクロス","むし","かくとう",80,185,115,40,105,75,"スキルリンク"]
["215-0","ニューラ","あく","こおり",55,95,55,35,75,115,"せいしんりょく","するどいめ","わるいてぐせ"]
["216-0","ヒメグマ","ノーマル",null,60,80,50,50,50,40,"ものひろい","はやあし","みつあつめ"]
["217-0","リングマ","ノーマル",null,90,130,75,75,75,55,"こんじょう","はやあし","きんちょうかん"]
["218-0","マグマッグ","ほのお",null,40,40,40,70,40,20,"マグマのよろい","ほのおのからだ","くだけるよろい"]
["219-0","マグカルゴ","ほのお","いわ",60,50,120,90,80,30,"マグマのよろい","ほのおのからだ","くだけるよろい"]
["220-0","ウリムー","こおり","じめん",50,50,40,30,30,50,"どんかん","ゆきがくれ","あついしぼう"]
["221-0","イノムー","こおり","じめん",100,100,80,60,60,50,"どんかん","ゆきがくれ","あついしぼう"]
["222-0","サニーゴ","みず","いわ",65,55,95,65,95,35,"はりきり","しぜんかいふく","さいせいりょく"]
["223-0","テッポウオ","みず",null,35,65,35,65,35,65,"はりきり","スナイパー","ムラっけ"]
["224-0","オクタン","みず",null,75,105,75,105,75,45,"きゅうばん","スナイパー","ムラっけ"]
["225-0","デリバード","こおり","ひこう",45,55,45,65,45,75,"やるき","はりきり","ふみん"]
["226-0","マンタイン","みず","ひこう",85,40,70,80,140,70,"すいすい","ちょすい","みずのベール"]
["227-0","エアームド","はがね","ひこう",65,80,140,40,70,70,"するどいめ","がんじょう","くだけるよろい"]
["228-0","デルビル","あく","ほのお",45,60,30,80,50,65,"はやおき","もらいび","きんちょうかん"]
["229-0","ヘルガー","あく","ほのお",75,90,50,110,80,95,"はやおき","もらいび","きんちょうかん"]
["229-1","メガヘルガー","あく","ほのお",75,90,90,140,90,115,"サンパワー"]
["230-0","キングドラ","みず","ドラゴン",75,95,95,95,95,85,"すいすい","スナイパー","しめりけ"]
["231-0","ゴマゾウ","じめん",null,90,60,60,40,40,40,"ものひろい",null,"すながくれ"]
["232-0","ドンファン","じめん",null,90,120,120,60,60,50,"がんじょう",null,"すながくれ"]
["233-0","ポリゴン２","ノーマル",null,85,80,90,105,95,60,"トレース","ダウンロード","アナライズ"]
["234-0","オドシシ","ノーマル",null,73,95,62,85,65,85,"いかく","おみとおし","そうしょく"]
["235-0","ドーブル","ノーマル",null,55,20,35,20,45,75,"マイペース","テクニシャン","ムラっけ"]
["236-0","バルキー","かくとう",null,35,35,35,35,35,35,"こんじょう","ふくつのこころ","やるき"]
["237-0","カポエラー","かくとう",null,50,95,95,35,110,70,"いかく","テクニシャン","ふくつのこころ"]
["238-0","ムチュール","こおり","エスパー",45,30,15,85,65,65,"どんかん","よちむ","うるおいボディ"]
["239-0","エレキッド","でんき",null,45,63,37,65,55,95,"せいでんき",null,"やるき"]
["240-0","ブビィ","ほのお",null,45,75,37,70,55,83,"ほのおのからだ",null,"やるき"]
["241-0","ミルタンク","ノーマル",null,95,80,105,40,70,100,"あついしぼう","きもったま","そうしょく"]
["242-0","ハピナス","ノーマル",null,255,10,10,75,135,55,"しぜんかいふく","てんのめぐみ","いやしのこころ"]
["243-0","ライコウ","でんき",null,90,85,75,115,100,115,"プレッシャー",null,"せいしんりょく"]
["244-0","エンテイ","ほのお",null,115,115,85,90,75,100,"プレッシャー",null,"せいしんりょく"]
["245-0","スイクン","みず",null,100,75,115,90,115,85,"プレッシャー",null,"せいしんりょく"]
["246-0","ヨーギラス","いわ","じめん",50,64,50,45,50,41,"こんじょう",null,"すながくれ"]
["247-0","サナギラス","いわ","じめん",70,84,70,65,70,51,"だっぴ",null,"だっぴ"]
["248-0","バンギラス","いわ","あく",100,134,110,95,100,61,"すなおこし",null,"きんちょうかん"]
["248-1","メガバンギラス","いわ","あく",100,164,150,95,120,71,"すなおこし"]
["249-0","ルギア","エスパー","ひこう",106,90,130,90,154,110,"プレッシャー",null,"マルチスケイル"]
["250-0","ホウオウ","ほのお","ひこう",106,130,90,110,154,90,"プレッシャー",null,"さいせいりょく"]
["251-0","セレビィ","エスパー","くさ",100,100,100,100,100,100,"しぜんかいふく"]
["252-0","キモリ","くさ",null,40,45,35,65,55,70,"しんりょく",null,"かるわざ"]
["253-0","ジュプトル","くさ",null,50,65,45,85,65,95,"しんりょく",null,"かるわざ"]
["254-0","ジュカイン","くさ",null,70,85,65,105,85,120,"しんりょく",null,"かるわざ"]
["254-1","メガジュカイン","くさ","ドラゴン",70,110,75,145,85,145,"ひらいしん"]
["255-0","アチャモ","ほのお",null,45,60,40,70,50,45,"もうか",null,"かそく"]
["256-0","ワカシャモ","ほのお","かくとう",60,85,60,85,60,55,"もうか",null,"かそく"]
["257-0","バシャーモ","ほのお","かくとう",80,120,70,110,70,80,"もうか",null,"かそく"]
["257-1","メガバシャーモ","ほのお","かくとう",80,160,80,130,80,100,"かそく"]
["258-0","ミズゴロウ","みず",null,50,70,50,50,50,40,"げきりゅう",null,"しめりけ"]
["259-0","ヌマクロー","みず","じめん",70,85,70,60,70,50,"げきりゅう",null,"しめりけ"]
["260-0","ラグラージ","みず","じめん",100,110,90,85,90,60,"げきりゅう",null,"しめりけ"]
["260-1","メガラグラージ","みず","じめん",100,150,110,95,110,70,"すいすい"]
["261-0","ポチエナ","あく",null,35,55,35,30,30,35,"にげあし","はやあし","びびり"]
["262-0","グラエナ","あく",null,70,90,70,60,60,70,"いかく","はやあし","じしんかじょう"]
["263-0","ジグザグマ","ノーマル",null,38,30,41,30,41,60,"ものひろい","くいしんぼう","はやあし"]
["264-0","マッスグマ","ノーマル",null,78,70,61,50,61,100,"ものひろい","くいしんぼう","はやあし"]
["265-0","ケムッソ","むし",null,45,45,35,20,30,20,"りんぷん",null,"にげあし"]
["266-0","カラサリス","むし",null,50,35,55,25,25,15,"だっぴ",null,"だっぴ"]
["267-0","アゲハント","むし","ひこう",60,70,50,100,50,65,"むしのしらせ",null,"とうそうしん"]
["268-0","マユルド","むし",null,50,35,55,25,25,15,"だっぴ",null,"だっぴ"]
["269-0","ドクケイル","むし","どく",60,50,70,50,90,65,"りんぷん",null,"ふくがん"]
["270-0","ハスボー","みず","くさ",40,30,30,40,50,30,"すいすい","あめうけざら","マイペース"]
["271-0","ハスブレロ","みず","くさ",60,50,50,60,70,50,"すいすい","あめうけざら","マイペース"]
["272-0","ルンパッパ","みず","くさ",80,70,70,90,100,70,"すいすい","あめうけざら","マイペース"]
["273-0","タネボー","くさ",null,40,40,50,30,30,30,"ようりょくそ","はやおき","わるいてぐせ"]
["274-0","コノハナ","くさ","あく",70,70,40,60,40,60,"ようりょくそ","はやおき","わるいてぐせ"]
["275-0","ダーテング","くさ","あく",90,100,60,90,60,80,"ようりょくそ","はやおき","わるいてぐせ"]
["276-0","スバメ","ノーマル","ひこう",40,55,30,30,30,85,"こんじょう",null,"きもったま"]
["277-0","オオスバメ","ノーマル","ひこう",60,85,60,75,50,125,"こんじょう",null,"きもったま"]
["278-0","キャモメ","みず","ひこう",40,30,30,55,30,85,"するどいめ","うるおいボディ","あめうけざら"]
["279-0","ペリッパー","みず","ひこう",60,50,100,95,70,65,"するどいめ","あめふらし","あめうけざら"]
["280-0","ラルトス","エスパー","フェアリー",28,25,25,45,35,40,"シンクロ","トレース","テレパシー"]
["281-0","キルリア","エスパー","フェアリー",38,35,35,65,55,50,"シンクロ","トレース","テレパシー"]
["282-0","サーナイト","エスパー","フェアリー",68,65,65,125,115,80,"シンクロ","トレース","テレパシー"]
["282-1","メガサーナイト","エスパー","フェアリー",68,85,65,165,135,100,"フェアリースキン"]
["283-0","アメタマ","むし","みず",40,30,32,50,52,65,"すいすい",null,"あめうけざら"]
["284-0","アメモース","むし","ひこう",70,60,62,100,82,80,"いかく",null,"きんちょうかん"]
["285-0","キノココ","くさ",null,60,40,60,40,60,35,"ほうし","ポイズンヒール","はやあし"]
["286-0","キノガッサ","くさ","かくとう",60,130,80,60,60,70,"ほうし","ポイズンヒール","テクニシャン"]
["287-0","ナマケロ","ノーマル",null,60,60,60,35,35,30,"なまけ"]
["288-0","ヤルキモノ","ノーマル",null,80,80,80,55,55,90,"やるき"]
["289-0","ケッキング","ノーマル",null,150,160,100,95,65,100,"なまけ"]
["290-0","ツチニン","むし","じめん",31,45,90,30,30,40,"ふくがん","にげあし"]
["291-0","テッカニン","むし","ひこう",61,90,45,50,50,160,"かそく","すりぬけ"]
["292-0","ヌケニン","むし","ゴースト",1,90,45,30,30,40,"ふしぎなまもり"]
["293-0","ゴニョニョ","ノーマル",null,64,51,23,51,23,28,"ぼうおん",null,"びびり"]
["294-0","ドゴーム","ノーマル",null,84,71,43,71,43,48,"ぼうおん",null,"きもったま"]
["295-0","バグオング","ノーマル",null,104,91,63,91,73,68,"ぼうおん",null,"きもったま"]
["296-0","マクノシタ","かくとう",null,72,60,30,20,30,25,"あついしぼう","こんじょう","ちからずく"]
["297-0","ハリテヤマ","かくとう",null,144,120,60,40,60,50,"あついしぼう","こんじょう","ちからずく"]
["298-0","ルリリ","ノーマル","フェアリー",50,20,40,20,40,20,"あついしぼう","ちからもち","そうしょく"]
["299-0","ノズパス","いわ",null,30,45,135,45,90,30,"がんじょう","じりょく","すなのちから"]
["300-0","エネコ","ノーマル",null,50,45,45,35,35,50,"メロメロボディ","ノーマルスキン","ミラクルスキン"]
["301-0","エネコロロ","ノーマル",null,70,65,65,55,55,90,"メロメロボディ","ノーマルスキン","ミラクルスキン"]
["302-0","ヤミラミ","あく","ゴースト",50,75,75,65,65,50,"するどいめ","あとだし","いたずらごころ"]
["302-1","メガヤミラミ","あく","ゴースト",50,85,125,85,115,20,"マジックミラー"]
["303-0","クチート","はがね","フェアリー",50,85,85,55,55,50,"かいりきバサミ","いかく","ちからずく"]
["303-1","メガクチート","はがね","フェアリー",50,105,125,55,95,50,"ちからもち"]
["304-0","ココドラ","はがね","いわ",50,70,100,40,40,30,"がんじょう","いしあたま","ヘヴィメタル"]
["305-0","コドラ","はがね","いわ",60,90,140,50,50,40,"がんじょう","いしあたま","ヘヴィメタル"]
["306-0","ボスゴドラ","はがね","いわ",70,110,180,60,60,50,"がんじょう","いしあたま","ヘヴィメタル"]
["306-1","メガボスゴドラ","はがね",null,70,140,230,60,80,50,"フィルター"]
["307-0","アサナン","かくとう","エスパー",30,40,55,40,55,60,"ヨガパワー",null,"テレパシー"]
["308-0","チャーレム","かくとう","エスパー",60,60,75,60,75,80,"ヨガパワー",null,"テレパシー"]
["308-1","メガチャーレム","かくとう","エスパー",60,100,85,80,85,100,"ヨガパワー"]
["309-0","ラクライ","でんき",null,40,45,40,65,40,65,"せいでんき","ひらいしん","マイナス"]
["310-0","ライボルト","でんき",null,70,75,60,105,60,105,"せいでんき","ひらいしん","マイナス"]
["310-1","メガライボルト","でんき",null,70,75,80,135,80,135,"いかく"]
["311-0","プラスル","でんき",null,60,50,40,85,75,95,"プラス",null,"ひらいしん"]
["312-0","マイナン","でんき",null,60,40,50,75,85,95,"マイナス",null,"ちくでん"]
["313-0","バルビート","むし",null,65,73,75,47,85,85,"はっこう","むしのしらせ","いたずらごころ"]
["314-0","イルミーゼ","むし",null,65,47,75,73,85,85,"どんかん","いろめがね","いたずらごころ"]
["315-0","ロゼリア","くさ","どく",50,60,45,100,80,65,"しぜんかいふく","どくのトゲ","リーフガード"]
["316-0","ゴクリン","どく",null,70,43,53,43,53,40,"ヘドロえき","ねんちゃく","くいしんぼう"]
["317-0","マルノーム","どく",null,100,73,83,73,83,55,"ヘドロえき","ねんちゃく","くいしんぼう"]
["318-0","キバニア","みず","あく",45,90,20,65,20,65,"さめはだ",null,"かそく"]
["319-0","サメハダー","みず","あく",70,120,40,95,40,95,"さめはだ",null,"かそく"]
["319-1","メガサメハダー","みず","あく",70,140,70,110,65,105,"がんじょうあご"]
["320-0","ホエルコ","みず",null,130,70,35,70,35,60,"みずのベール","どんかん","プレッシャー"]
["321-0","ホエルオー","みず",null,170,90,45,90,45,60,"みずのベール","どんかん","プレッシャー"]
["322-0","ドンメル","ほのお","じめん",60,60,40,65,45,35,"どんかん","たんじゅん","マイペース"]
["323-0","バクーダ","ほのお","じめん",70,100,70,105,75,40,"マグマのよろい","ハードロック","いかりのつぼ"]
["323-1","メガバクーダ","ほのお","じめん",70,120,100,145,105,20,"ちからずく"]
["324-0","コータス","ほのお",null,70,85,140,85,70,20,"しろいけむり","ひでり","シェルアーマー"]
["325-0","バネブー","エスパー",null,60,25,35,70,80,60,"あついしぼう","マイペース","くいしんぼう"]
["326-0","ブーピッグ","エスパー",null,80,45,65,90,110,80,"あついしぼう","マイペース","くいしんぼう"]
["327-0","パッチール","ノーマル",null,60,60,60,60,60,60,"マイペース","ちどりあし","あまのじゃく"]
["328-0","ナックラー","じめん",null,45,100,45,45,45,10,"かいりきバサミ","ありじごく","ちからずく"]
["329-0","ビブラーバ","じめん","ドラゴン",50,70,50,50,50,70,"ふゆう",null,"ふゆう"]
["330-0","フライゴン","じめん","ドラゴン",80,100,80,80,80,100,"ふゆう",null,"ふゆう"]
["331-0","サボネア","くさ",null,50,85,40,85,40,35,"すながくれ",null,"ちょすい"]
["332-0","ノクタス","くさ","あく",70,115,60,115,60,55,"すながくれ",null,"ちょすい"]
["333-0","チルット","ノーマル","ひこう",45,40,60,40,75,50,"しぜんかいふく",null,"ノーてんき"]
["334-0","チルタリス","ドラゴン","ひこう",75,70,90,70,105,80,"しぜんかいふく",null,"ノーてんき"]
["334-1","メガチルタリス","ドラゴン","フェアリー",75,110,110,110,105,80,"フェアリースキン"]
["335-0","ザングース","ノーマル",null,73,115,60,60,60,90,"めんえき",null,"どくぼうそう"]
["336-0","ハブネーク","どく",null,73,100,60,100,60,65,"だっぴ",null,"すりぬけ"]
["337-0","ルナトーン","いわ","エスパー",90,55,65,95,85,70,"ふゆう"]
["338-0","ソルロック","いわ","エスパー",90,95,85,55,65,70,"ふゆう"]
["339-0","ドジョッチ","みず","じめん",50,48,43,46,41,60,"どんかん","きけんよち","うるおいボディ"]
["340-0","ナマズン","みず","じめん",110,78,73,76,71,60,"どんかん","きけんよち","うるおいボディ"]
["341-0","ヘイガニ","みず",null,43,80,65,50,35,35,"かいりきバサミ","シェルアーマー","てきおうりょく"]
["342-0","シザリガー","みず","あく",63,120,85,90,55,55,"かいりきバサミ","シェルアーマー","てきおうりょく"]
["343-0","ヤジロン","じめん","エスパー",40,40,55,40,70,55,"ふゆう"]
["344-0","ネンドール","じめん","エスパー",60,70,105,70,120,75,"ふゆう"]
["345-0","リリーラ","いわ","くさ",66,41,77,61,87,23,"きゅうばん",null,"よびみず"]
["346-0","ユレイドル","いわ","くさ",86,81,97,81,107,43,"きゅうばん",null,"よびみず"]
["347-0","アノプス","いわ","むし",45,95,50,40,50,75,"カブトアーマー",null,"すいすい"]
["348-0","アーマルド","いわ","むし",75,125,100,70,80,45,"カブトアーマー",null,"すいすい"]
["349-0","ヒンバス","みず",null,20,15,20,10,55,80,"すいすい","どんかん","てきおうりょく"]
["350-0","ミロカロス","みず",null,95,60,79,100,125,81,"ふしぎなうろこ","かちき","メロメロボディ"]
["351-0","ポワルン","ノーマル",null,70,70,70,70,70,70,"てんきや"]
["352-0","カクレオン","ノーマル",null,60,90,70,60,120,40,"へんしょく",null,"へんげんじざい"]
["353-0","カゲボウズ","ゴースト",null,44,75,35,63,33,45,"ふみん","おみとおし","のろわれボディ"]
["354-0","ジュペッタ","ゴースト",null,64,115,65,83,63,65,"ふみん","おみとおし","のろわれボディ"]
["354-1","メガジュペッタ","ゴースト",null,64,165,75,93,83,75,"いたずらごころ"]
["355-0","ヨマワル","ゴースト",null,20,40,90,30,90,25,"ふみん",null,"おみとおし"]
["356-0","サマヨール","ゴースト",null,40,70,130,60,130,25,"プレッシャー",null,"おみとおし"]
["357-0","トロピウス","くさ","ひこう",99,68,83,72,87,51,"ようりょくそ","サンパワー","しゅうかく"]
["358-0","チリーン","エスパー",null,75,50,80,95,90,65,"ふゆう"]
["359-0","アブソル","あく",null,65,130,60,75,60,75,"プレッシャー","きょううん","せいぎのこころ"]
["359-1","メガアブソル","あく",null,65,150,60,115,60,115,"マジックミラー"]
["360-0","ソーナノ","エスパー",null,95,23,48,23,48,23,"かげふみ",null,"テレパシー"]
["361-0","ユキワラシ","こおり",null,50,50,50,50,50,50,"せいしんりょく","アイスボディ","ムラっけ"]
["362-0","オニゴーリ","こおり",null,80,80,80,80,80,80,"せいしんりょく","アイスボディ","ムラっけ"]
["362-1","メガオニゴーリ","こおり",null,80,120,80,120,80,100,"フリーズスキン"]
["363-0","タマザラシ","こおり","みず",70,40,50,55,50,25,"あついしぼう","アイスボディ","どんかん"]
["364-0","トドグラー","こおり","みず",90,60,70,75,70,45,"あついしぼう","アイスボディ","どんかん"]
["365-0","トドゼルガ","こおり","みず",110,80,90,95,90,65,"あついしぼう","アイスボディ","どんかん"]
["366-0","パールル","みず",null,35,64,85,74,55,32,"シェルアーマー",null,"びびり"]
["367-0","ハンテール","みず",null,55,104,105,94,75,52,"すいすい",null,"みずのベール"]
["368-0","サクラビス","みず",null,55,84,105,114,75,52,"すいすい",null,"うるおいボディ"]
["369-0","ジーランス","みず","いわ",100,90,130,45,65,55,"すいすい","いしあたま","がんじょう"]
["370-0","ラブカス","みず",null,43,30,55,40,65,97,"すいすい",null,"うるおいボディ"]
["371-0","タツベイ","ドラゴン",null,45,75,60,40,30,50,"いしあたま",null,"ちからずく"]
["372-0","コモルー","ドラゴン",null,65,95,100,60,50,50,"いしあたま",null,"ぼうじん"]
["373-0","ボーマンダ","ドラゴン","ひこう",95,135,80,110,80,100,"いかく",null,"じしんかじょう"]
["373-1","メガボーマンダ","ドラゴン","ひこう",95,145,130,120,90,120,"スカイスキン"]
["374-0","ダンバル","はがね","エスパー",40,55,80,35,60,30,"クリアボディ",null,"ライトメタル"]
["375-0","メタング","はがね","エスパー",60,75,100,55,80,50,"クリアボディ",null,"ライトメタル"]
["376-0","メタグロス","はがね","エスパー",80,135,130,95,90,70,"クリアボディ",null,"ライトメタル"]
["376-1","メガメタグロス","はがね","エスパー",80,145,150,105,110,110,"かたいツメ"]
["377-0","レジロック","いわ",null,80,100,200,50,100,50,"クリアボディ",null,"がんじょう"]
["378-0","レジアイス","こおり",null,80,50,100,100,200,50,"クリアボディ",null,"アイスボディ"]
["379-0","レジスチル","はがね",null,80,75,150,75,150,50,"クリアボディ",null,"ライトメタル"]
["380-0","ラティアス","ドラゴン","エスパー",80,80,90,110,130,110,"ふゆう"]
["380-1","メガラティアス","ドラゴン","エスパー",80,100,120,140,150,110,"ふゆう"]
["381-0","ラティオス","ドラゴン","エスパー",80,90,80,130,110,110,"ふゆう"]
["381-1","メガラティオス","ドラゴン","エスパー",80,130,100,160,120,110,"ふゆう"]
["382-0","カイオーガ","みず",null,100,100,90,150,140,90,"あめふらし"]
["382-1","ゲンシカイオーガ","みず",null,100,150,90,180,160,90,"はじまりのうみ"]
["383-0","グラードン","じめん",null,100,150,140,100,90,90,"ひでり"]
["383-1","ゲンシグラードン","じめん","ほのお",100,180,160,150,90,90,"おわりのだいち"]
["384-0","レックウザ","ドラゴン","ひこう",105,150,90,150,90,95,"エアロック"]
["384-1","メガレックウザ","ドラゴン","ひこう",105,180,100,180,100,115,"デルタストリーム"]
["385-0","ジラーチ","はがね","エスパー",100,100,100,100,100,100,"てんのめぐみ"]
["386-0","デオキシス","エスパー",null,50,150,50,150,50,150,"プレッシャー"]
["386-1","デオキシス　ディフェンスフォルム","エスパー",null,50,70,160,70,160,90,"プレッシャー"]
["386-1","デオキシス　スピードフォルム","エスパー",null,50,95,90,95,90,180,"プレッシャー"]
["386-1","デオキシス　アタックフォルム","エスパー",null,50,180,20,180,20,150,"プレッシャー"]
["387-0","ナエトル","くさ",null,55,68,64,45,55,31,"しんりょく",null,"シェルアーマー"]
["388-0","ハヤシガメ","くさ",null,75,89,85,55,65,36,"しんりょく",null,"シェルアーマー"]
["389-0","ドダイトス","くさ","じめん",95,109,105,75,85,56,"しんりょく",null,"シェルアーマー"]
["390-0","ヒコザル","ほのお",null,44,58,44,58,44,61,"もうか",null,"てつのこぶし"]
["391-0","モウカザル","ほのお","かくとう",64,78,52,78,52,81,"もうか",null,"てつのこぶし"]
["392-0","ゴウカザル","ほのお","かくとう",76,104,71,104,71,108,"もうか",null,"てつのこぶし"]
["393-0","ポッチャマ","みず",null,53,51,53,61,56,40,"げきりゅう",null,"まけんき"]
["394-0","ポッタイシ","みず",null,64,66,68,81,76,50,"げきりゅう",null,"まけんき"]
["395-0","エンペルト","みず","はがね",84,86,88,111,101,60,"げきりゅう",null,"まけんき"]
["396-0","ムックル","ノーマル","ひこう",40,55,30,30,30,60,"するどいめ",null,"すてみ"]
["397-0","ムクバード","ノーマル","ひこう",55,75,50,40,40,80,"いかく",null,"すてみ"]
["398-0","ムクホーク","ノーマル","ひこう",85,120,70,50,60,100,"いかく",null,"すてみ"]
["399-0","ビッパ","ノーマル",null,59,45,40,35,40,31,"たんじゅん","てんねん","ムラっけ"]
["400-0","ビーダル","ノーマル","みず",79,85,60,55,60,71,"たんじゅん","てんねん","ムラっけ"]
["401-0","コロボーシ","むし",null,37,25,41,25,41,25,"だっぴ",null,"にげあし"]
["402-0","コロトック","むし",null,77,85,51,55,51,65,"むしのしらせ",null,"テクニシャン"]
["403-0","コリンク","でんき",null,45,65,34,40,34,45,"とうそうしん","いかく","こんじょう"]
["404-0","ルクシオ","でんき",null,60,85,49,60,49,60,"とうそうしん","いかく","こんじょう"]
["405-0","レントラー","でんき",null,80,120,79,95,79,70,"とうそうしん","いかく","こんじょう"]
["406-0","スボミー","くさ","どく",40,30,35,50,70,55,"しぜんかいふく","どくのトゲ","リーフガード"]
["407-0","ロズレイド","くさ","どく",60,70,65,125,105,90,"しぜんかいふく","どくのトゲ","テクニシャン"]
["408-0","ズガイドス","いわ",null,67,125,40,30,30,58,"かたやぶり",null,"ちからずく"]
["409-0","ラムパルド","いわ",null,97,165,60,65,50,58,"かたやぶり",null,"ちからずく"]
["410-0","タテトプス","いわ","はがね",30,42,118,42,88,30,"がんじょう",null,"ぼうおん"]
["411-0","トリデプス","いわ","はがね",60,52,168,47,138,30,"がんじょう",null,"ぼうおん"]
["412-0","ミノムッチ","むし",null,40,29,45,29,45,36,"だっぴ",null,"ぼうじん"]
["413-0","ミノマダム","むし","くさ",60,59,85,79,105,36,"きけんよち",null,"ぼうじん"]
["413-1","ミノマダム(砂)","むし","じめん",60,79,105,59,85,36,"きけんよち",null,"ぼうじん"]
["413-1","ミノマダム(ゴミ)","むし","はがね",60,69,95,69,95,36,"きけんよち",null,"ぼうじん"]
["414-0","ガーメイル","むし","ひこう",70,94,50,94,50,66,"むしのしらせ",null,"いろめがね"]
["415-0","ミツハニー","むし","ひこう",30,30,42,30,42,70,"みつあつめ",null,"はりきり"]
["416-0","ビークイン","むし","ひこう",70,80,102,80,102,40,"プレッシャー",null,"きんちょうかん"]
["417-0","パチリス","でんき",null,60,45,70,45,90,95,"にげあし","ものひろい","ちくでん"]
["418-0","ブイゼル","みず",null,55,65,35,60,30,85,"すいすい",null,"みずのベール"]
["419-0","フローゼル","みず",null,85,105,55,85,50,115,"すいすい",null,"みずのベール"]
["420-0","チェリンボ","くさ",null,45,35,45,62,53,35,"ようりょくそ"]
["421-0","チェリム","くさ",null,70,60,70,87,78,85,"フラワーギフト"]
["422-0","カラナクシ","みず",null,76,48,48,57,62,34,"ねんちゃく","よびみず","すなのちから"]
["423-0","トリトドン","みず","じめん",111,83,68,92,82,39,"ねんちゃく","よびみず","すなのちから"]
["424-0","エテボース","ノーマル",null,75,100,66,60,66,115,"テクニシャン","ものひろい","スキルリンク"]
["425-0","フワンテ","ゴースト","ひこう",90,50,34,60,44,70,"ゆうばく","かるわざ","ねつぼうそう"]
["426-0","フワライド","ゴースト","ひこう",150,80,44,90,54,80,"ゆうばく","かるわざ","ねつぼうそう"]
["427-0","ミミロル","ノーマル",null,55,66,44,44,56,85,"にげあし","ぶきよう","じゅうなん"]
["428-0","ミミロップ","ノーマル",null,65,76,84,54,96,105,"メロメロボディ","ぶきよう","じゅうなん"]
["428-1","メガミミロップ","ノーマル","かくとう",65,136,94,54,96,135,"きもったま"]
["429-0","ムウマージ","ゴースト",null,60,60,60,105,105,105,"ふゆう"]
["430-0","ドンカラス","あく","ひこう",100,125,52,105,52,71,"ふみん","きょううん","じしんかじょう"]
["431-0","ニャルマー","ノーマル",null,49,55,42,42,37,85,"じゅうなん","マイペース","するどいめ"]
["432-0","ブニャット","ノーマル",null,71,82,64,64,59,112,"あついしぼう","マイペース","まけんき"]
["433-0","リーシャン","エスパー",null,45,30,50,65,50,45,"ふゆう"]
["434-0","スカンプー","どく","あく",63,63,47,41,41,74,"あくしゅう","ゆうばく","するどいめ"]
["435-0","スカタンク","どく","あく",103,93,67,71,61,84,"あくしゅう","ゆうばく","するどいめ"]
["436-0","ドーミラー","はがね","エスパー",54,24,86,24,86,23,"ふゆう","たいねつ","ヘヴィメタル"]
["437-0","ドータクン","はがね","エスパー",67,89,116,79,116,33,"ふゆう","たいねつ","ヘヴィメタル"]
["438-0","ウソハチ","いわ",null,50,80,95,10,45,10,"がんじょう","いしあたま","びびり"]
["439-0","マネネ","エスパー","フェアリー",20,25,45,70,90,60,"ぼうおん","フィルター","テクニシャン"]
["440-0","ピンプク","ノーマル",null,100,5,5,15,65,30,"しぜんかいふく","てんのめぐみ","フレンドガード"]
["441-0","ペラップ","ノーマル","ひこう",76,65,45,92,42,91,"するどいめ","ちどりあし","はとむね"]
["442-0","ミカルゲ","ゴースト","あく",50,92,108,95,108,35,"プレッシャー",null,"すりぬけ"]
["443-0","フカマル","ドラゴン","じめん",58,70,45,40,45,42,"すながくれ",null,"さめはだ"]
["444-0","ガバイト","ドラゴン","じめん",68,90,65,50,55,82,"すながくれ",null,"さめはだ"]
["445-0","ガブリアス","ドラゴン","じめん",108,130,95,80,85,102,"すながくれ",null,"さめはだ"]
["445-1","メガガブリアス","ドラゴン","じめん",108,170,115,120,95,92,"すなのちから"]
["446-0","ゴンベ","ノーマル",null,135,85,40,40,85,5,"ものひろい","あついしぼう","くいしんぼう"]
["447-0","リオル","かくとう",null,40,70,40,35,40,60,"ふくつのこころ","せいしんりょく","いたずらごころ"]
["448-0","ルカリオ","かくとう","はがね",70,110,70,115,70,90,"ふくつのこころ","せいしんりょく","せいぎのこころ"]
["448-1","メガルカリオ","かくとう","はがね",70,145,88,140,70,112,"てきおうりょく"]
["449-0","ヒポポタス","じめん",null,68,72,78,38,42,32,"すなおこし",null,"すなのちから"]
["450-0","カバルドン","じめん",null,108,112,118,68,72,47,"すなおこし",null,"すなのちから"]
["451-0","スコルピ","どく","むし",40,50,90,30,55,65,"カブトアーマー","スナイパー","するどいめ"]
["452-0","ドラピオン","どく","あく",70,90,110,60,75,95,"カブトアーマー","スナイパー","するどいめ"]
["453-0","グレッグル","どく","かくとう",48,61,40,61,40,50,"きけんよち","かんそうはだ","どくしゅ"]
["454-0","ドグロッグ","どく","かくとう",83,106,65,86,65,85,"きけんよち","かんそうはだ","どくしゅ"]
["455-0","マスキッパ","くさ",null,74,100,72,90,72,46,"ふゆう"]
["456-0","ケイコウオ","みず",null,49,49,56,49,61,66,"すいすい","よびみず","みずのベール"]
["457-0","ネオラント","みず",null,69,69,76,69,86,91,"すいすい","よびみず","みずのベール"]
["458-0","タマンタ","みず","ひこう",45,20,50,60,120,50,"すいすい","ちょすい","みずのベール"]
["459-0","ユキカブリ","くさ","こおり",60,62,50,62,60,40,"ゆきふらし",null,"ぼうおん"]
["460-0","ユキノオー","くさ","こおり",90,92,75,92,85,60,"ゆきふらし",null,"ぼうおん"]
["460-1","メガユキノオー","くさ","こおり",90,132,105,132,105,30,"ゆきふらし"]
["461-0","マニューラ","あく","こおり",70,120,65,45,85,125,"プレッシャー",null,"わるいてぐせ"]
["462-0","ジバコイル","でんき","はがね",70,70,115,130,90,60,"じりょく","がんじょう","アナライズ"]
["463-0","ベロベルト","ノーマル",null,110,85,95,80,95,50,"マイペース","どんかん","ノーてんき"]
["464-0","ドサイドン","じめん","いわ",115,140,130,55,55,40,"ひらいしん","ハードロック","すてみ"]
["465-0","モジャンボ","くさ",null,100,100,125,110,50,50,"ようりょくそ","リーフガード","さいせいりょく"]
["466-0","エレキブル","でんき",null,75,123,67,95,85,95,"でんきエンジン",null,"やるき"]
["467-0","ブーバーン","ほのお",null,75,95,67,125,95,83,"ほのおのからだ",null,"やるき"]
["468-0","トゲキッス","フェアリー","ひこう",85,50,95,120,115,80,"はりきり","てんのめぐみ","きょううん"]
["469-0","メガヤンマ","むし","ひこう",86,76,86,116,56,95,"かそく","いろめがね","おみとおし"]
["470-0","リーフィア","くさ",null,65,110,130,60,65,95,"リーフガード",null,"ようりょくそ"]
["471-0","グレイシア","こおり",null,65,60,110,130,95,65,"ゆきがくれ",null,"アイスボディ"]
["472-0","グライオン","じめん","ひこう",75,95,125,45,75,95,"かいりきバサミ","すながくれ","ポイズンヒール"]
["473-0","マンムー","こおり","じめん",110,130,80,70,60,80,"どんかん","ゆきがくれ","あついしぼう"]
["474-0","ポリゴンＺ","ノーマル",null,85,80,70,135,75,90,"てきおうりょく","ダウンロード","アナライズ"]
["475-0","エルレイド","エスパー","かくとう",68,125,65,65,115,80,"ふくつのこころ",null,"せいぎのこころ"]
["475-1","メガエルレイド","エスパー","かくとう",68,165,95,65,115,110,"せいしんりょく"]
["476-0","ダイノーズ","いわ","はがね",60,55,145,75,150,40,"がんじょう","じりょく","すなのちから"]
["477-0","ヨノワール","ゴースト",null,45,100,135,65,135,45,"プレッシャー",null,"おみとおし"]
["478-0","ユキメノコ","こおり","ゴースト",70,80,70,80,70,110,"ゆきがくれ",null,"のろわれボディ"]
["479-0","ロトム","でんき","ゴースト",50,50,77,95,77,91,"ふゆう"]
["479-1","ロトム(スカイ)","でんき","ひこう",50,65,107,105,107,86,"ふゆう"]
["479-1","ロトム(ウォッシュ)","でんき","みず",50,65,107,105,107,86,"ふゆう"]
["479-1","ロトム(フリーズ)","でんき","こおり",50,65,107,105,107,86,"ふゆう"]
["479-1","ロトム(ヒート)","でんき","ほのお",50,65,107,105,107,86,"ふゆう"]
["479-1","ロトム(カット)","でんき","くさ",50,65,107,105,107,86,"ふゆう"]
["480-0","ユクシー","エスパー",null,75,75,130,75,130,95,"ふゆう"]
["481-0","エムリット","エスパー",null,80,105,105,105,105,80,"ふゆう"]
["482-0","アグノム","エスパー",null,75,125,70,125,70,115,"ふゆう"]
["483-0","ディアルガ","はがね","ドラゴン",100,120,120,150,100,90,"プレッシャー",null,"テレパシー"]
["484-0","パルキア","みず","ドラゴン",90,120,100,150,120,100,"プレッシャー",null,"テレパシー"]
["485-0","ヒードラン","ほのお","はがね",91,90,106,130,106,77,"もらいび",null,"ほのおのからだ"]
["486-0","レジギガス","ノーマル",null,110,160,110,80,110,100,"スロースタート"]
["487-0","ギラティナ","ゴースト","ドラゴン",150,100,120,100,120,90,"プレッシャー",null,"テレパシー"]
["487-1","ギラティナ　オリジン","ゴースト","ドラゴン",150,120,100,120,100,90,"ふゆう",null,"ふゆう"]
["488-0","クレセリア","エスパー",null,120,70,120,75,130,85,"ふゆう"]
["489-0","フィオネ","みず",null,80,80,80,80,80,80,"うるおいボディ"]
["490-0","マナフィ","みず",null,100,100,100,100,100,100,"うるおいボディ"]
["491-0","ダークライ","あく",null,70,90,90,135,90,125,"ナイトメア"]
["492-0","シェイミ","くさ",null,100,100,100,100,100,100,"しぜんかいふく"]
["492-1","シェイミ(Ｓ)","くさ","ひこう",100,103,75,120,75,127,"てんのめぐみ"]
["493-0","アルセウス","ノーマル",null,120,120,120,120,120,120,"マルチタイプ"]
["494-0","ビクティニ","エスパー","ほのお",100,100,100,100,100,100,"しょうりのほし"]
["495-0","ツタージャ","くさ",null,45,45,55,45,55,63,"しんりょく",null,"あまのじゃく"]
["496-0","ジャノビー","くさ",null,60,60,75,60,75,83,"しんりょく",null,"あまのじゃく"]
["497-0","ジャローダ","くさ",null,75,75,95,75,95,113,"しんりょく",null,"あまのじゃく"]
["498-0","ポカブ","ほのお",null,65,63,45,45,45,45,"もうか",null,"あついしぼう"]
["499-0","チャオブー","ほのお","かくとう",90,93,55,70,55,55,"もうか",null,"あついしぼう"]
["500-0","エンブオー","ほのお","かくとう",110,123,65,100,65,65,"もうか",null,"あついしぼう"]
["501-0","ミジュマル","みず",null,55,55,45,63,45,45,"げきりゅう",null,"シェルアーマー"]
["502-0","フタチマル","みず",null,75,75,60,83,60,60,"げきりゅう",null,"シェルアーマー"]
["503-0","ダイケンキ","みず",null,95,100,85,108,70,70,"げきりゅう",null,"シェルアーマー"]
["504-0","ミネズミ","ノーマル",null,45,55,39,35,39,42,"にげあし","するどいめ","アナライズ"]
["505-0","ミルホッグ","ノーマル",null,60,85,69,60,69,77,"はっこう","するどいめ","アナライズ"]
["506-0","ヨーテリー","ノーマル",null,45,60,45,25,45,55,"やるき","ものひろい","にげあし"]
["507-0","ハーデリア","ノーマル",null,65,80,65,35,65,60,"いかく","すなかき","きもったま"]
["508-0","ムーランド","ノーマル",null,85,110,90,45,90,80,"いかく","すなかき","きもったま"]
["509-0","チョロネコ","あく",null,41,50,37,50,37,66,"じゅうなん","かるわざ","いたずらごころ"]
["510-0","レパルダス","あく",null,64,88,50,88,50,106,"じゅうなん","かるわざ","いたずらごころ"]
["511-0","ヤナップ","くさ",null,50,53,48,53,48,64,"くいしんぼう",null,"しんりょく"]
["512-0","ヤナッキー","くさ",null,75,98,63,98,63,101,"くいしんぼう",null,"しんりょく"]
["513-0","バオップ","ほのお",null,50,53,48,53,48,64,"くいしんぼう",null,"もうか"]
["514-0","バオッキー","ほのお",null,75,98,63,98,63,101,"くいしんぼう",null,"もうか"]
["515-0","ヒヤップ","みず",null,50,53,48,53,48,64,"くいしんぼう",null,"げきりゅう"]
["516-0","ヒヤッキー","みず",null,75,98,63,98,63,101,"くいしんぼう",null,"げきりゅう"]
["517-0","ムンナ","エスパー",null,76,25,45,67,55,24,"よちむ","シンクロ","テレパシー"]
["518-0","ムシャーナ","エスパー",null,116,55,85,107,95,29,"よちむ","シンクロ","テレパシー"]
["519-0","マメパト","ノーマル","ひこう",50,55,50,36,30,43,"はとむね","きょううん","とうそうしん"]
["520-0","ハトーボー","ノーマル","ひこう",62,77,62,50,42,65,"はとむね","きょううん","とうそうしん"]
["521-0","ケンホロウ","ノーマル","ひこう",80,115,80,65,55,93,"はとむね","きょううん","とうそうしん"]
["522-0","シママ","でんき",null,45,60,32,50,32,76,"ひらいしん","でんきエンジン","そうしょく"]
["523-0","ゼブライカ","でんき",null,75,100,63,80,63,116,"ひらいしん","でんきエンジン","そうしょく"]
["524-0","ダンゴロ","いわ",null,55,75,85,25,25,15,"がんじょう","くだけるよろい","すなのちから"]
["525-0","ガントル","いわ",null,70,105,105,50,40,20,"がんじょう","くだけるよろい","すなのちから"]
["526-0","ギガイアス","いわ",null,85,135,130,60,80,25,"がんじょう","すなおこし","すなのちから"]
["527-0","コロモリ","エスパー","ひこう",65,45,43,55,43,72,"てんねん","ぶきよう","たんじゅん"]
["528-0","ココロモリ","エスパー","ひこう",67,57,55,77,55,114,"てんねん","ぶきよう","たんじゅん"]
["529-0","モグリュー","じめん",null,60,85,40,30,45,68,"すなかき","すなのちから","かたやぶり"]
["530-0","ドリュウズ","じめん","はがね",110,135,60,50,65,88,"すなかき","すなのちから","かたやぶり"]
["531-0","タブンネ","ノーマル",null,103,60,86,60,86,50,"いやしのこころ","さいせいりょく","ぶきよう"]
["531-1","メガタブンネ","ノーマル",null,103,60,126,80,126,50,"いやしのこころ"]
["532-0","ドッコラー","かくとう",null,75,80,55,25,35,35,"こんじょう","ちからずく","てつのこぶし"]
["533-0","ドテッコツ","かくとう",null,85,105,85,40,50,40,"こんじょう","ちからずく","てつのこぶし"]
["534-0","ローブシン","かくとう",null,105,140,95,55,65,45,"こんじょう","ちからずく","てつのこぶし"]
["535-0","オタマロ","みず",null,50,50,40,50,40,64,"すいすい","うるおいボディ","ちょすい"]
["536-0","ガマガル","みず","じめん",75,65,55,65,55,69,"すいすい","うるおいボディ","ちょすい"]
["537-0","ガマゲロゲ","みず","じめん",105,95,75,85,75,74,"すいすい","どくしゅ","ちょすい"]
["538-0","ナゲキ","かくとう",null,120,100,85,30,85,45,"こんじょう","せいしんりょく","かたやぶり"]
["539-0","ダゲキ","かくとう",null,75,125,75,30,75,85,"がんじょう","せいしんりょく","かたやぶり"]
["540-0","クルミル","むし","くさ",45,53,70,40,60,42,"むしのしらせ","ようりょくそ","ぼうじん"]
["541-0","クルマユ","むし","くさ",55,63,90,50,80,42,"リーフガード","ようりょくそ","ぼうじん"]
["542-0","ハハコモリ","むし","くさ",75,103,80,70,80,92,"むしのしらせ","ようりょくそ","ぼうじん"]
["543-0","フシデ","むし","どく",30,45,59,30,39,57,"どくのトゲ","むしのしらせ","かそく"]
["544-0","ホイーガ","むし","どく",40,55,99,40,79,47,"どくのトゲ","むしのしらせ","かそく"]
["545-0","ペンドラー","むし","どく",60,100,89,55,69,112,"どくのトゲ","むしのしらせ","かそく"]
["546-0","モンメン","くさ","フェアリー",40,27,60,37,50,66,"いたずらごころ","すりぬけ","ようりょくそ"]
["547-0","エルフーン","くさ","フェアリー",60,67,85,77,75,116,"いたずらごころ","すりぬけ","ようりょくそ"]
["548-0","チュリネ","くさ",null,45,35,50,70,50,30,"ようりょくそ","マイペース","リーフガード"]
["549-0","ドレディア","くさ",null,70,60,75,110,75,90,"ようりょくそ","マイペース","リーフガード"]
["550-0","バスラオ","みず",null,70,92,65,80,55,98,"すてみ","てきおうりょく","かたやぶり"]
["550-1","バスラオ(青)","みず",null,70,92,65,80,55,98,"いしあたま","てきおうりょく","かたやぶり"]
["551-0","メグロコ","じめん","あく",50,72,35,35,35,65,"いかく","じしんかじょう","いかりのつぼ"]
["552-0","ワルビル","じめん","あく",60,82,45,45,45,74,"いかく","じしんかじょう","いかりのつぼ"]
["553-0","ワルビアル","じめん","あく",95,117,80,65,70,92,"いかく","じしんかじょう","いかりのつぼ"]
["554-0","ダルマッカ","ほのお",null,70,90,45,15,45,50,"はりきり",null,"せいしんりょく"]
["555-0","ヒヒダルマ","ほのお",null,105,140,55,30,55,95,"ちからずく",null,"ダルマモード"]
["555-1","ヒヒダルマ(ダルマモード)","ほのお",null,105,30,105,140,105,55,"ちからずく",null,"ダルマモード"]
["556-0","マラカッチ","くさ",null,75,86,67,106,67,60,"ちょすい","ようりょくそ","よびみず"]
["557-0","イシズマイ","むし","いわ",50,65,85,35,35,55,"がんじょう","シェルアーマー","くだけるよろい"]
["558-0","イワパレス","むし","いわ",70,105,125,65,75,45,"がんじょう","シェルアーマー","くだけるよろい"]
["559-0","ズルッグ","あく","かくとう",50,75,70,35,70,48,"だっぴ","じしんかじょう","いかく"]
["560-0","ズルズキン","あく","かくとう",65,90,115,45,115,58,"だっぴ","じしんかじょう","いかく"]
["561-0","シンボラー","エスパー","ひこう",72,58,80,103,80,97,"ミラクルスキン","マジックガード","いろめがね"]
["562-0","デスマス","ゴースト",null,38,30,85,55,65,30,"ミイラ"]
["563-0","デスカーン","ゴースト",null,58,50,145,95,105,30,"ミイラ"]
["564-0","プロトーガ","いわ","みず",54,78,103,53,45,22,"ハードロック","がんじょう","すいすい"]
["565-0","アバゴーラ","いわ","みず",74,108,133,83,65,32,"ハードロック","がんじょう","すいすい"]
["566-0","アーケン","いわ","ひこう",55,112,45,74,45,70,"よわき"]
["567-0","アーケオス","いわ","ひこう",75,140,65,112,65,110,"よわき"]
["568-0","ヤブクロン","どく",null,50,50,62,40,62,65,"あくしゅう","ねんちゃく","ゆうばく"]
["569-0","ダストダス","どく",null,80,95,82,60,82,75,"あくしゅう","くだけるよろい","ゆうばく"]
["570-0","ゾロア","あく",null,40,65,40,80,40,65,"イリュージョン"]
["571-0","ゾロアーク","あく",null,60,105,60,120,60,105,"イリュージョン"]
["572-0","チラーミィ","ノーマル",null,55,50,40,40,40,75,"メロメロボディ","テクニシャン","スキルリンク"]
["573-0","チラチーノ","ノーマル",null,75,95,60,65,60,115,"メロメロボディ","テクニシャン","スキルリンク"]
["574-0","ゴチム","エスパー",null,45,30,50,55,65,45,"おみとおし","かちき","かげふみ"]
["575-0","ゴチミル","エスパー",null,60,45,70,75,85,55,"おみとおし","かちき","かげふみ"]
["576-0","ゴチルゼル","エスパー",null,70,55,95,95,110,65,"おみとおし","かちき","かげふみ"]
["577-0","ユニラン","エスパー",null,45,30,40,105,50,20,"ぼうじん","マジックガード","さいせいりょく"]
["578-0","ダブラン","エスパー",null,65,40,50,125,60,30,"ぼうじん","マジックガード","さいせいりょく"]
["579-0","ランクルス","エスパー",null,110,65,75,125,85,30,"ぼうじん","マジックガード","さいせいりょく"]
["580-0","コアルヒー","みず","ひこう",62,44,50,44,50,55,"するどいめ","はとむね","うるおいボディ"]
["581-0","スワンナ","みず","ひこう",75,87,63,87,63,98,"するどいめ","はとむね","うるおいボディ"]
["582-0","バニプッチ","こおり",null,36,50,50,65,60,44,"アイスボディ","ゆきがくれ","くだけるよろい"]
["583-0","バニリッチ","こおり",null,51,65,65,80,75,59,"アイスボディ","ゆきがくれ","くだけるよろい"]
["584-0","バイバニラ","こおり",null,71,95,85,110,95,79,"アイスボディ","ゆきふらし","くだけるよろい"]
["585-0","シキジカ","ノーマル","くさ",60,60,50,40,50,75,"ようりょくそ","そうしょく","てんのめぐみ"]
["586-0","メブキジカ","ノーマル","くさ",80,100,70,60,70,95,"ようりょくそ","そうしょく","てんのめぐみ"]
["587-0","エモンガ","でんき","ひこう",55,75,60,75,60,103,"せいでんき",null,"でんきエンジン"]
["588-0","カブルモ","むし",null,50,75,45,40,45,60,"むしのしらせ","だっぴ","ノーガード"]
["589-0","シュバルゴ","むし","はがね",70,135,105,60,105,20,"むしのしらせ","シェルアーマー","ぼうじん"]
["590-0","タマゲタケ","くさ","どく",69,55,45,55,55,15,"ほうし",null,"さいせいりょく"]
["591-0","モロバレル","くさ","どく",114,85,70,85,80,30,"ほうし",null,"さいせいりょく"]
["592-0","プルリル","みず","ゴースト",55,40,50,65,85,40,"ちょすい","のろわれボディ","しめりけ"]
["593-0","ブルンゲル","みず","ゴースト",100,60,70,85,105,60,"ちょすい","のろわれボディ","しめりけ"]
["594-0","ママンボウ","みず",null,165,75,80,40,45,65,"いやしのこころ","うるおいボディ","さいせいりょく"]
["595-0","バチュル","でんき","むし",50,47,50,57,50,65,"ふくがん","きんちょうかん","むしのしらせ"]
["596-0","デンチュラ","でんき","むし",70,77,60,97,60,108,"ふくがん","きんちょうかん","むしのしらせ"]
["597-0","テッシード","くさ","はがね",44,50,91,24,86,10,"てつのトゲ"]
["598-0","ナットレイ","くさ","はがね",74,94,131,54,116,20,"てつのトゲ"]
["599-0","ギアル","はがね",null,40,55,70,45,60,30,"プラス","マイナス","クリアボディ"]
["600-0","ギギアル","はがね",null,60,80,95,70,85,50,"プラス","マイナス","クリアボディ"]
["601-0","ギギギアル","はがね",null,60,100,115,70,85,90,"プラス","マイナス","クリアボディ"]
["602-0","シビシラス","でんき",null,35,55,40,45,40,60,"ふゆう"]
["603-0","シビビール","でんき",null,65,85,70,75,70,40,"ふゆう"]
["604-0","シビルドン","でんき",null,85,115,80,105,80,50,"ふゆう"]
["605-0","リグレー","エスパー",null,55,55,55,85,55,30,"テレパシー","シンクロ","アナライズ"]
["606-0","オーベム","エスパー",null,75,75,75,125,95,40,"テレパシー","シンクロ","アナライズ"]
["607-0","ヒトモシ","ほのお","ゴースト",50,30,55,65,55,20,"もらいび","ほのおのからだ","すりぬけ"]
["608-0","ランプラー","ほのお","ゴースト",60,40,60,95,60,55,"もらいび","ほのおのからだ","すりぬけ"]
["609-0","シャンデラ","ほのお","ゴースト",60,55,90,145,90,80,"もらいび","ほのおのからだ","すりぬけ"]
["610-0","キバゴ","ドラゴン",null,46,87,60,30,40,57,"とうそうしん","かたやぶり","きんちょうかん"]
["611-0","オノンド","ドラゴン",null,66,117,70,40,50,67,"とうそうしん","かたやぶり","きんちょうかん"]
["612-0","オノノクス","ドラゴン",null,76,147,90,60,70,97,"とうそうしん","かたやぶり","きんちょうかん"]
["613-0","クマシュン","こおり",null,55,70,40,60,40,40,"ゆきがくれ","ゆきかき","びびり"]
["614-0","ツンベアー","こおり",null,95,130,82,70,80,50,"ゆきがくれ","ゆきかき","すいすい"]
["615-0","フリージオ","こおり",null,80,50,50,95,135,105,"ふゆう"]
["616-0","チョボマキ","むし",null,50,40,85,40,65,25,"うるおいボディ","シェルアーマー","ぼうじん"]
["617-0","アギルダー","むし",null,80,70,40,100,60,145,"うるおいボディ","ねんちゃく","かるわざ"]
["618-0","マッギョ","じめん","でんき",109,66,84,81,99,32,"せいでんき","じゅうなん","すながくれ"]
["619-0","コジョフー","かくとう",null,45,85,50,55,50,65,"せいしんりょく","さいせいりょく","すてみ"]
["620-0","コジョンド","かくとう",null,65,125,60,95,60,105,"せいしんりょく","さいせいりょく","すてみ"]
["621-0","クリムガン","ドラゴン",null,77,120,90,60,90,48,"さめはだ","ちからずく","かたやぶり"]
["622-0","ゴビット","じめん","ゴースト",59,74,50,35,50,35,"てつのこぶし","ぶきよう","ノーガード"]
["623-0","ゴルーグ","じめん","ゴースト",89,124,80,55,80,55,"てつのこぶし","ぶきよう","ノーガード"]
["624-0","コマタナ","あく","はがね",45,85,70,40,40,60,"まけんき","せいしんりょく","プレッシャー"]
["625-0","キリキザン","あく","はがね",65,125,100,60,70,70,"まけんき","せいしんりょく","プレッシャー"]
["626-0","バッフロン","ノーマル",null,95,110,95,40,95,55,"すてみ","そうしょく","ぼうおん"]
["627-0","ワシボン","ノーマル","ひこう",70,83,50,37,50,60,"するどいめ","ちからずく","はりきり"]
["628-0","ウォーグル","ノーマル","ひこう",100,123,75,57,75,80,"するどいめ","ちからずく","まけんき"]
["629-0","バルチャイ","あく","ひこう",70,55,75,45,65,60,"はとむね","ぼうじん","くだけるよろい"]
["630-0","バルジーナ","あく","ひこう",110,65,105,55,95,80,"はとむね","ぼうじん","くだけるよろい"]
["631-0","クイタラン","ほのお",null,85,97,66,105,66,65,"くいしんぼう","もらいび","しろいけむり"]
["632-0","アイアント","むし","はがね",58,109,112,48,48,109,"むしのしらせ","はりきり","なまけ"]
["633-0","モノズ","あく","ドラゴン",52,65,50,45,50,38,"はりきり"]
["634-0","ジヘッド","あく","ドラゴン",72,85,70,65,70,58,"はりきり"]
["635-0","サザンドラ","あく","ドラゴン",92,105,90,125,90,98,"ふゆう"]
["636-0","メラルバ","ほのお","むし",55,85,55,50,55,60,"ほのおのからだ",null,"むしのしらせ"]
["637-0","ウルガモス","ほのお","むし",85,60,65,135,105,100,"ほのおのからだ",null,"むしのしらせ"]
["638-0","コバルオン","かくとう","はがね",91,90,129,90,72,108,"せいぎのこころ"]
["639-0","テラキオン","かくとう","いわ",91,129,90,72,90,108,"せいぎのこころ"]
["640-0","ビリジオン","かくとう","くさ",91,90,72,90,129,108,"せいぎのこころ"]
["641-0","トルネロス","ひこう",null,79,115,70,125,80,111,"いたずらごころ",null,"まけんき"]
["641-1","トルネロス(霊獣フォルム)","ひこう",null,79,100,80,110,90,121,"さいせいりょく",null,"さいせいりょく"]
["642-0","ボルトロス","ひこう","でんき",79,115,70,125,80,111,"いたずらごころ",null,"まけんき"]
["642-1","ボルトロス(霊獣フォルム)","ひこう","でんき",79,105,70,145,80,101,"ちくでん",null,"ちくでん"]
["643-0","レシラム","ほのお","ドラゴン",100,120,100,150,120,90,"ターボブレイズ"]
["644-0","ゼクロム","でんき","ドラゴン",100,150,120,120,100,90,"テラボルテージ"]
["645-0","ランドロス","ひこう","じめん",89,125,90,115,80,101,"すなのちから",null,"ちからずく"]
["645-1","ランドロス(霊獣フォルム)","ひこう","じめん",89,145,90,105,80,91,"いかく",null,"いかく"]
["646-0","キュレム","こおり","ドラゴン",125,130,90,130,90,95,"プレッシャー"]
["646-1","ブラックキュレム","こおり","ドラゴン",125,170,100,120,90,95,"テラボルテージ"]
["646-1","ホワイトキュレム","こおり","ドラゴン",125,120,90,170,100,95,"ターボブレイズ"]
["647-0","ケルディオ","みず","かくとう",91,72,90,129,90,108,"せいぎのこころ"]
["648-0","メロエッタ","ノーマル","エスパー",100,77,77,128,128,90,"てんのめぐみ"]
["648-1","メロエッタ　ステップフォルム","ノーマル","かくとう",100,128,90,77,77,128,"てんのめぐみ"]
["649-0","ゲノセクト","むし","はがね",71,120,95,120,95,99,"ダウンロード"]
["650-0","ハリマロン","くさ",null,56,61,65,48,45,38,"しんりょく",null,"ぼうだん"]
["651-0","ハリボーグ","くさ",null,61,78,95,68,58,57,"しんりょく",null,"ぼうだん"]
["652-0","ブリガロン","くさ","かくとう",88,107,122,74,75,64,"しんりょく",null,"ぼうだん"]
["653-0","フォッコ","ほのお",null,40,45,40,62,60,60,"もうか",null,"マジシャン"]
["654-0","テールナー","ほのお",null,59,59,58,90,70,73,"もうか",null,"マジシャン"]
["655-0","マフォクシー","ほのお","エスパー",75,69,72,114,100,104,"もうか",null,"マジシャン"]
["656-0","ケロマツ","みず",null,41,56,40,62,44,71,"げきりゅう",null,"へんげんじざい"]
["657-0","ゲコガシラ","みず",null,54,63,52,83,56,97,"げきりゅう",null,"へんげんじざい"]
["658-0","ゲッコウガ","みず","あく",72,95,67,103,71,122,"げきりゅう",null,"へんげんじざい"]
["658-1","ゲッコウガ（サトシゲッコウガ）","みず","あく",72,145,67,153,71,132,"きずなへんげ"]
["659-0","ホルビー","ノーマル",null,38,36,38,32,36,57,"ものひろい","ほおぶくろ","ちからもち"]
["660-0","ホールド","ノーマル","じめん",85,56,77,50,77,78,"ものひろい","ほおぶくろ","ちからもち"]
["661-0","ヤヤコマ","ノーマル","ひこう",45,50,43,40,38,62,"はとむね",null,"はやてのつばさ"]
["662-0","ヒノヤコマ","ほのお","ひこう",62,73,55,56,52,84,"ほのおのからだ",null,"はやてのつばさ"]
["663-0","ファイアロー","ほのお","ひこう",78,81,71,74,69,126,"ほのおのからだ",null,"はやてのつばさ"]
["664-0","コフキムシ","むし",null,38,35,40,27,25,35,"りんぷん","ふくがん","フレンドガード"]
["665-0","コフーライ","むし",null,45,22,60,27,30,29,"だっぴ","だっぴ","フレンドガード"]
["666-0","ビビヨン","むし","ひこう",80,52,50,90,50,89,"りんぷん","ふくがん","フレンドガード"]
["667-0","シシコ","ほのお","ノーマル",62,50,58,73,54,72,"とうそうしん","きんちょうかん","じしんかじょう"]
["668-0","カエンジシ","ほのお","ノーマル",86,68,72,109,66,106,"とうそうしん","きんちょうかん","じしんかじょう"]
["669-0","フラベベ","フェアリー",null,44,38,39,61,79,42,"フラワーベール",null,"きょうせい"]
["670-0","フラエッテ","フェアリー",null,54,45,47,75,98,52,"フラワーベール",null,"きょうせい"]
["671-0","フラージェス","フェアリー",null,78,65,68,112,154,75,"フラワーベール",null,"きょうせい"]
["672-0","メェークル","くさ",null,66,65,48,62,57,52,"そうしょく",null,"くさのけがわ"]
["673-0","ゴーゴート","くさ",null,123,100,62,97,81,68,"そうしょく",null,"くさのけがわ"]
["674-0","ヤンチャム","かくとう",null,67,82,62,46,48,43,"てつのこぶし","かたやぶり","きもったま"]
["675-0","ゴロンダ","かくとう","あく",95,124,78,69,71,58,"てつのこぶし","かたやぶり","きもったま"]
["676-0","トリミアン","ノーマル",null,75,80,60,65,90,102,"ファーコート"]
["677-0","ニャスパー","エスパー",null,62,48,54,63,60,68,"するどいめ","すりぬけ","マイペース"]
["678-0","ニャオニクス♂","エスパー",null,74,48,76,83,81,104,"するどいめ","すりぬけ","いたずらごころ"]
["678-1","ニャオニクス♀","エスパー",null,74,48,76,83,81,104,"するどいめ","すりぬけ","かちき"]
["679-0","ヒトツキ","はがね","ゴースト",45,80,100,35,37,28,"ノーガード"]
["680-0","ニダンギル","はがね","ゴースト",59,110,150,45,49,35,"ノーガード"]
["681-0","ギルガルド","はがね","ゴースト",60,50,150,50,150,60,"バトルスイッチ"]
["681-1","ギルガルド　ブレードフォルム","はがね","ゴースト",60,150,50,150,50,60,"バトルスイッチ"]
["682-0","シュシュプ","フェアリー",null,78,52,60,63,65,23,"いやしのこころ",null,"アロマベール"]
["683-0","フレフワン","フェアリー",null,101,72,72,99,89,29,"いやしのこころ",null,"アロマベール"]
["684-0","ペロッパフ","フェアリー",null,62,48,66,59,57,49,"スイートベール",null,"かるわざ"]
["685-0","ペロリーム","フェアリー",null,82,80,86,85,75,72,"スイートベール",null,"かるわざ"]
["686-0","マーイーカ","エスパー","あく",53,54,53,37,46,45,"あまのじゃく","きゅうばん","すりぬけ"]
["687-0","カラマネロ","エスパー","あく",86,92,88,68,75,73,"あまのじゃく","きゅうばん","すりぬけ"]
["688-0","カメテテ","みず","いわ",42,52,67,39,56,50,"かたいツメ","スナイパー","わるいてぐせ"]
["689-0","ガメノデス","みず","いわ",72,105,115,54,86,68,"かたいツメ","スナイパー","わるいてぐせ"]
["690-0","クズモー","どく","みず",50,60,60,60,60,30,"どくのトゲ","どくしゅ","てきおうりょく"]
["691-0","ドラミドロ","どく","ドラゴン",65,75,90,97,123,44,"どくのトゲ","どくしゅ","てきおうりょく"]
["692-0","ウデッポウ","みず",null,50,53,62,58,63,44,"メガランチャー"]
["693-0","ブロスター","みず",null,71,73,88,120,89,59,"メガランチャー"]
["694-0","エリキテル","ノーマル","でんき",44,38,33,61,43,70,"かんそうはだ","すながくれ","サンパワー"]
["695-0","エレザード","ノーマル","でんき",62,55,52,109,94,109,"かんそうはだ","すながくれ","サンパワー"]
["696-0","チゴラス","いわ","ドラゴン",58,89,77,45,45,48,"がんじょうあご",null,"がんじょう"]
["697-0","ガチゴラス","いわ","ドラゴン",82,121,119,69,59,71,"がんじょうあご",null,"いしあたま"]
["698-0","アマルス","いわ","こおり",77,59,50,67,63,46,"フリーズスキン",null,"ゆきふらし"]
["699-0","アマルルガ","いわ","こおり",123,77,72,99,92,58,"フリーズスキン",null,"ゆきふらし"]
["700-0","ニンフィア","フェアリー",null,95,65,65,110,130,60,"メロメロボディ",null,"フェアリースキン"]
["701-0","ルチャブル","ひこう","かくとう",78,92,75,74,63,118,"じゅうなん","かるわざ","かたやぶり"]
["702-0","デデンネ","でんき","フェアリー",67,58,57,81,67,101,"ほおぶくろ","ものひろい","プラス"]
["703-0","メレシー","いわ","フェアリー",50,50,150,50,150,50,"クリアボディ",null,"がんじょう"]
["704-0","ヌメラ","ドラゴン",null,45,50,35,55,75,40,"そうしょく","うるおいボディ","ぬめぬめ"]
["705-0","ヌメイル","ドラゴン",null,68,75,53,83,113,60,"そうしょく","うるおいボディ","ぬめぬめ"]
["706-0","ヌメルゴン","ドラゴン",null,90,100,70,110,150,80,"そうしょく","うるおいボディ","ぬめぬめ"]
["707-0","クレッフィ","はがね","フェアリー",57,80,91,80,97,75,"いたずらごころ",null,"マジシャン"]
["708-0","ボクレー","くさ","ゴースト",43,70,48,50,60,38,"しぜんかいふく","おみとおし","しゅうかく"]
["709-0","オーロット","くさ","ゴースト",85,110,76,65,82,56,"しぜんかいふく","おみとおし","しゅうかく"]
["710-0","バケッチャ","くさ","ゴースト",49,66,70,44,55,51,"ものひろい","おみとおし","ふみん"]
["710-1","バケッチャ(特大)","くさ","ゴースト",59,66,70,44,55,41,"ものひろい","おみとおし","ふみん"]
["710-1","バケッチャ(大)","くさ","ゴースト",54,66,70,44,55,46,"ものひろい","おみとおし","ふみん"]
["710-1","バケッチャ(小)","くさ","ゴースト",44,66,70,44,55,56,"ものひろい","おみとおし","ふみん"]
["711-0","パンプジン","くさ","ゴースト",65,90,122,58,75,84,"ものひろい","おみとおし","ふみん"]
["711-1","パンプジン(特大)","くさ","ゴースト",85,100,122,58,75,54,"ものひろい","おみとおし","ふみん"]
["711-1","パンプジン(大)","くさ","ゴースト",75,95,122,58,75,69,"ものひろい","おみとおし","ふみん"]
["711-1","パンプジン(小)","くさ","ゴースト",55,85,122,58,75,99,"ものひろい","おみとおし","ふみん"]
["712-0","カチコール","こおり",null,55,69,85,32,35,28,"マイペース","アイスボディ","がんじょう"]
["713-0","クレベース","こおり",null,95,117,184,44,46,28,"マイペース","アイスボディ","がんじょう"]
["714-0","オンバット","ドラゴン","ひこう",40,30,35,45,40,55,"おみとおし","すりぬけ","テレパシー"]
["715-0","オンバーン","ドラゴン","ひこう",85,70,90,97,80,123,"おみとおし","すりぬけ","テレパシー"]
["716-0","ゼルネアス","フェアリー",null,126,131,95,131,98,99,"フェアリーオーラ"]
["717-0","イベルタル","あく","ひこう",126,131,95,131,98,99,"ダークオーラ"]
["718-0","ジカルデ","ドラゴン","じめん",108,100,121,81,95,95,"オーラブレイク","スワームチェンジ"]
["718-2","ジガルデ・10％フォルム","ドラゴン","じめん",54,100,71,61,85,115,"オーラブレイク ","スワームチェンジ"]
["718-1","ジガルデ・パーフェクトフォルム","ドラゴン","じめん",216,100,121,91,95,85,"オーラブレイク ","スワームチェンジ"]
["719-0","ディアンシー","いわ","フェアリー",50,100,150,100,150,50,"クリアボディ"]
["719-1","メガディアンシー","いわ","フェアリー",50,160,110,160,110,110,"マジックミラー"]
["720-0","フーパ","エスパー","ゴースト",80,110,60,150,130,70,"マジシャン"]
["721-0","ボルケニオン","ほのお","みず",80,110,120,130,90,70,"ちょすい"]
["722-0","モクロー","くさ","ひこう",68,55,55,50,50,42,"しんりょく",null,"えんかく"]
["723-0","フクスロー","くさ","ひこう",78,75,75,70,70,52,"しんりょく",null,"えんかく"]
["724-0","ジュナイパー","くさ","ゴースト",78,107,75,100,100,70,"しんりょく",null,"えんかく"]
["725-0","ニャビー","ほのお","",45,65,40,60,40,70,"もうか",null,"いかく"]
["726-0","ニャヒート","ほのお","",65,85,50,80,50,90,"もうか",null,"いかく"]
["727-0","ガオガエン","ほのお","あく",95,115,90,80,90,60,"もうか",null,"いかく"]
["728-0","アシマリ","みず","",50,54,54,66,56,40,"げきりゅう",null,"うるおいボイス"]
["729-0","オシャマリ","みず","",60,69,69,91,81,50,"げきりゅう",null,"うるおいボイス"]
["730-0","アシレーヌ","みず","フェアリー",80,74,74,126,116,60,"げきりゅう",null,"うるおいボイス"]
["731-0","ツツケラ","ノーマル","ひこう",35,75,30,30,30,65,"するどいめ","スキルリンク","ものひろい"]
["732-0","ケララッパ","ノーマル","ひこう",55,85,50,40,50,75,"するどいめ","スキルリンク","ものひろい"]
["733-0","ドデカバシ","ノーマル","ひこう",80,120,75,75,75,60,"するどいめ","スキルリンク","ちからずく"]
["734-0","ヤングース","ノーマル","",48,70,30,30,30,45,"はりこみ","がんじょうあ","てきおうりょく"]
["735-0","デカグース","ノーマル","",88,110,60,55,60,45,"はりこみ","がんじょうあご","てきおうりょく"]
["736-0","アゴジムシ","むし","",47,62,45,55,45,46,"むしのしらせ"]
["737-0","デンヂムシ","むし","でんき",57,82,95,55,75,36,"バッテリー"]
["738-0","クワガノン","むし","でんき",77,70,90,145,75,43,"ふゆう"]
["739-0","マケンカニ","かくとう","",47,82,57,42,47,63,"かいりきバサミ","てつのこぶし","いかりのつぼ"]
["740-0","ケケンカニ","かくとう","こおり",97,132,77,62,67,43,"かいりきバサミ","てつのこぶし","いかりのつぼ"]
["741-0","オドリドリ","ほのお","ひこう",75,70,70,98,70,93,"おどりこ"]
["741-1","オドリドリ（めらめらスタイル）","ほのお","ひこう",75,70,70,98,70,93,"おどりこ"]
["741-2","オドリドリ（ぱちぱちスタイル)","でんき","ひこう",75,70,70,98,70,93,"おどりこ"]
["741-3","オドリドリ（ふらふらスタイル）","エスパー","ひこう",75,70,70,98,70,93,"おどりこ"]
["741-4","オドリドリ（まいまいスタイル）","ゴースト","ひこう",75,70,70,98,70,93,"おどりこ"]
["742-0","アブリー","むし","フェアリー",40,45,40,55,40,84,"みつあつめ","りんぷん","スイートベール"]
["743-0","アブリボン","むし","フェアリー",60,55,60,95,70,124,"みつあつめ","りんぷん","スイートベール"]
["744-0","イワンコ","いわ","",45,65,40,30,40,60,"するどいめ","やるき","ふくつのこころ"]
["745-0","ルガルガン","いわ","",75,115,65,55,65,112,"するどいめ","すなかき","ふくつのこころ"]
["745-1","ルガルガン（まひるのすがた）","いわ","",75,115,65,55,65,112,"するどいめ","すなかき","ふくつのこころ"]
["745-2","ルガルガン（まよなかのすがた）","いわ","",85,115,75,55,75,82,"するどいめ","やるき","ノーガード"]
["746-0","ヨワシ","みず","",45,20,20,25,25,40,"ぎょぐん"]
["746-1","ヨワシ（たんどくのすがた）","みず","",45,20,20,25,25,40,"ぎょぐん"]
["746-2","ヨワシ（むれたすがた）","みず","",45,140,130,140,135,30,"ぎょぐん"]
["747-0","ヒドイデ","どく","みず",50,53,62,43,52,45,"ひとでなし","じゅうなん","さいせいりょく"]
["748-0","ドヒドイデ","どく","みず",50,63,152,53,142,35,"ひとでなし","じゅうなん","さいせいりょく"]
["749-0","ドロバンコ","じめん","",70,100,70,45,55,45,"マイペース","じきゅうりょく","せいしんりょく"]
["750-0","バンバドロ","じめん","",100,125,100,55,85,35,"マイペース","じきゅうりょく","せいしんりょく"]
["751-0","シズクモ","みず","むし",38,40,52,40,72,27,"すいほう",null,"ちょすい"]
["752-0","オニシズクモ","みず","むし",68,70,92,50,132,42,"すいほう",null,"ちょすい"]
["753-0","カリキリ","くさ","",40,55,35,50,35,35,"リーフガード",null,"あまのじゃく"]
["754-0","ラランテス","くさ","",70,105,90,80,90,45,"リーフガード",null,"あまのじゃく"]
["755-0","ネマシュ","くさ","フェアリー",40,35,55,65,75,15,"はっこう","ほうし","あめうけざら"]
["756-0","マシェード","くさ","フェアリー",60,45,80,90,100,30,"はっこう","ほうし","あめうけざら"]
["757-0","ヤトウモリ","どく","ほのお",48,44,40,71,40,77,"ふしょく",null,"どんかん"]
["758-0","エンニュート","どく","ほのお",68,64,60,111,60,117,"ふしょく",null,"どんかん"]
["759-0","ヌイコグマ","ノーマル","かくとう",70,75,50,45,50,50,"もふもふ","ぶきよう","メロメロボディ"]
["760-0","キテルグマ","ノーマル","かくとう",120,125,80,55,60,60,"もふもふ","ぶきよう","きんちょうかん"]
["761-0","アマカジ","くさ","",42,30,38,30,38,32,"リーフガード","どんかん","スイートベール"]
["762-0","アママイコ","くさ","",52,40,48,40,48,62,"リーフガード","どんかん","スイートベール"]
["763-0","アマージョ","くさ","",72,120,98,50,98,72,"リーフガード","じょおうのいげん","スイートベール"]
["764-0","キュワワー","フェアリー","",51,52,90,82,110,100,"フラワーベール","ヒーリングシフト","しぜんかいふく"]
["765-0","ヤレユータン","ノーマル","エスパー",90,60,80,90,110,60,"せいしんりょく","テレパシー","きょうせい"]
["766-0","ナゲツケサル","かくとう","",100,120,90,40,60,80,"レシーバー",null,"まけんき"]
["767-0","コソクムシ","むし","みず",25,35,40,20,30,80,"にげごし"]
["768-0","グソクムシャ","むし","みず",75,125,140,60,90,40,"ききかいひ"]
["769-0","スナバァ","ゴースト","じめん",55,55,80,70,45,15,"みずがため",null,"すながくれ"]
["770-0","シロデスナ","ゴースト","じめん",85,75,110,100,75,35,"みずがため",null,"すながくれ"]
["771-0","ナマコブシ","みず","",55,60,130,30,130,5,"とびだすなかみ",null,"てんねん"]
["772-0","タイプ：ヌル","ノーマル","",95,95,95,95,95,59,"カブトアーマー"]
["773-0","シルヴァディ","ノーマル","",95,95,95,95,95,95,"ARシステム"]
["774-0","メテノ","いわ","ひこう",60,60,100,60,100,60,"リミットシールド"]
["775-0","ネッコアラ","ノーマル","",65,115,65,75,95,65,"ぜったいねむり"]
["776-0","バクガメス","ほのお","ドラゴン",60,78,135,91,85,36,"シェルアーマー"]
["777-0","トゲデマル","でんき","はがね",65,98,63,40,73,96,"てつのトゲ","ひらいしん","がんじょう"]
["778-0","ミミッキュ","ゴースト","フェアリー",55,90,80,50,105,96,"ばけのかわ"]
["779-0","ハギギシリ","みず","エスパー",68,105,70,70,70,92,"ビビッドボディ","がんじょうあご","ミラクルスキン"]
["780-0","ジジーロン","ノーマル","ドラゴン",78,60,85,135,91,36,"ぎゃくじょう","そうしょく","ノーてんき"]
["781-0","ダダリン","ゴースト","くさ",70,131,100,86,90,40,"はがねつかい"]
["782-0","ジャラコ","ドラゴン","",45,55,65,45,45,45,"ぼうだん","ぼうおん","ぼうじん"]
["783-0","ジャランゴ","ドラゴン","かくとう",55,75,90,65,70,65,"ぼうだん","ぼうおん","ぼうじん"]
["784-0","ジャラランガ","ドラゴン","かくとう",75,110,125,100,105,85,"ぼうだん","ぼうおん","ぼうじん"]
["785-0","カプ・コケコ","でんき","フェアリー",70,115,85,95,75,130,"エレキメイカー",null,"テレパシー"]
["786-0","カプ・テテフ","エスパー","フェアリー",70,85,75,130,115,95,"サイコメイカー",null,"テレパシー"]
["787-0","カプ・ブルル","くさ","フェアリー",70,130,115,85,95,75,"グラスメイカー",null,"テレパシー"]
["788-0","カプ・レヒレ","みず","フェアリー",70,75,115,95,130,85,"ミストメイカー",null,"テレパシー"]
["789-0","コスモッグ","エスパー","",43,29,31,29,31,37,"てんねん"]
["790-0","コスモウム","エスパー","",43,29,131,29,131,37,"がんじょう"]
["791-0","ソルガレオ","エスパー","はがね",137,137,107,113,89,97,"メタルプロテクト"]
["792-0","ルナアーラ","エスパー","ゴースト",137,113,89,137,107,97,"ファントムガード"]
["793-0","ウツロイド","いわ","どく",109,53,47,127,131,103,"ビーストブースト"]
["794-0","マッシブーン","むし","かくとう",107,139,139,53,53,79,"ビーストブースト"]
["795-0","フェローチェ","むし","かくとう",71,137,37,137,37,151,"ビーストブースト"]
["796-0","デンジュモク","でんき","",83,89,71,173,71,83,"ビーストブースト"]
["797-0","テッカグヤ","はがね","ひこう",97,101,103,107,101,61,"ビーストブースト"]
["798-0","カミツルギ","くさ","はがね",59,181,131,59,31,109,"ビーストブースト"]
["799-0","アクジキング","あく","ドラゴン",223,101,53,97,53,43,"ビーストブースト"]
["800-0","ネクロズマ","エスパー","",97,107,101,127,89,79,"プリズムアーマー"]
["801-0","マギアナ","はがね","フェアリー",80,95,115,130,115,65,"ソウルハート"]

{"sheet":"キャプチャ用","index":7,"n_rows":15,"n_cols":8,"rows_kept":15,"cut":false,"hidden":true,"merged":[[5,2,5,3],[2,2,2,3],[1,2,1,3],[7,4,7,5],[7,2,7,3],[6,4,6,5],[1,4,1,5],[2,4,2,5],[3,4,3,5],[4,4,4,5],[5,4,5,5]]}
[]
[null,"No.",{"$f":"計算表!F2","v":"330"},null,{"$f":"IF(H2=TRUE,\"【H】\"&IF(計算表!D13<10,\"  \",IF(計算表!D13<100,\" \",\"\"))&IF(計算表!D13=0,\"0\",\"\")&計算表!D13&\"(36x\"&TRUNC(計算表!D13/36)&\"+4x\"&TRUNC(MOD(計算表!D13,36)/4)&\"+\"&MOD(MOD(計算表!D13,36),4)&\")\",\"\")","v":"【H】  6(36x0+4x1+2)"},null,null,true]
[null,"なまえ",{"$f":"計算表!F3","v":"メガフライゴン"},null,{"$f":"IF(H3=TRUE,\"【A】\"&IF(計算表!D14<10,\"  \",IF(計算表!D14<100,\" \",\"\"))&IF(計算表!D14=0,\"0\",\"\")&計算表!D14&\"(36x\"&TRUNC(計算表!D14/36)&\"+4x\"&TRUNC(MOD(計算表!D14,36)/4)&\"+\"&MOD(MOD(計算表!D14,36),4)&\")\",\"\")","v":"【A】252(36x7+4x0+0)"},null,null,{"$f":"H2","v":true}]
[null,"タイプ",{"$f":"計算表!F4","v":"はがね"},{"$f":"IF(計算表!G4<>\"\",計算表!G4,\"\")","v":"ドラゴン"},{"$f":"IF(H4=TRUE,\"【B】\"&IF(計算表!D15<10,\"  \",IF(計算表!D15<100,\" \",\"\"))&IF(計算表!D15=0,\"0\",\"\")&計算表!D15&\"(36x\"&TRUNC(計算表!D15/36)&\"+4x\"&TRUNC(MOD(計算表!D15,36)/4)&\"+\"&MOD(MOD(計算表!D15,36),4)&\")\",\"\")","v":"【B】  0(36x0+4x0+0)"},null,null,{"$f":"H3","v":true}]
[null,"とくせい",{"$f":"計算表!F5","v":"ふゆう"},{"$f":"IF(計算表!G5<>\"\",計算表!G5,\"\")","v":""},{"$f":"IF(H5=TRUE,\"【C】\"&IF(計算表!D16<10,\"  \",IF(計算表!D16<100,\" \",\"\"))&IF(計算表!D16=0,\"0\",\"\")&計算表!D16&\"(36x\"&TRUNC(計算表!D16/36)&\"+4x\"&TRUNC(MOD(計算表!D16,36)/4)&\"+\"&MOD(MOD(計算表!D16,36),4)&\")\",\"\")","v":"【C】  0(36x0+4x0+0)"},null,null,true]
[null,"ゆめとくせい",{"$f":"IF(計算表!F6<>\"\",計算表!F6,\"\")","v":""},null,{"$f":"IF(H6=TRUE,\"【D】\"&IF(計算表!D17<10,\"  \",IF(計算表!D17<100,\" \",\"\"))&IF(計算表!D17=0,\"0\",\"\")&計算表!D17&\"(36x\"&TRUNC(計算表!D17/36)&\"+4x\"&TRUNC(MOD(計算表!D17,36)/4)&\"+\"&MOD(MOD(計算表!D17,36),4)&\")\",\"\")","v":"【D】  0(36x0+4x0+0)"},null,null,true]
[null,null,"ステータス計算",null,{"$f":"IF(H7=TRUE,\"【S】\"&IF(計算表!D18<10,\"  \",IF(計算表!D18<100,\" \",\"\"))&IF(計算表!D18=0,\"0\",\"\")&計算表!D18&\"(36x\"&TRUNC(計算表!D18/36)&\"+4x\"&TRUNC(MOD(計算表!D18,36)/4)&\"+\"&MOD(MOD(計算表!D18,36),4)&\")\",\"\")","v":"【S】252(36x7+4x0+0)"},null,null,true]
[null,null,{"$f":"\"性格：\"&計算表!C10","v":"性格：ようき"},null,{"$f":"\"もちもの：\"&計算表!B19","v":"もちもの：その他"}]
[null,null,"種族値","個体値","努力値","Lv.50時"]
[null,"HP（H）",{"$f":"計算表!B13","v":80},{"$f":"計算表!C13","v":31},{"$f":"計算表!D13","v":6},{"$f":"計算表!G13","v":156}]
[null,"こうげき（A）",{"$f":"計算表!B14","v":145},{"$f":"計算表!C14","v":31},{"$f":"計算表!D14","v":252},{"$f":"計算表!G14","v":197}]
[null,"ぼうぎょ（B）",{"$f":"計算表!B15","v":105},{"$f":"計算表!C15","v":31},{"$f":"計算表!D15","v":0},{"$f":"計算表!G15","v":125}]
[null,"とくこう（C）",{"$f":"計算表!B16","v":80},{"$f":"計算表!C16","v":31},{"$f":"計算表!D16","v":0},{"$f":"計算表!G16","v":90}]
[null,"とくぼう（D）",{"$f":"計算表!B17","v":105},{"$f":"計算表!C17","v":31},{"$f":"計算表!D17","v":0},{"$f":"計算表!G17","v":125}]
[null,"すばやさ（S）",{"$f":"計算表!B18","v":105},{"$f":"計算表!C18","v":30},{"$f":"計算表!D18","v":252},{"$f":"計算表!G18","v":171}]

{"sheet":"技一覧","index":8,"n_rows":669,"n_cols":22,"rows_kept":669,"cut":false,"hidden":false,"merged":[]}
[]
[null,"技名","タイプ","威力","命中","PP","PPMAX","分類","対象","接触","優先度","急所","毒","猛毒","麻痺","火傷","眠り","凍り","混乱","メロメロ","怯み","説明"]
[null,"10まんばりき","じめん",95,95,10,16,"物理","選択","〇",null,null,null,null,null,null,null,null,null,null,null,"-"]
[null,"10まんボルト","でんき",90,100,15,24,"特殊","選択","×","","","",null,0.1,"","","","","",""]
[null,"ＤＤラリアット","あく",85,100,10,16,"物理","選択","〇",null,null,null,null,null,null,null,null,null,null,null,"相手の能力変化を無視してダメージを与える。"]
[null,"Vジェネレート","ほのお",180,95,5,8,"物理","選択","○","","","",null,"","","","","","","","攻撃後、自分の『すばやさ』『ぼうぎょ』『とくぼう』ランクが1段階ずつ下がる。"]
[null,"アームハンマー","かくとう",100,90,10,16,"物理","選択","○","","","",null,"","","","","","","","攻撃後、自分の『すばやさ』ランクが1段階下がる。特性『てつのこぶし』の時、威力が1.2倍になる。"]
[null,"アイアンテール","はがね",100,75,15,24,"物理","選択","○","","","",null,"","","","","","","","30%の確率で相手の『ぼうぎょ』ランクを1段階下げる。"]
[null,"アイアンヘッド","はがね",80,100,15,24,"物理","選択","○","","","",null,"","","","","","",0.3]
[null,"アイスハンマー","こおり",100,90,10,16,"物理","選択","〇",null,null,null,null,null,null,null,null,null,null,null,"攻撃後、自分の『すばやさ』ランクが1段階下がる。"]
[null,"アイスボール","こおり",30,90,20,32,"物理","選択","○","","","",null,"","","","","","",null,"外れるまで5ターン連続で攻撃し、攻撃が当たる度にダメージが倍増する。事前に技『まるくなる』を使っているとダメージが2倍になる。"]
[null,"あおいほのお","ほのお",130,85,5,8,"特殊","選択","×","","","",null,"",0.2,"","","","",""]
[null,"アクアジェット","みず",40,100,20,32,"物理","選択","○","+1","","",null,"","","","","","",""]
[null,"アクアテール","みず",90,90,10,16,"物理","選択","○","","","",null,"","","","","","",""]
[null,"アクアブレイク","みず",85,100,10,16,"物理","選択","〇",null,null,null,null,null,null,null,null,null,null,null,"20%の確率で、相手の『ぼうぎょ』ランクを1段階下げる。"]
[null,"アクアリング","みず","-","-",20,32,"変化","自分","×","","","",null,"","","","","","","","使用後、毎ターン、HPが少しずつ回復する。"]
[null,"あくうせつだん","ドラゴン",100,95,5,8,"特殊","選択","×","","+1","",null,"","","","","","",""]
[null,"アクセルロック","いわ",40,100,20,32,"物理","選択","〇","+1",null,null,null,null,null,null,null,null,null,null,"-"]
[null,"あくのはどう","あく",80,100,15,24,"特殊","選択","×","","","",null,"","","","","","",0.2]
[null,"あくび","ノーマル","-","-",10,16,"変化","選択","×","","","",null,"","",1,"","","","","次のターン終了時にただし、そのポケモンが交代されると効果は消える。"]
[null,"あくまのキッス","ノーマル","-",75,10,16,"変化","選択","×","","","",null,"","",1,"","","",""]
[null,"あくむ","ゴースト","-",100,15,24,"変化","選択","×","","","",null,"","",null,"","","","","相手が『ねむり』状態の時、『あくむ』状態にする。『あくむ』状態になると、毎ターン、HPが最大HPの1/4ずつ減る。ただし『ねむり』状態から覚めると『あくむ』状態も解かれる。"]
[null,"アクロバット","ひこう",55,100,15,24,"物理","選択","○","","","",null,"","","","","","","","自分が道具を持っていない時、威力が2倍になる。"]
[null,"あさのひざし","ノーマル","-","-",5,8,"変化","自分","×","","","",null,"","","","","","","","HPが、天気が通常の時は最大HPの1/2、『ひざしがつよい』の時は最大HPの2/3、『あめ』『あられ』『すなあらし』の時は最大HPの1/4回復する。"]
[null,"アシストギア","はがね","–","–",20,32,"変化","味方全体","×",null,null,null,null,null,null,null,null,null,null,null,"味方の特性『プラス』『マイナス』のポケモンの『こうげき』『とくこう』を1段階ずつ上げる。"]
[null,"アシストパワー","エスパー",20,100,10,16,"特殊","選択","×","","","",null,"","","","","","","","自分のいずれかの『のうりょく』ランクが1つ上がる度に威力が20上がる。"]
[null,"アシッドボム","どく",40,100,20,32,"特殊","選択","×","","","",null,"","","","","","","","相手の『とくぼう』ランクを2段階下げる。"]
[null,"あてみなげ","かくとう",70,"-",10,16,"物理","選択","○","-1","","",null,"","","","","","","","必ず後攻になる代わりに、自分の命中率、相手の回避率に関係なく必ず命中する。"]
[null,"あなをほる","じめん",80,100,10,16,"物理","選択","○","","","",null,"","","","","","","","1ターン目に地中に潜り、2ターン目に攻撃する。地中にいる間はほとんどの技を受けない。"]
[null,"あばれる","ノーマル",120,100,10,16,"物理","ランダム1体","○","","","",null,"","","","",null,"","","2～3ターン連続で攻撃し、その後自分は1～4ターンの間『こんらん』状態になる。"]
[null,"アフロブレイク","ノーマル",120,100,15,24,"物理","選択","○","","","",null,"","","","","","","","相手に与えたダメージの1/4を自分も受ける。"]
[null,"あまいかおり","ノーマル","-",100,20,32,"変化","相手全体","×","","","",null,"","","","","","","","相手の回避率を2段階下げる。フィールドで使うと野生のポケモンが出現し、群れバトルが発生する場所では群れバトルになる。XYのみ雨が降っている場所では群れバトルは発生しない。"]
[null,"あまえる","フェアリー","-",100,20,32,"変化","選択","×","","","",null,"","","","","","","","相手の『こうげき』ランクを2段階下げる。"]
[null,"あまごい","みず","-","-",5,8,"変化","全体の場","×","","","",null,"","","","","","","","5ターンの間、天気を『あめ』にする。"]
[null,"あやしいかぜ","ゴースト",60,100,5,8,"特殊","選択","×","","","",null,"","","","","","","","10%の確率で自分の『こうげき』『ぼうぎょ』『とくこう』『とくぼう』『すばやさ』ランクが1段階ずつ上がる。"]
[null,"あやしいひかり","ゴースト","-",100,10,16,"変化","選択","×","","","",null,"","","","",1,"",""]
[null,"あられ","こおり","-","-",10,16,"変化","全体の場","×","","","",null,"","","","","","","","5ターンの間、天気を『あられ』にする。"]
[null,"アロマセラピー","くさ","-","-",5,8,"変化","味方全体","×","","","",null,"","","","","","","","すべての味方のポケモンの状態異常を治す。"]
[null,"アロマミスト","フェアリー","-","-",20,32,"変化","味方1体","×","","","",null,"","","","","","","","味方1体の『とくぼう』を1段階上げる。ダブルバトル・トリプルバトル用。"]
[null,"あわ","みず",40,100,30,48,"特殊","相手全体","×","","","",null,"","","","","","","","10%の確率で相手の『すばやさ』ランクを1段階下げる。"]
[null,"アンカーショット","はがね",80,100,20,32,"物理","選択","〇",null,null,null,null,null,null,null,null,null,null,null,"相手は逃げたり交代できなくなる。"]
[null,"アンコール","ノーマル","-",100,5,8,"変化","選択","×","","","",null,"","","","","","","","3ターンの間、相手は最後に使用した技しか使えなくなる。ただし、PPが0になると解除される。"]
[null,"いあいぎり","ノーマル",50,95,30,48,"物理","選択","○","","","",null,"","","","","","",""]
[null,"いえき","どく","-",100,10,16,"変化","選択","×","","","",null,"","","","","","","","相手の特性を無効にする。"]
[null,"イカサマ","あく",95,100,15,24,"物理","選択","○","","","",null,"","","","","","","","自分の『こうげき』ではなく、相手の『こうげき』の能力値でダメージ計算する。"]
[null,"いかり","ノーマル",20,100,20,32,"物理","選択","○","","","",null,"","","","","","","","相手の攻撃を受ける度にこの技の威力が倍増する。ただし、攻撃が外れたり連続で使用しないと元に戻る。"]
[null,"いかりのこな","むし","-","-",20,32,"変化","自分","×","+2","","",null,"","","","","","","","そのターンの相手の技をすべて自分が受ける。『くさ』タイプや特性『ぼうじん』のポケモンには無効。ダブルバトル・トリプルバトル用。"]
[null,"いかりのまえば","ノーマル","-",90,10,16,"物理","選択","○","","","",null,"","","","","","","","相手のHPを残りHPの半分にする。"]
[null,"いじげんホール","エスパー",80,"-",5,8,"特殊","選択","×","","","",null,"","","","","","","","相手の『まもる』『みきり』『たたみがえし』『キングシールド』『ニードルガード』の効果を受けない。"]
[null,"いじげんラッシュ","あく",100,"-",5,8,"物理","選択","×","","","",null,"","","","","","","","相手の『まもる』『みきり』『たたみがえし』『キングシールド』『ニードルガード』の効果を受けない。攻撃後、自分の『ぼうぎょ』ランクが1段階下がる。"]
[null,"いたみわけ","ノーマル","-","-",20,32,"変化","選択","×","","","",null,"","","","","","","","自分と相手のHPを2匹の残りHPの平均値にする。(足して2で割る)"]
[null,"いちゃもん","あく","-",100,15,24,"変化","選択","×","","","",null,"","","","","","","","使用後、相手は同じ技を連続で出せなくなる。"]
[null,"いとをはく","むし","-",95,40,64,"変化","相手全体","×","","","",null,"","","","","","","","相手の『すばやさ』ランクを2段階下げる。"]
[null,"いにしえのうた","ノーマル",75,100,10,16,"特殊","相手全体","×","","","",null,"","",0.1,"","","","","相手が『みがわり』状態でも命中する。"]
[null,"いのちがけ","かくとう","-",100,5,8,"特殊","選択","○","","","",null,"","","","","","","","自分のHPを0にし、その分のダメージを相手に与える。"]
[null,"いばる","ノーマル","-",85,15,24,"変化","選択","×","","","",null,"","","","",1,"","","相手の『こうげき』ランクを2段階上げてしまう。"]
[null,"いびき","ノーマル",50,100,15,24,"特殊","選択","×","","","",null,"","",null,"","","",0.3,"自分が『ねむり』状態の時のみ使用可能。相手が『みがわり』状態でも命中する。"]
[null,"いやしのすず","ノーマル","-","-",5,8,"変化","味方全体","×","","","",null,"","","","","","","","すべての味方のポケモンの状態異常を治す。味方が『みがわり』状態でも効果が発生する。"]
[null,"いやしのねがい","エスパー","-","-",10,16,"変化","自分","×","","","",null,"","","","","","","","自分が『ひんし』になる代わりに、次に出す自分のポケモンの状態異常とHPが全回復する。"]
[null,"いやしのはどう","エスパー","-","-",10,16,"変化","選択","×","","","",null,"","","","","","","","相手は最大HPの1/2回復する。(ダブルバトル・トリプルバトルで味方に使うと良い)"]
[null,"いやなおと","ノーマル","-",85,40,64,"変化","選択","×","","","",null,"","","","","","","","相手の『ぼうぎょ』ランクを2段階下げる。相手が『みがわり』状態でも命中する。"]
[null,"いわおとし","いわ",50,90,15,24,"物理","選択","×","","","",null,"","","","","","",""]
[null,"いわくだき","かくとう",40,100,15,24,"物理","選択","○","","","",null,"","","","","","","","50%の確率で相手の『ぼうぎょ』ランクを1段階下げる。"]
[null,"いわなだれ","いわ",75,90,10,16,"物理","相手全体","×","","","",null,"","","","","","",0.3]
[null,"インファイト","かくとう",120,100,5,8,"物理","選択","○","","","",null,"","","","","","","","攻撃後、自分の『ぼうぎょ』『とくぼう』ランクが1段階ずつ下がる。"]
[null,"ウェザーボール","ノーマル",50,100,10,16,"特殊","選択","×","","","",null,"","","",null,"","","","天気が『ひざしがつよい』の時は『ほのお』タイプ、『あめ』の時は『みず』タイプ、『あられ』の時は『こおり』タイプ、『すなあらし』の時は『いわ』タイプになり、威力が2倍になる。"]
[null,"うずしお","みず",35,85,15,24,"特殊","選択","×","","","",null,"","","","","","","","4～5ターンの間、毎ターン終了後最大HPの1/8のダメージを与え、その間相手は逃げられない。相手が『ダイビング』を使っている時でも命中し、ダメージが2倍になる。"]
[null,"うそなき","あく","-",100,20,32,"変化","選択","×","","","",null,"","","","","","","","相手の『とくぼう』ランクを2段階下げる。"]
[null,"うたう","ノーマル","-",55,15,24,"変化","選択","×","","","",null,"","",1,"","","","","相手が『みがわり』状態でも命中する。"]
[null,"うたかたのアリア","みず",90,100,10,16,"特殊","自分以外","×",null,null,null,null,null,null,null,null,null,null,null,"相手の『やけど』状態を治す。"]
[null,"うちおとす","いわ",50,100,15,24,"物理","選択","×","","","",null,"","","","","","","","特性『ふゆう』や、『ひこう』タイプのポケモンに『じめん』タイプの技が当たるようになる。また、技『そらをとぶ』『とびはねる』『でんじふゆう』『テレキネシス』『フリーフォール』の効果が解除される。"]
[null,"ウッドハンマー","くさ",120,100,15,24,"物理","選択","○","","","",null,"","","","","","","","相手に与えたダメージの1/3を自分も受ける。"]
[null,"ウッドホーン","くさ",75,100,10,16,"物理","選択","○","","","",null,"","","","","","","","相手に与えたダメージの半分だけ自分のHPが回復する。"]
[null,"うらみ","ゴースト","-",100,10,16,"変化","選択","×","","","",null,"","","","","","","","相手の最後に使った技のPPを4減らす。"]
[null,"エアカッター","ひこう",60,95,25,40,"特殊","相手全体","×","","+1","",null,"","","","","","",""]
[null,"エアスラッシュ","ひこう",75,95,15,24,"特殊","選択","×","","","",null,"","","","","","",0.3]
[null,"エアロブラスト","ひこう",100,95,5,8,"特殊","選択","×","","+1","",null,"","","","","","",""]
[null,"エコーボイス","ノーマル",40,100,15,24,"特殊","選択","×","","","",null,"","","","","","","","毎ターン、誰かが技『エコーボイス』を使う度に威力が高くなっていく。相手が『みがわり』状態でも命中する。"]
[null,"エナジーボール","くさ",90,100,10,16,"特殊","選択","×","","","",null,"","","","","","","","10%の確率で相手の『とくぼう』ランクを1段階下げる。"]
[null,"エレキネット","でんき",55,95,15,24,"特殊","相手全体","×","","","",null,"","","","","","","","相手の『すばやさ』ランクを1段階下げる。"]
[null,"エレキフィールド","でんき","-","-",10,16,"変化","全体の場","×","","","",null,"","",null,"","","","","5ターンの間、エレキフィールドにする。地面にいるすべてのポケモンは『ねむり』状態にならず、また『でんき』タイプの技の威力が1.5倍になる。"]
[null,"エレキボール","でんき","-",100,10,16,"特殊","選択","×","","","",null,"","","","","","","","相手より『すばやさ』が高いほど威力が高くなる。1倍未満は40、2倍未満は60、3倍未満は80、4倍未満は120、それ以上は150。"]
[null,"えんまく","ノーマル","-",100,20,32,"変化","選択","×","","","",null,"","","","","","","","相手の命中率を1段階下げる。"]
[null,"おいうち","あく",40,100,20,32,"物理","選択","○","","","",null,"","","","","","","","相手がポケモンを交代する時に攻撃すると、交代前のポケモンに2倍のダメージを与える。"]
[null,"おいかぜ","ひこう","-","-",30,48,"変化","味方の場","×","","","",null,"","","","","","","","4ターンの間、自分と味方の『すばやさ』が2倍になる。"]
[null,"おいわい","ノーマル",0,0,40,64,"変化","自分","×","","","",null,"","","","","","","","効果なし。"]
[null,"おうふくビンタ","ノーマル",15,85,10,16,"物理","選択","○","","","",null,"","","","","","","","1ターンに2～5回連続で攻撃する。"]
[null,"オウムがえし","ひこう","-","-",20,32,"変化","選択","×","","","",null,"","","","","","","","相手が最後に使った技で、相手を攻撃する。技の対象が「通常」(1体選択)の場合は技を使用したポケモン(味方を含める)を攻撃し、それ以外の場合は、自分がその技を使用した場合に本来取りうる対象に攻撃する(「相手全体」「自分以外」など)。"]
[null,"オーバーヒート","ほのお",130,90,5,8,"特殊","選択","×","","","",null,"","","","","","","","攻撃後、自分の『とくこう』ランクが2段階下がる。"]
[null,"オーロラビーム","こおり",65,100,20,32,"特殊","選択","×","","","",null,"","","","","","","","10%の確率で相手の『こうげき』ランクを1段階下げる。"]
[null,"オーロラベール","こおり","–","–",20,32,"変化","味方の場","×",null,null,null,null,null,null,null,null,null,null,null,"天気があられの時のみ使用可能。5ターンの間、物理・特殊ダメージを半減。味方2体やバトルロワイヤルの場合は半分ではなく2/3になる。急所に当たった場合は軽減されない。交代しても効果は続く。"]
[null,"おきみやげ","あく","-",100,10,16,"変化","選択","×","","","",null,"","","","","","","","自分の命中率、相手の回避率に関係なく必ず命中する。自分が『ひんし』になる代わりに、相手の『こうげき』『とくこう』ランクを2段階ずつ下げる。"]
[null,"オクタンほう","みず",65,85,10,16,"特殊","選択","×","","","",null,"","","","","","","","50%の確率で相手の命中率を1段階下げる。"]
[null,"おさきにどうぞ","ノーマル","-","-",15,24,"変化","選択","×","","","",null,"","","","","","","","相手は『すばやさ』に関係なく、この技を受けた直後に行動できるようになる。ダブルバトル・トリプルバトル用。"]
[null,"おしおき","あく","-",100,5,8,"物理","選択","○","","","",null,"","","","","","","","相手の『のうりょく』ランクが高い程、威力が高くなる。"]
[null,"おしゃべり","ひこう",65,100,20,32,"特殊","選択","×","","","",null,"","","","",null,"","","『ペラップ』が使うと、相手が『みがわり』状態でも命中する。"]
[null,"おたけび","ノーマル","-",100,30,48,"変化","選択","×","","","",null,"","","","","","","","相手の『こうげき』『とくこう』ランクを1段階下げる。相手が『みがわり』状態でも命中する。"]
[null,"おだてる","あく","-",100,15,24,"変化","選択","×","","","",null,"","","","",1,"","","相手の『とくこう』ランクを1段階上げてしまう。"]
[null,"おどろかす","ゴースト",30,100,15,24,"物理","選択","○","","","",null,"","","","","","",0.3]
[null,"おにび","ほのお","-",85,15,24,"変化","選択","×","","","",null,"",1,"","","","","","『ほのお』タイプには無効。"]
[null,"おまじない","ノーマル","-","-",30,48,"変化","味方の場","×","","","",null,"","","","","","","","5ターンの間、相手の攻撃が急所に当たらなくなる。"]
[null,"おんがえし","ノーマル","-",100,20,32,"物理","選択","○","","","",null,"","","","","","","","ポケモンがなついているほど威力が高くなる。最高102。"]
[null,"おんねん","ゴースト","-","-",5,8,"変化","自分","×","","","",null,"","","","","","","","相手の技のダメージで『ひんし』状態になった場合、その技のPPを0にする。"]
[null,"ガードシェア","エスパー","-","-",10,16,"変化","選択","×","","","",null,"","","","","","","","自分と相手の『ぼうぎょ』と『とくぼう』を足して半分に分ける。"]
[null,"ガードスワップ","エスパー","-","-",10,16,"変化","選択","×","","","",null,"","","","","","","","自分と相手の『ぼうぎょ』『とくぼう』ランクを入れ替える。"]
[null,"かいでんぱ","でんき","-",100,15,24,"変化","選択","×","","","",null,"","","","","","","","相手の『とくこう』ランクを2段階下げる。"]
[null,"かいふくしれい","むし","-","-",10,16,"変化","自分","×","","","",null,"","","","","","","","HPが最大HPの半分回復する。"]
[null,"かいふくふうじ","エスパー","-",100,15,24,"変化","相手全体","×","","","",null,"","","","","","","","5ターンの間、相手は回復系の技が使えなくなる。"]
[null,"かいりき","ノーマル",80,100,15,24,"物理","選択","○","","","",null,"","","","","","",""]
[null,"カウンター","かくとう","-",100,20,32,"物理","不定","○","-5","","",null,"","","","","","","","相手のぶつり攻撃のダメージの2倍をその相手に与える。『ダブルバトル』の時は最後に受けた技のみ有効になる。"]
[null,"かえんぐるま","ほのお",60,100,25,40,"物理","選択","○","","","",null,"",0.1,"",null,"","","","自分が『こおり』状態の時でも使う事ができ、使うと『こおり』状態が治る。"]
[null,"かえんだん","ほのお",100,100,5,8,"特殊","自分以外","×","","","",null,"",0.3,"","","","",""]
[null,"かえんほうしゃ","ほのお",90,100,15,24,"特殊","選択","×","","","",null,"",0.1,"","","","",""]
[null,"かぎわける","ノーマル","-","-",40,64,"変化","選択","×","","","",null,"","","","","","","","使用後、相手の回避率に関係なく攻撃が当たる。相手が『ゴースト』タイプの時、『ノーマル』『かくとう』タイプの技が当たるようになる。"]
[null,"かくばる","ノーマル","-","-",30,48,"変化","自分","×","","","",null,"","","","","","","","自分の『こうげき』ランクを1段階上げる。"]
[null,"かげうち","ゴースト",40,100,30,48,"物理","選択","○","+1","","",null,"","","","","","",""]
[null,"かげぬい","ゴースト",80,100,10,16,"物理","選択","×",null,null,null,null,null,null,null,null,null,null,null,"相手は逃げたり交代できなくなる。"]
[null,"かげぶんしん","ノーマル","-","-",15,24,"変化","自分","×","","","",null,"","","","","","","","自分の回避率を1段階上げる。"]
[null,"かぜおこし","ひこう",40,100,35,56,"特殊","選択","×","","","",null,"","","","","","","","相手が技『そらをとぶ』『とびはねる』『フリーフォール』を使っている時でも命中し、ダメージが2倍になる。"]
[null,"かたきうち","ノーマル",70,100,5,8,"物理","選択","○","","","",null,"","","","","","","","前のターンに味方のポケモンが倒されていると威力が2倍になる。"]
[null,"かたくなる","ノーマル","-","-",30,48,"変化","自分","×","","","",null,"","","","","","","","自分の『ぼうぎょ』ランクを1段階上げる。"]
[null,"かなしばり","ノーマル","-",100,20,32,"変化","選択","×","","","",null,"","","","","","","","相手が最後に使った技を4ターンの間使えなくする。"]
[null,"かふんだんご","むし",90,100,15,24,"特殊","選択","×",null,null,null,null,null,null,null,null,null,null,null,"味方に攻撃する場合、ダメージではなく味方のHPを回復する。"]
[null,"かまいたち","ノーマル",80,100,10,16,"特殊","相手全体","×","","+1","",null,"","","","","","","","1ターン目は攻撃せずに、2ターン目で攻撃する。"]
[null,"がまん","ノーマル","-","-",10,16,"物理","自分","○","+1","","",null,"","","","","","","","今後2ターンの間に受けたダメージの2倍を相手に与える。その間、全く行動できなくなる。"]
[null,"かみくだく","あく",80,100,15,24,"物理","選択","○","","","",null,"","","","","","","","20%の確率で相手の『ぼうぎょ』ランクを1段階下げる。"]
[null,"かみつく","あく",60,100,25,40,"物理","選択","○","","","",null,"","","","","","",0.3]
[null,"かみなり","でんき",110,70,10,16,"特殊","選択","×","","","",null,0.3,"","","","","","","天気が『あめ』の時は必ず命中し、『ひざしがつよい』の時は命中率が50%になる。相手が技『そらをとぶ』『とびはねる』『フリーフォール』を使っている時でも命中する。"]
[null,"かみなりのキバ","でんき",65,95,15,24,"物理","選択","○","","","",null,0.05,"","","","","",0.05]
[null,"かみなりパンチ","でんき",75,100,15,24,"物理","選択","○","","","",null,0.1,"","","","","","","特性『てつのこぶし』の時、威力が1.2倍になる。"]
[null,"がむしゃら","ノーマル","-",100,5,8,"物理","選択","○","","","",null,"","","","","","","","相手の残りHPから自分の残りHPを引いた分のダメージを与える。"]
[null,"からげんき","ノーマル",70,100,20,32,"物理","選択","○","","",null,null,null,null,"","","","","","自分が『どく』『まひ』『やけど』状態の時、威力が2倍になる。『やけど』による『こうげき』の半減の影響を受けない。"]
[null,"からてチョップ","かくとう",50,100,25,40,"物理","選択","○","","+1","",null,"","","","","","",""]
[null,"からではさむ","みず",35,85,15,24,"物理","選択","○","","","",null,"","","","","","","","4～5ターンの間、毎ターン終了後最大HPの1/8のダメージを与え、その間相手は逃げられない。"]
[null,"からにこもる","みず","-","-",40,64,"変化","自分","×","","","",null,"","","","","","","","自分の『ぼうぎょ』ランクを1段階上げる。"]
[null,"からみつく","ノーマル",10,100,35,56,"物理","選択","○","","","",null,"","","","","","","","10%の確率で相手の『すばやさ』ランクを1段階下げる。"]
[null,"からをやぶる","ノーマル","-","-",15,24,"変化","自分","×","","","",null,"","","","","","","","自分の『ぼうぎょ』『とくぼう』ランクが1段階ずつ下がり、『こうげき』『とくこう』『すばやさ』ランクが2段階ずつ上がる。"]
[null,"ガリョウテンセイ","ひこう",120,100,5,8,"物理","選択","○","","","",null,"","","","","","","","自分の『ぼうぎょ』『とくぼう』ランクが1段階ずつ下がる。"]
[null,"かわらわり","かくとう",75,100,15,24,"物理","選択","○","","","",null,"","","","","","","","相手の技『リフレクター』『オーロラベール』の効果を受けず、相手の技『リフレクター』『ひかりのかべ』『オーロラベール』を壊す。"]
[null,"がんせきふうじ","いわ",60,95,15,24,"物理","選択","×","","","",null,"","","","","","","","相手の『すばやさ』ランクを1段階下げる。"]
[null,"がんせきほう","いわ",150,90,5,8,"物理","選択","×","","","",null,"","","","","","","","使用した次のターンは行動できない。"]
[null,"きあいだま","かくとう",120,70,5,8,"特殊","選択","×","","","",null,"","","","","","","","10%の確率で相手の『とくぼう』ランクを1段階下げる。"]
[null,"きあいだめ","ノーマル","-","-",30,48,"変化","自分","×","","","",null,"","","","","","","","急所ランクが2段階上がる『きあいだめ』状態となり、今後自分の技が急所に当たりやすくなる。"]
[null,"きあいパンチ","かくとう",150,100,20,32,"物理","選択","○","-3","","",null,"","","","","","","","攻撃するまでに技を受けると失敗してしまう。特性『てつのこぶし』の時、威力が1.2倍になる。"]
[null,"ギアソーサー","はがね",50,85,15,24,"物理","選択","○","","","",null,"","","","","","","","1ターンに2回連続で攻撃する。"]
[null,"ギアチェンジ","はがね","-","-",10,16,"変化","自分","×","","","",null,"","","","","","","","自分の『すばやさ』ランクが2段階、『こうげき』ランクが1段階上がる。"]
[null,"ギガインパクト","ノーマル",150,90,5,8,"物理","選択","○","","","",null,"","","","","","","","使用した次のターンは行動できない。"]
[null,"ギガドレイン","くさ",75,100,10,16,"特殊","選択","×","","","",null,"","","","","","","","相手に与えたダメージの半分だけ自分のHPが回復する。"]
[null,"きしかいせい","かくとう","-",100,15,24,"物理","選択","○","","","",null,"","","","","","","","自分の残りHPが少ないほど威力が高くなる。"]
[null,"きつけ","ノーマル",70,100,10,16,"物理","選択","○","","","",null,null,"","","","","","","相手が『まひ』状態の時、ダメージが2倍になるが、『まひ』状態は治る。"]
[null,"キノコのほうし","くさ","-",100,15,24,"変化","選択","×","","","",null,"","",1,"","","","","『くさ』タイプや特性『ぼうじん』のポケモンには無効。"]
[null,"ギフトパス","ノーマル","-","-",15,24,"変化","選択","×","","","",null,"","","","","","","","自分の持っている道具を相手に渡す。相手が道具を持っている時は失敗する。"]
[null,"きゅうけつ","むし",80,100,10,24,"物理","選択","○","","","",null,"","","","","","","","相手に与えたダメージの半分だけ自分のHPが回復する。"]
[null,"きりさく","ノーマル",70,100,20,32,"物理","選択","○","","+1","",null,"","","","","","",""]
[null,"きりばらい","ひこう","-","-",15,24,"変化","選択","×","","",null,null,"","","","","","","","相手の回避率を1段階下げる。相手の場の『しろいきり』『ひかりのかべ』『リフレクター』『しんぴのまもり』、両方の場の『まきびし』『どくびし』『ステルスロック』『ねばねばネット』の効果を解除する。"]
[null,"きりふだ","ノーマル","-","-",5,8,"特殊","選択","○","","","",null,"","","","","","","","自分の命中率、相手の回避率に関係なく必ず命中する。この技の残りPPが少ない程、威力が高くなる。最高200。"]
[null,"ぎんいろのかぜ","むし",60,100,5,8,"特殊","選択","×","","","",null,"","","","","","","","10%の確率で自分の『こうげき』『ぼうぎょ』『とくこう』『とくぼう』『すばやさ』ランクが1段階ずつ上がる。"]
[null,"キングシールド","はがね","-","-",10,16,"変化","自分","×","+4","","",null,"","","","","","","","そのターンの間、相手の攻撃技を受けない。また、直接攻撃をしてきた相手の『こうげき』ランクを2段階下げる(無効タイプで直接攻撃された場合でも低下する)。連続で使うと失敗しやすくなる。"]
[null,"きんぞくおん","はがね","-",85,40,64,"変化","選択","×","","","",null,"","","","","","","","相手の『とくぼう』ランクを2段階下げる。"]
[null,"くさのちかい","くさ",80,100,10,16,"特殊","選択","×","","","",null,"","","","","","","","ダブルバトル・トリプルバトルで、技『ほのおのちかい』と組み合わせて使用すると4ターンの間毎ターン『ほのお』タイプ以外の相手にダメージを与え、技『みずのちかい』と組み合わせて使用すると4ターンの間相手の『すばやさ』が下がる。また、威力が150になる。"]
[null,"くさぶえ","くさ","-",55,15,24,"変化","選択","×","","","",null,"","",1,"","","",""]
[null,"くさむすび","くさ","-",100,20,32,"特殊","選択","○","","","",null,"","","","","","","","相手の『おもさ』が重いほど威力が高くなる。10kg未満は20、25kg未満は40、50kg未満は60、100kg未満は80、200kg未満は100、それ以上は120。"]
[null,"くすぐる","ノーマル","-",100,20,32,"変化","選択","×","","","",null,"","","","","","","","相手の『こうげき』『ぼうぎょ』ランクを1段階ずつ下げる。"]
[null,"くちばしキャノン","ひこう",100,100,15,24,"物理","選択","×","-3",null,null,null,null,null,null,null,null,null,null,"技が発動する前に直接攻撃を受けると、そのポケモンを『やけど』状態にする。技はそのまま打てる。"]
[null,"クモのす","むし","-","-",10,16,"変化","選択","×","","","",null,"","","","","","","","相手を逃げたり、交代できなくする。"]
[null,"グラスフィールド","くさ","-","-",10,16,"変化","全体の場","×","","","",null,"","","","","","","","5ターンの間、グラスフィールドにする。地面にいるすべてのポケモンは毎ターン最大HPの1/16ずつ回復し、また『くさ』タイプの技の威力が1.5倍になり、『じしん』『じならし』『マグニチュード』の威力が半分になる。"]
[null,"グラスミキサー","くさ",65,90,10,16,"特殊","選択","×","","","",null,"","","","","","","","50%の確率で相手の命中率を1段階下げる。"]
[null,"クラブハンマー","みず",100,90,10,16,"物理","選択","○","","+1","",null,"","","","","","",""]
[null,"グランドフォース","じめん",90,100,10,16,"物理","相手全体","×","","","",null,"","","","","","",""]
[null,"クリアスモッグ","どく",50,"-",15,24,"特殊","選択","×","","","",null,"","","","","","","","相手の『のうりょく』ランクの変化を元に戻す。"]
[null,"くろいきり","こおり","-","-",30,48,"変化","全体の場","×","","","",null,"","","","","","","","すべてのポケモンの『のうりょく』ランクの変化を元に戻す。"]
[null,"くろいまなざし","ノーマル","-","-",5,8,"変化","選択","×","","","",null,"","","","","","","","相手を逃げたり、交代できなくする。"]
[null,"グロウパンチ","かくとう",40,100,20,32,"物理","選択","○","","","",null,"","","","","","","","自分の『こうげき』ランクが1段階上がる。特性『てつのこぶし』の時、威力が1.2倍になる。"]
[null,"クロスサンダー","でんき",100,100,5,8,"物理","選択","×","","","",null,"","","","","","","","ダブルバトル・トリプルバトルで、技『クロスフレイム』と組み合わせて使用すると威力が上がる。"]
[null,"クロスチョップ","かくとう",100,80,5,8,"物理","選択","○","","+1","",null,"","","","","","",""]
[null,"クロスフレイム","ほのお",100,100,5,8,"特殊","選択","×","","","",null,"","","","","","","","ダブルバトル・トリプルバトルで、技『クロスサンダー』と組み合わせて使用すると威力が上がる。"]
[null,"クロスポイズン","どく",70,100,20,32,"物理","選択","○","","+1",0.1,null,"","","","","","",""]
[null,"げきりん","ドラゴン",120,100,10,16,"物理","ランダム1体","○","","","",null,"","","","",null,"","","2～3ターン連続で攻撃し、その後自分は1～4ターンの間『こんらん』状態になる。"]
[null,"けたぐり","かくとう","-",100,20,32,"物理","選択","○","","","",null,"","","","","","","","相手の『おもさ』が重いほど威力が高くなる。10kg未満は20、25kg未満は40、50kg未満は60、100kg未満は80、200kg未満は100、それ以上は120。"]
[null,"ゲップ","どく",120,90,10,16,"特殊","選択","×","","","",null,"","","","","","","","この技は『きのみ』を食べると使えるようになる。"]
[null,"げんしのちから","いわ",60,100,5,8,"特殊","選択","×","","","",null,"","","","","","","","10%の確率で自分の『こうげき』『ぼうぎょ』『とくこう』『とくぼう』『すばやさ』ランクが1段階ずつ上がる。"]
[null,"コアパニッシャー","ドラゴン",100,100,10,16,"特殊","相手全体","×",null,null,null,null,null,null,null,null,null,null,null,"この技のダメージを受けたポケモンがそのターンにすでに技を使用していた場合、そのポケモンは特性が無効になる。"]
[null,"こうげきしれい","むし",90,100,15,24,"物理","選択","×","","+1","",null,"","","","","","",""]
[null,"こうごうせい","くさ","-","-",5,8,"変化","自分","×","","","",null,"","","","","","","","HPが、天気が通常の時は最大HPの1/2、『ひざしがつよい』の時は最大HPの2/3、『あめ』『あられ』『すなあらし』の時は最大HPの1/4回復する。"]
[null,"こうそくいどう","エスパー","-","-",30,48,"変化","自分","×","","","",null,"","","","","","","","自分の『すばやさ』ランクが2段階上がる。"]
[null,"こうそくスピン","ノーマル",20,100,40,64,"物理","選択","○","","","",null,"","","","","","","","技『うずしお』『からではさむ』『しめつける』『すなじごく』『ほのおのうず』『まきつく』『まきびし』『やどりぎのタネ』から解放される。"]
[null,"ゴーストダイブ","ゴースト",90,100,10,16,"物理","選択","○","","","",null,"","","","","","","","1ターン目に消えて、2ターン目に攻撃する。消えている間はほとんどの技を受けない。相手の『まもる』『みきり』『たたみがえし』『キングシールド』『ニードルガード』の効果を受けない。相手が『ちいさくなる』を使用していると必ず命中し、威力が2倍になる。"]
[null,"こおりのいぶき","こおり",60,90,10,16,"特殊","選択","×","","","",null,"","","","","","","","必ず急所に当たる。"]
[null,"こおりのキバ","こおり",65,95,15,24,"物理","選択","○","","","",null,"","","",0.05,"","",0.05]
[null,"こおりのつぶて","こおり",40,100,30,48,"物理","選択","×","+1","","",null,"","","","","","",""]
[null,"コールドフレア","こおり",140,90,5,8,"特殊","選択","×","","","",null,"",0.3,"","","","","","1ターン目は攻撃せずに、2ターン目で攻撃する。"]
[null,"こごえるかぜ","こおり",55,95,15,24,"特殊","相手全体","×","","","",null,"","","","","","","","相手の『すばやさ』ランクを1段階下げる。"]
[null,"こごえるせかい","こおり",65,95,10,16,"特殊","相手全体","×","","","",null,"","","","","","","","相手の『すばやさ』ランクを1段階下げる。"]
[null,"こころのめ","ノーマル","-","-",5,8,"変化","選択","×","","","",null,"","","","","","","","次のターン、使った相手に自分の技が必ず命中する。"]
[null,"コスモパワー","エスパー","-","-",20,32,"変化","自分","×","","","",null,"","","","","","","","自分の『ぼうぎょ』『とくぼう』ランクが1段階ずつ上がる。"]
[null,"ゴッドバード","ひこう",140,90,5,8,"物理","選択","×","","+1","",null,"","","","","","",0.3,"1ターン目は攻撃せずに、2ターン目で攻撃する。"]
[null,"コットンガード","くさ","-","-",10,16,"変化","自分","×","","","",null,"","","","","","","","自分の『ぼうぎょ』ランクが3段階上がる。"]
[null,"こなゆき","こおり",40,100,25,40,"特殊","相手全体","×","","","",null,"","","",0.1,"","",""]
[null,"このは","くさ",40,100,40,64,"物理","選択","×",null,null,null,null,null,null,null,null,null,null,null,"-"]
[null,"このゆびとまれ","ノーマル","-","-",20,32,"変化","自分","×","+2","","",null,"","","","","","","","そのターンの相手の技をすべて自分が受ける。ダブルバトル・トリプルバトル用。"]
[null,"コメットパンチ","はがね",90,90,10,16,"物理","選択","○","","","",null,"","","","","","","","20%の確率で自分の『こうげき』ランクが1段階上がる。特性『てつのこぶし』の時、威力が1.2倍になる。"]
[null,"こらえる","ノーマル","-","-",10,16,"変化","自分","×","+3","","",null,"","","","","","","","そのターンに『ひんし』状態になる攻撃を受けてもHPが1残る。連続で使うと失敗しやすくなる。"]
[null,"ころがる","いわ",30,90,20,32,"物理","選択","○","","","",null,"","","","","","","","外れるまで5ターン連続で攻撃し、攻撃が当たる度に威力が倍増する(最高480)。事前に技『まるくなる』を使っていると威力が2倍になる。"]
[null,"こわいかお","ノーマル","-",100,10,16,"変化","選択","×","","","",null,"","","","","","","","相手の『すばやさ』ランクを2段階下げる。"]
[null,"こんげんのはどう","みず",110,85,10,16,"特殊","相手全体","×","","","",null,"","","","","","",""]
[null,"サイケこうせん","エスパー",65,100,20,32,"特殊","選択","×","","","",null,"","","","",0.1,"",""]
[null,"サイコウェーブ","エスパー","-",100,15,24,"特殊","選択","×","","","",null,"","","","","","","","(自分のレベル×0.5～1.5)が相手に与えるダメージになる。"]
[null,"サイコカッター","エスパー",70,100,20,32,"物理","選択","×","","+1","",null,"","","","","","",""]
[null,"サイコキネシス","エスパー",90,100,10,16,"特殊","選択","×","","","",null,"","","","","","","","10%の確率で相手の『とくぼう』ランクを1段階下げる。"]
[null,"サイコシフト","エスパー","-",100,10,16,"変化","選択","×","","","",null,"","","","","","","","自分の状態異常を相手に移し、自分は回復する。"]
[null,"サイコショック","エスパー",80,100,10,16,"特殊","選択","×","","","",null,"","","","","","","","相手の『とくぼう』ではなく、相手の『ぼうぎょ』の能力値でダメージ計算する。"]
[null,"サイコファング","エスパー",85,100,10,16,"物理","選択","〇",null,null,null,null,null,null,null,null,null,null,null,"相手の技『リフレクター』『オーロラベール』の効果を受けず、相手の技『リフレクター』『ひかりのかべ』『オーロラベール』を壊す。"]
[null,"サイコフィールド","エスパー","–","–",10,16,"変化","フィールド","×",null,null,null,null,null,null,null,null,null,null,null,"5ターンの間、サイコフィールドにする。地面にいるすべてのポケモンは、先制技を受けなくなり、また『エスパー』タイプの技の威力が1.5倍になる。"]
[null,"サイコブースト","エスパー",140,90,5,8,"特殊","選択","×","","","",null,"","","","","","","","攻撃後、自分の『とくこう』ランクが2段階下がる。"]
[null,"サイコブレイク","エスパー",100,100,10,16,"特殊","選択","×","","","",null,"","","","","","","","相手の『とくぼう』ではなく、相手の『ぼうぎょ』の能力値でダメージ計算する。"]
[null,"サイドチェンジ","エスパー","-","-",15,24,"変化","自分","×","+2","","",null,"","","","","","","","自分と味方1体の位置を交代できる。ダブルバトル・トリプルバトル用。"]
[null,"さいはい","エスパー","–","–",15,24,"変化","選択","×",null,null,null,null,null,null,null,null,null,null,null,"相手が最後に使用した技をその場でもう一度使わせる。"]
[null,"さいみんじゅつ","エスパー","-",60,20,32,"変化","選択","×","","","",null,"","",1,"","","",""]
[null,"さきおくり","あく","-",100,15,24,"変化","選択","×","","","",null,"","","","","","","","相手は『すばやさ』に関係なく、行動が最後になる。ダブルバトル・トリプルバトル用。"]
[null,"さきどり","ノーマル","-","-",20,32,"変化","不定","×","","","",null,"","","","","","","","相手が使おうとしている攻撃技をダメージを1.5倍にして使う。後攻になると失敗する。"]
[null,"さしおさえ","あく","-",100,15,24,"変化","選択","×","","","",null,"","","","","","","","5ターンの間、持っている道具を使えなくなる。トレーナーもそのポケモンには道具を使えない。"]
[null,"さばきのつぶて","ノーマル",100,100,10,16,"特殊","選択","×","","","",null,"","","","","","","","持たせた『プレート』によって『タイプ』が変わる。"]
[null,"さわぐ","ノーマル",90,100,10,16,"特殊","ランダム1体","×","","","",null,"","",null,"","","","","3ターン連続で攻撃し、その間はすべてのポケモンが『ねむり』状態にならない。相手が『みがわり』状態でも命中する。"]
[null,"シードフレア","くさ",120,85,5,8,"特殊","選択","×","","","",null,"","","","","","","","40%の確率で相手の『とくぼう』ランクを2段階下げる。"]
[null,"シェルブレード","みず",75,95,10,16,"物理","選択","○","","","",null,"","","","","","","","50%の確率で相手の『ぼうぎょ』ランクを1段階下げる。"]
[null,"ジオコントロール","フェアリー","-","-",10,16,"変化","自分","×","","","",null,"","","","","","","","1ターン目にためて、2ターン目に自分の『とくこう』『とくぼう』『すばやさ』ランクが2段階ずつ上がる。"]
[null,"しおふき","みず",150,100,5,8,"特殊","相手全体","×","","","",null,"","","","","","","","(150×自分の残りHP÷自分の最大HP)が威力になる。"]
[null,"しおみず","みず",65,100,10,16,"特殊","選択","×","","","",null,"","","","","","","","相手のHPが最大HPの半分以下の時、威力が2倍になる。"]
[null,"シグナルビーム","むし",75,100,15,24,"特殊","選択","×","","","",null,"","","","",0.1,"",""]
[null,"じこあんじ","ノーマル","-","-",10,16,"変化","選択","×","","","",null,"","","","","","","","相手にかかっている補助効果を自分にもかける。"]
[null,"じごくぐるま","かくとう",80,80,25,40,"物理","選択","○","","","",null,"","","","","","","","相手に与えたダメージの1/4を自分も受ける。"]
[null,"じごくづき","あく",80,100,15,24,"物理","選択","〇",null,null,null,null,null,null,null,null,null,null,null,"相手は2ターンの間、音系の技を使えなくなる。"]
[null,"じこさいせい","ノーマル","-","-",10,16,"変化","自分","×","","","",null,"","","","","","","","HPが最大HPの半分回復する。"]
[null,"シザークロス","むし",80,100,15,24,"物理","選択","○","","","",null,"","","","","","",""]
[null,"じしん","じめん",100,100,10,16,"物理","自分以外","×","","","",null,"","","","","","","","相手が技『あなをほる』を使っている時でも命中し、ダメージが2倍になる。"]
[null,"しぜんのいかり","フェアリー","–",90,10,16,"特殊","選択","×",null,null,null,null,null,null,null,null,null,null,null,"相手のHPを残りHPの半分にする。"]
[null,"しぜんのちから","ノーマル","-","-",20,32,"変化","不定","×","","","",null,"","","",null,"","","","地形が草むらの時は『エナジーボール』、沼地の時は『どろばくだん』、水上の時は『ハイドロポンプ』、砂地の時は『だいちのちから』、岩場と洞窟の時は『パワージェム』、雪原の時は『こおりのいぶき』、氷上の時は『れいとうビーム』、ミストフィールドの時は『ムーンフォース』、グラスフィールドの時は『エナジーボール』、エレキフィールドの時は『10まんボルト』、それ以外とスカイバトルの時は『トライアタック』となる。"]
[null,"しぜんのめぐみ","ノーマル","-",100,15,24,"物理","選択","×","","","",null,"","","","","","","","持っている『きのみ』によって『タイプ』と威力が変わる。『きのみ』はなくなる。"]
[null,"したでなめる","ゴースト",30,100,30,48,"物理","選択","○","","","",null,0.3,"","","","","",""]
[null,"じたばた","ノーマル","-",100,15,24,"物理","選択","○","","","",null,"","","","","","","","自分の残りHPが少ないほど威力が高くなる。"]
[null,"じだんだ","じめん",75,100,10,16,"物理","選択","〇",null,null,null,null,null,null,null,null,null,null,null,"前のターンで自分が使った技が失敗していた場合、威力が2倍になる。"]
[null,"しっぺがえし","あく",50,100,10,16,"物理","選択","○","","","",null,"","","","","","","","自分が後攻の時、威力が2倍になる。"]
[null,"しっぽをふる","ノーマル","-",100,30,48,"変化","相手全体","×","","","",null,"","","","","","","","相手の『ぼうぎょ』ランクを1段階下げる。"]
[null,"じならし","じめん",60,100,20,32,"物理","自分以外","×","","","",null,"","","","","","","","相手の『すばやさ』ランクを1段階下げる。"]
[null,"しねんのずつき","エスパー",80,90,15,24,"物理","選択","○","","","",null,"","","","","","",0.2]
[null,"じばく","ノーマル",200,100,5,8,"物理","自分以外","×","","","",null,"","","","","","","","攻撃後、自分が『ひんし』状態になる。"]
[null,"じばそうさ","でんき","-","-",20,32,"変化","味方全体","×","","","",null,"","","","","","","","特性が『プラス』『マイナス』のすべての味方のポケモンの『ぼうぎょ』『とくぼう』ランクが1段階ずつ上がる。"]
[null,"しびれごな","くさ","-",75,30,48,"変化","選択","×","","","",null,1,"","","","","","","『でんき』タイプや『くさ』タイプ、特性『ぼうじん』のポケモンには無効。"]
[null,"しぼりとる","ノーマル","-",100,5,8,"特殊","選択","○","","","",null,"","","","","","","","相手の残りHPが多いほど威力が高くなる。最高120。"]
[null,"しめつける","ノーマル",15,85,20,32,"物理","選択","○","","","",null,"","","","","","","","4～5ターンの間、毎ターン終了後最大HPの1/8のダメージを与え、その間相手は逃げられない。"]
[null,"ジャイロボール","はがね","-",100,5,8,"物理","選択","○","","","",null,"","","","","","","","相手より『すばやさ』が低いほど威力が高くなる。(25×相手のすばやさ÷自分のすばやさ)+1が威力になる。ただし最大威力は150。小数点以下は切り捨て。"]
[null,"シャドークロー","ゴースト",70,100,15,24,"物理","選択","○","","+1","",null,"","","","","","",""]
[null,"シャドースチール","ゴースト",90,100,10,16,"物理","選択","〇",null,null,null,null,null,null,null,null,null,null,null,"相手の能力ランクの上昇を盗んで攻撃する。"]
[null,"シャドーダイブ","ゴースト",120,100,5,8,"物理","選択","○","","","",null,"","","","","","","","1ターン目に消えて、2ターン目に攻撃する。消えている間はほとんどの技を受けない。相手の『まもる』『みきり』『たたみがえし』『キングシールド』『ニードルガード』の効果を受けない。"]
[null,"シャドーパンチ","ゴースト",60,"-",20,32,"物理","選択","○","","","",null,"","","","","","","","自分の命中率、相手の回避率に関係なく必ず命中する。特性『てつのこぶし』の時、威力が1.2倍になる。"]
[null,"シャドーボール","ゴースト",80,100,15,24,"特殊","選択","×","","","",null,"","","","","","","","20%の確率で相手の『とくぼう』ランクを1段階下げる。"]
[null,"シャドーボーン","ゴースト",85,100,10,16,"物理","選択","×",null,null,null,null,null,null,null,null,null,null,null,"20%の確率で、相手の『ぼうぎょ』ランクを1段階下げる。"]
[null,"シャドーレイ","ゴースト",100,100,5,8,"特殊","選択","×",null,null,null,null,null,null,null,null,null,null,null,"相手の特性を無視して攻撃。"]
[null,"じゃれつく","フェアリー",90,90,10,16,"物理","選択","○","","","",null,"","","","","","","","10%の確率で相手の『こうげき』ランクを1段階下げる。"]
[null,"じゅうでん","でんき","-","-",20,32,"変化","自分","×","","","",null,"","","","","","","","次のターン、自分の『でんき』タイプの技の威力が2倍になる。自分の『とくぼう』ランクが1段階上がる。"]
[null,"じゅうりょく","エスパー","-","-",5,8,"変化","全体の場","×","","","",null,"","","","","","","","5ターンの間、すべてのポケモンの命中率が上がる。特性『ふゆう』や、『ひこう』タイプのポケモンに『じめん』タイプの技が当たるようになる。また、技『そらをとぶ』『はねる』『とびはねる』『でんじふゆう』『フリーフォール』が使えなくなり、使用している場合は解除される。『テレキネシス』を受けなくなり、受けている場合は解除される。"]
[null,"じょうか","どく","–","–",20,32,"変化","選択","×",null,null,null,null,null,null,null,null,null,null,null,"相手の状態異常を回復し、自分のHPも回復する。相手が状態異常ではない時は失敗する。"]
[null,"しろいきり","こおり","-","-",30,48,"変化","味方の場","×","","","",null,"","","","","","","","5ターンの間、『のうりょく』ランクを下げられなくなる。交代しても効果は続く。"]
[null,"じわれ","じめん","-",30,5,8,"物理","選択","×","","","",null,"","","","","","","","相手を『ひんし』状態にする。相手のレベルが自分より高いと失敗する。(30＋自分のレベル－相手のレベル)が命中率になる。"]
[null,"しんくうは","かくとう",40,100,30,48,"特殊","選択","×","+1","","",null,"","","","","","",""]
[null,"シンクロノイズ","エスパー",120,100,10,16,"特殊","自分以外","×","","","",null,"","","","","","","","自分と同じ『タイプ』のポケモン全員にダメージを与える。"]
[null,"しんそく","ノーマル",80,100,5,8,"物理","選択","○","+2","","",null,"","","","","","",""]
[null,"じんつうりき","エスパー",80,100,20,32,"特殊","選択","×","","","",null,"","","","","","",0.1]
[null,"しんぴのつるぎ","かくとう",85,100,10,16,"特殊","選択","×","","","",null,"","","","","","","","相手の『とくぼう』ではなく、相手の『ぼうぎょ』の能力値でダメージ計算する。"]
[null,"しんぴのまもり","ノーマル","-","-",25,40,"変化","味方の場","×","","","",null,"","","","","","","","5ターンの間、状態異常にならなくなる。交代しても効果は続く。"]
[null,"シンプルビーム","ノーマル","-",100,15,24,"変化","選択","×","","","",null,"","","","","","","","相手の特性が『たんじゅん』になる。(ダブルバトル・トリプルバトルで味方に使うと良い)"]
[null,"スイープビンタ","ノーマル",25,85,10,16,"物理","選択","○","","","",null,"","","","","","","","1ターンに2～5回連続で攻撃する。"]
[null,"すいとる","くさ",20,100,25,40,"特殊","選択","×","","","",null,"","","","","","","","相手に与えたダメージの半分だけ自分のHPが回復する。"]
[null,"スカイアッパー","かくとう",85,90,15,24,"物理","選択","○","","","",null,"","","","","","","","相手が技『そらをとぶ』『とびはねる』『フリーフォール』を使っている時でも命中する。特性『てつのこぶし』の時、威力が1.2倍になる。"]
[null,"スキルスワップ","エスパー","-","-",10,16,"変化","選択","×","","","",null,"","","","","","","","自分と相手の特性を入れ替える。ただし、『ふしぎなまもり』など一部の固有な特性は入れ替えられない。"]
[null,"スケイルノイズ","ドラゴン",110,100,5,8,"特殊","相手全体","×",null,null,null,null,null,null,null,null,null,null,null,"攻撃後、自分の『ぼうぎょ』ランクが1段階下がる。相手の『みがわり』状態を貫通する。"]
[null,"スケッチ","ノーマル","-","-",1,1.6,"変化","選択","×","","","",null,"","","","","","","","この技を忘れて、相手が最後に使った技を覚える。戦闘終了後も元に戻らない。"]
[null,"ずつき","ノーマル",70,100,15,24,"物理","選択","○","","","",null,"","","","","","",0.3]
[null,"すてゼリフ","あく","-",100,20,32,"変化","選択","×","","","",null,"","","","","","","","相手の『こうげき』『とくこう』を1段階下げたあと、手持ちのポケモンと入れ替わる。相手が『みがわり』状態でも命中する。"]
[null,"すてみタックル","ノーマル",120,100,15,24,"物理","選択","○","","","",null,"","","","","","","","相手に与えたダメージの1/3を自分も受ける。"]
[null,"ステルスロック","いわ","-","-",20,32,"変化","相手の場","×","","","",null,"","","","","","","","使用後、相手はポケモンを交代する度に、出てきたポケモンはダメージを受ける。『タイプ』相性の影響を受ける。"]
[null,"ストーンエッジ","いわ",100,80,5,8,"物理","選択","×","","+1","",null,"","","","","","",""]
[null,"すなあつめ","ゴースト","–","–",10,16,"変化","自分","×",null,null,null,null,null,null,null,null,null,null,null,"HPが最大HPの半分回復する。ただし、天気が『すなあらし』の時は最大HPの2/3回復する。"]
[null,"すなあらし","いわ","-","-",10,16,"変化","全体の場","×","","","",null,"","","","","","","","5ターンの間、天気を『すなあらし』にする。"]
[null,"すなかけ","じめん","-",100,15,24,"変化","選択","×","","","",null,"","","","","","","","相手の命中率を1段階下げる。"]
[null,"すなじごく","じめん",35,85,15,24,"物理","選択","×","","","",null,"","","","","","","","4～5ターンの間、毎ターン終了後最大HPの1/8のダメージを与え、その間相手は逃げられない。"]
[null,"スパーク","でんき",65,100,20,32,"物理","選択","○","","","",null,0.3,"","","","","",""]
[null,"スピードスター","ノーマル",60,"-",20,32,"特殊","相手全体","×","","","",null,"","","","","","","","自分の命中率、相手の回避率に関係なく必ず命中する。"]
[null,"スピードスワップ","エスパー","–","–",10,16,"変化","選択","×",null,null,null,null,null,null,null,null,null,null,null,"自分と相手の『すばやさ』ランクを入れ替える。"]
[null,"スプーンまげ","エスパー","-",80,15,24,"変化","選択","×","","","",null,"","","","","","","","相手の命中率を1段階下げる。"]
[null,"スポットライト","ノーマル","–","–",15,24,"変化","選択","×","+3",null,null,null,null,null,null,null,null,null,null,"そのターンの相手の技をすべて自分が受ける。ダブルバトル・トリプルバトル用。"]
[null,"スマートホーン","はがね",70,"–",10,16,"物理","選択","〇",null,null,null,null,null,null,null,null,null,null,null,"自分の命中率、相手の回避率に関係なく必ず命中する。"]
[null,"スモッグ","どく",30,70,20,32,"特殊","選択","×","","",0.4,null,"","","","","","",""]
[null,"すりかえ","あく","-",100,10,16,"変化","選択","×","","","",null,"","","","","","","","相手と自分が持っている道具を入れ替える。片方しか道具を持っていない場合も成功する。"]
[null,"せいちょう","ノーマル","-","-",40,64,"変化","自分","×","","","",null,"","","","","","","","自分の『こうげき』『とくこう』ランクが1段階ずつ上がる。天気が『ひざしがつよい』の時は、2段階ずつ上がる。"]
[null,"せいなるつるぎ","かくとう",90,100,20,32,"物理","選択","○","","","",null,"","","","","","","","相手の『のうりょく』ランクの変化に関係なく、ダメージを与える。"]
[null,"せいなるほのお","ほのお",100,95,5,8,"物理","選択","×","","","",null,"",0.5,"",null,"","","","自分が『こおり』状態の時でも使う事ができ、使うと『こおり』状態が治る。"]
[null,"ぜったいれいど","こおり","-",30,5,8,"特殊","選択","×","","","",null,"","","","","","","","相手を『ひんし』状態にする。相手のレベルが自分より高いと失敗する。(30＋自分のレベル－相手のレベル)が命中率になる。"]
[null,"そうでん","でんき","-","-",20,32,"変化","選択","×","","","",null,"","","","","","","","相手が技を出す前に使用すると、そのターン相手の攻撃は『でんき』タイプになる。"]
[null,"ソーラービーム","くさ",120,100,10,16,"特殊","選択","×","","","",null,"","","","","","","","1ターン目は攻撃せずに、2ターン目で攻撃する。天気が『ひざしがつよい』の時は1ターンためずに攻撃でき、『あめ』『あられ』『すなあらし』の時は威力が半分になる。"]
[null,"ソーラーブレード","くさ",125,100,10,16,"物理","選択","〇",null,null,null,null,null,null,null,null,null,null,null,"1ターン目は攻撃せずに、2ターン目で攻撃する。天気が『ひざしがつよい』の時は1ターンためずに攻撃でき、『あめ』『あられ』『すなあらし』の時は威力が半分になる。"]
[null,"ソニックブーム","ノーマル","-",90,20,32,"特殊","選択","×","","","",null,"","","","","","","","20の固定ダメージを与える。"]
[null,"そらをとぶ","ひこう",90,95,15,24,"物理","選択","○","","","",null,"","","","","","","","1ターン目に空中へ飛び上がり、2ターン目に攻撃する。空中にいる間はほとんどの技を受けない。"]
[null,"ダークホール","あく","-",50,10,16,"変化","相手全体","×","","","",null,"","",1,"","","","","ダークライ専用技"]
[null,"たいあたり","ノーマル",440,100,35,56,"物理","選択","○","","","",null,"","","","","","",""]
[null,"だいちのちから","じめん",90,100,10,16,"特殊","選択","×","","","",null,"","","","","","","","10%の確率で相手の『とくぼう』ランクを1段階下げる。"]
[null,"だいばくはつ","ノーマル",250,100,5,8,"物理","自分以外","×","","","",null,"","","","","","","","攻撃後、自分が『ひんし』状態になる。"]
[null,"ダイビング","みず",80,100,10,16,"物理","選択","○","","","",null,"","","","","","","","1ターン目に水中へ潜り、2ターン目に攻撃する。水中にいる間はほとんどの技を受けない。"]
[null,"だいもんじ","ほのお",110,85,5,8,"特殊","選択","×","","","",null,"",0.1,"","","","",""]
[null,"ダイヤストーム","いわ",100,95,5,8,"物理","相手全体","×","","","",null,"","","","","","","","50%の確率で自分の『ぼうぎょ』ランクが2段階上がる。"]
[null,"たがやす","じめん","-","-",10,16,"変化","全体","×","","","",null,"","","","","","","","すべての『くさ』タイプのポケモンの『こうげき』『とくこう』ランクが1段階ずつ上がる。"]
[null,"たきのぼり","みず",80,100,15,24,"物理","選択","○","","","",null,"","","","","","",0.2]
[null,"だくりゅう","みず",90,85,10,16,"特殊","相手全体","×","","","",null,"","","","","","","","30%の確率で相手の命中率を1段階下げる。"]
[null,"たくわえる","ノーマル","-","-",20,32,"変化","自分","×","","","",null,"","","","","","","","自分の『ぼうぎょ』『とくぼう』ランクを1段階ずつ上げる。技『のみこむ』『はきだす』の効果を上げる。3回までたくわえることができる。"]
[null,"ダストシュート","どく",120,80,5,8,"物理","選択","×","","",0.3,null,"","","","","","",""]
[null,"たたきつける","ノーマル",80,75,20,32,"物理","選択","○","","","",null,"","","","","","",""]
[null,"たたみがえし","かくとう","-","-",10,16,"変化","味方の場","×","","","",null,"","","","","","","","そのターンの間、自分と味方への攻撃技を無効化する。変化技は防げない。ただし、出た最初のターンしか成功しない。(先制技ではない)"]
[null,"たたりめ","ゴースト",65,100,10,16,"特殊","選択","×","","","",null,"","","","","","","","相手が状態異常の時、威力が2倍になる。"]
[null,"たつまき","ドラゴン",40,100,20,32,"特殊","相手全体","×","","","",null,"","","","","","",0.2,"相手が技『そらをとぶ』『とびはねる』『フリーフォール』を使っている時でも命中し、ダメージが2倍になる。"]
[null,"タネばくだん","くさ",80,100,15,24,"物理","選択","×","","","",null,"","","","","","",""]
[null,"タネマシンガン","くさ",25,100,30,48,"物理","選択","×","","","",null,"","","","","","","","1ターンに2～5回連続で攻撃する。"]
[null,"ダブルアタック","ノーマル",35,90,10,16,"物理","選択","○","","","",null,"","","","","","","","1ターンに2回連続で攻撃する。"]
[null,"ダブルチョップ","ドラゴン",40,90,15,24,"物理","選択","○","","","",null,"","","","","","","","1ターンに2回連続で攻撃する。"]
[null,"ダブルニードル","むし",25,100,20,32,"物理","選択","×","","",0.2,null,"","","","","","","","1ターンに2回連続で攻撃する。"]
[null,"タマゴうみ","ノーマル","-","-",10,16,"変化","自分","×","","","",null,"","","","","","","","HPが最大HPの半分回復する。"]
[null,"タマゴばくだん","ノーマル",100,75,10,16,"物理","選択","×","","","",null,"","","","","","",""]
[null,"だましうち","あく",60,"-",20,32,"物理","選択","○","","","",null,"","","","","","","","自分の命中率、相手の回避率に関係なく必ず命中する。"]
[null,"たまなげ","ノーマル",15,85,20,32,"物理","選択","×","","","",null,"","","","","","","","1ターンに2～5回連続で攻撃する。"]
[null,"ダメおし","あく",60,100,10,16,"物理","選択","○","","","",null,"","","","","","","","そのターン、相手が既にダメージを受けている時、威力が2倍になる。"]
[null,"だんがいのつるぎ","じめん",120,85,10,16,"物理","相手全体","×","","","",null,"","","","","","",""]
[null,"ちいさくなる","ノーマル","-","-",10,16,"変化","自分","×","","","",null,"","","","","","","","自分の回避率を2段階上げる。ただし、技『のしかかり』『ふみつけ』『ドラゴンダイブ』『ハードローラー』『フライングプレス』『ゴーストダイブ』は必ず命中し威力2倍で受けるようになってしまう。"]
[null,"ちからをすいとる","くさ","–",100,10,16,"変化","選択","×",null,null,null,null,null,null,null,null,null,null,null,"相手の『こうげき』の分だけHPを回復する。また、相手の『こうげき』を下げる。"]
[null,"ちきゅうなげ","かくとう","-",100,20,32,"物理","選択","○","","","",null,"","","","","","","","自分のレベルと同じ値の固定ダメージを与える。"]
[null,"チャージビーム","でんき",50,90,10,16,"特殊","選択","×","","","",null,"","","","","","","","70%の確率で自分の『とくこう』ランクが1段階上がる。"]
[null,"チャームボイス","フェアリー",40,"-",15,24,"特殊","相手全体","×","","","",null,"","","","","","","","自分の命中率、相手の回避率に関係なく必ず命中する。相手が『みがわり』状態でも命中する。"]
[null,"ちょうおんぱ","ノーマル","-",55,20,32,"変化","選択","×","","","",null,"","","","",1,"","","相手が『みがわり』状態でも命中する。"]
[null,"ちょうのまい","むし","-","-",20,32,"変化","自分","×","","","",null,"","","","","","","","自分の『とくこう』『とくぼう』『すばやさ』ランクが1段階ずつ上がる。"]
[null,"ちょうはつ","あく","-",100,20,32,"変化","選択","×","","","",null,"","","","","","","","3ターンの間、相手は攻撃技しか出せなくなる。(変化技を使えなくする)"]
[null,"ついばむ","ひこう",60,100,20,32,"物理","選択","○","","","",null,"","","","","","","","相手が持っているバトルに効果のある『きのみ』を奪って、自分に使う。"]
[null,"つきのひかり","フェアリー","-","-",5,8,"変化","自分","×","","","",null,"","","","","","","","HPが、天気が通常の時は最大HPの1/2、『ひざしがつよい』の時は最大HPの2/3、『あめ』『あられ』『すなあらし』の時は最大HPの1/4回復する。"]
[null,"つけあがる","あく",20,100,10,16,"物理","選択","〇",null,null,null,null,null,null,null,null,null,null,null,"自分のいずれかの『のうりょく』ランクが1つ上がる度に威力が20上がる。"]
[null,"つじぎり","あく",70,100,15,24,"物理","選択","○","","+1","",null,"","","","","","",""]
[null,"つつく","ひこう",35,100,35,56,"物理","選択","○","","","",null,"","","","","","",""]
[null,"つっぱり","かくとう",15,100,20,32,"物理","選択","○","","","",null,"","","","","","","","1ターンに2～5回連続で攻撃する。"]
[null,"つのでつく","ノーマル",65,100,25,40,"物理","選択","○","","","",null,"","","","","","",""]
[null,"つのドリル","ノーマル","-",30,5,8,"物理","選択","○","","","",null,"","","","","","","","相手を『ひんし』状態にする。相手のレベルが自分より高いと失敗する。(30＋自分のレベル－相手のレベル)が命中率になる。"]
[null,"つばさでうつ","ひこう",60,100,35,56,"物理","選択","○","","","",null,"","","","","","",""]
[null,"つばめがえし","ひこう",60,"-",20,32,"物理","選択","○","","","",null,"","","","","","","","自分の命中率、相手の回避率に関係なく必ず命中する。"]
[null,"つぶらなひとみ","フェアリー","-",100,30,48,"変化","選択","×","+1","","",null,"","","","","","","","相手の『こうげき』ランクを1段階下げる。"]
[null,"つぼをつく","ノーマル","-","-",30,48,"変化","自分か味方","×","","","",null,"","","","","","","","ランダムで『こうげき』『ぼうぎょ』『とくこう』『とくぼう』『すばやさ』『回避率』『命中率』ランクのどれか1つが2段階上がる。"]
[null,"つめとぎ","あく","-","-",15,24,"変化","自分","×","","","",null,"","","","","","","","自分の『こうげき』『命中率』ランクが1段階ずつ上がる。"]
[null,"つららおとし","こおり",85,90,10,16,"物理","選択","×","","","",null,"","","","","","",0.3]
[null,"つららばり","こおり",25,100,30,48,"物理","選択","×","","","",null,"","","","","","","","1ターンに2～5回連続で攻撃する。"]
[null,"つるぎのまい","ノーマル","-","-",20,32,"変化","自分","×","","","",null,"","","","","","","","自分の『こうげき』ランクを2段階上げる。"]
[null,"つるのムチ","くさ",45,100,25,40,"物理","選択","○","","","",null,"","","","","","",""]
[null,"であいがしら","むし",90,100,10,16,"物理","選択","〇","+2",null,null,null,null,null,null,null,null,null,null,"場に出たターンのみ使える先制攻撃(優先度)。"]
[null,"てかげん","ノーマル",40,100,40,64,"物理","選択","○","","","",null,"","","","","","","","この技のダメージで相手のHPが0になる時、相手のHPを1にする。野生のポケモンを捕まえる時に便利。"]
[null,"テクスチャー","ノーマル","-","-",30,48,"変化","自分","×","","","",null,"","","","","","","","自分の『タイプ』を、自分の一番上の技と同じタイプに変える。"]
[null,"テクスチャー2","ノーマル","-","-",30,48,"変化","選択","×","","","",null,"","","","","","","","自分のタイプを相手が最後に使った技が効きづらいタイプに変える。どのタイプになるかはランダム。"]
[null,"テクノバスター","ノーマル",120,100,5,8,"特殊","選択","×","","","",null,"","","","","","","","持たせた『カセット』によって『タイプ』が変わる。"]
[null,"デスウイング","ひこう",80,100,10,16,"特殊","選択","×","","","",null,"","","","","","","","相手に与えたダメージの3/4だけ自分のHPが回復する。"]
[null,"てだすけ","ノーマル","-","-",20,32,"変化","味方1体","×","+5","","",null,"","","","","","","","使用後、味方の技の威力を1.5倍にする。"]
[null,"てっぺき","はがね","-","-",15,24,"変化","自分","×","","","",null,"","","","","","","","自分の『ぼうぎょ』ランクを2段階上げる。"]
[null,"テレキネシス","エスパー","-","-",15,24,"変化","選択","×","","","",null,"","","","","","","","3ターンの間、相手を『ふゆう』状態にする。『じめん』タイプの技が当たらなくなるが、それ以外の技が必ず命中するようになる。ただし、一撃必殺の技は変化しない。"]
[null,"テレポート","エスパー","-","-",20,32,"変化","自分","×","","","",null,"","","","","","","","野生のポケモンとの戦闘を終了する。"]
[null,"でんきショック","でんき",40,100,30,48,"特殊","選択","×","","","",null,0.1,"","","","","",""]
[null,"でんげきは","でんき",60,"-",20,32,"特殊","選択","×","","","",null,"","","","","","","","自分の命中率、相手の回避率に関係なく必ず命中する。"]
[null,"でんこうせっか","ノーマル",40,100,30,48,"物理","選択","○","+1","","",null,"","","","","","",""]
[null,"てんしのキッス","フェアリー","-",75,10,16,"変化","選択","×","","","",null,"","","","",1,"",""]
[null,"でんじは","でんき","-",90,20,32,"変化","選択","×","","","",null,1,"","","","","","","『じめん』タイプや『でんき』タイプには無効。"]
[null,"でんじふゆう","でんき","-","-",10,16,"変化","自分","×","","","",null,"","","","","","","","5ターンの間、『じめん』タイプの技を受けなくなる。"]
[null,"でんじほう","でんき",120,50,5,8,"特殊","選択","×","","","",null,1,"","","","","",""]
[null,"とおせんぼう","ノーマル","-","-",5,8,"変化","選択","×","","","",null,"","","","","","","","相手を逃げたり、交代できなくする。"]
[null,"トーチカ","どく","–","–",10,16,"変化","選択","×","+4",null,1,null,null,null,null,null,null,null,null,"そのターンの間、相手の攻撃を防ぐと同時に、直接攻撃をした相手を『どく』状態にする。連続で使うと失敗しやすくなる。"]
[null,"とおぼえ","ノーマル","-","-",40,64,"変化","自分","×","","","",null,"","","","","","","","自分の『こうげき』ランクを1段階上げる。"]
[null,"とぎすます","ノーマル","–","–",30,48,"変化","自分","×",null,null,null,null,null,null,null,null,null,null,null,"次のターン、自分の技が必ず急所に当たるようになる。"]
[null,"ときのほうこう","ドラゴン",150,90,5,8,"特殊","選択","×","","","",null,"","","","","","","","使用した次のターンは行動できない。"]
[null,"どくガス","どく","-",90,40,64,"変化","相手全体","×","","",1,null,"","","","","","","","『どく』タイプや『はがね』タイプには無効。"]
[null,"どくづき","どく",80,100,20,32,"物理","選択","○","","",0.3,null,"","","","","","","","30%の確率で"]
[null,"どくどく","どく","-",90,10,16,"変化","選択","×","","",null,1,"","","","","","","","『どく』タイプや『はがね』タイプには無効。"]
[null,"どくどくのキバ","どく",50,100,15,24,"物理","選択","○","","",null,0.5,"","","","","","",""]
[null,"どくのいと","どく","–",100,20,32,"変化","選択","×",null,null,1,null,null,null,null,null,null,null,null,"『すばやさ』ランクを1段階下げる。"]
[null,"どくのこな","どく","-",75,35,56,"変化","選択","×","","",1,null,"","","","","","","","『どく』タイプや『はがね』タイプ、『くさ』タイプ、特性『ぼうじん』のポケモンには無効。"]
[null,"どくばり","どく",15,100,35,56,"物理","選択","×","","",0.3,null,"","","","","","",""]
[null,"どくびし","どく","-","-",20,32,"変化","相手の場","×","","",null,null,"","","","","","","","使用後、相手はポケモンを交代する度に、出したポケモンが『どく』状態になる。2回使うと『もうどく』状態になる。『ひこう』タイプ、特性『ふゆう』のポケモンは効果を受けない。『どく』タイプのポケモンが出ると効果がなくなる。"]
[null,"とぐろをまく","どく","-","-",20,32,"変化","自分","×","","","",null,"","","","","","","","自分の『こうげき』『ぼうぎょ』『命中率』ランクが1段階ずつ上がる。"]
[null,"とげキャノン","ノーマル",20,100,15,24,"物理","選択","×","","","",null,"","","","","","","","1ターンに2～5回連続で攻撃する。"]
[null,"とける","どく","-","-",20,32,"変化","自分","×","","","",null,"","","","","","","","自分の『ぼうぎょ』ランクを2段階上げる。"]
[null,"とっしん","ノーマル",90,85,20,32,"物理","選択","○","","","",null,"","","","","","","","相手に与えたダメージの1/4を自分も受ける。"]
[null,"とっておき","ノーマル",140,100,5,8,"物理","選択","○","","","",null,"","","","","","","","この技は自分の持っている他の技をすべて使うと使えるようになる。"]
[null,"とどめばり","むし",50,100,25,40,"物理","選択","○","","","",null,"","","","","","","","この技で相手を倒すと、自分の『こうげき』ランクが2段階上がる。"]
[null,"とびかかる","むし",80,100,15,24,"物理","選択","〇",null,null,null,null,null,null,null,null,null,null,null," 100%の確率で、相手の『こうげき』ランクを1段階下げる。"]
[null,"とびげり","かくとう",100,95,10,16,"物理","選択","○","","","",null,"","","","","","","","攻撃が外れると、自分の最大HPの半分のダメージを自分が受ける。"]
[null,"とびはねる","ひこう",85,85,5,8,"物理","選択","○","","","",null,0.3,"","","","","","","1ターン目に空中へ飛び上がり、2ターン目に攻撃する。空中にいる間はほとんどの技を受けない。"]
[null,"とびひざげり","かくとう",130,90,10,16,"物理","選択","○","","","",null,"","","","","","","","攻撃が外れると、自分の最大HPの半分のダメージを自分が受ける。"]
[null,"ともえなげ","かくとう",60,90,10,16,"物理","選択","○","-6","","",null,"","","","","","","","攻撃後、相手のポケモンを強制的に交代させる。野生のポケモンの場合は戦闘を終了する。"]
[null,"トライアタック","ノーマル",80,100,10,16,"特殊","選択","×","","","",null,6.6900000000000001E-2,6.6900000000000001E-2,"",6.6900000000000001E-2,"","","","20%の確率で相手を『まひ』『やけど』『こおり』状態のうちの1つにする。どの状態異常になるかはランダム。"]
[null,"ドラゴンクロー","ドラゴン",80,100,15,24,"物理","選択","○","","","",null,"","","","","","",""]
[null,"ドラゴンダイブ","ドラゴン",100,75,10,16,"物理","選択","○","","","",null,"","","","","","","○","20%の確率で相手をひるませる。相手が『ちいさくなる』を使用していると必ず命中し、威力が2倍になる。"]
[null,"ドラゴンテール","ドラゴン",60,90,10,16,"物理","選択","○","-6","","",null,"","","","","","","","攻撃後、相手のポケモンを強制的に交代させる。野生のポケモンの場合は戦闘を終了する。"]
[null,"ドラゴンハンマー","ドラゴン",90,100,15,24,"物理","選択","〇",null,null,null,null,null,null,null,null,null,null,null,"-"]
[null,"トラップシェル","ほのお",150,100,5,8,"特殊","相手全体","×","-3",null,null,null,null,null,null,null,null,null,null,"そのターン、自分に物理技のダメージを与えたポケモンにだけ攻撃する。"]
[null,"トリック","エスパー","-",100,10,16,"変化","選択","×","","","",null,"","","","","","","","相手と自分が持っている道具を入れ替える。片方しか道具を持っていない場合も成功する。"]
[null,"トリックガード","フェアリー","-","-",10,16,"変化","味方の場","×","+3","","",null,"","","","","","","","そのターンの間、すべての味方への変化技を無効化する。"]
[null,"トリックルーム","エスパー","-","-",5,8,"変化","全体の場","×","-7","","",null,"","","","","","","","5ターンの間、『すばやさ』が低いポケモンから攻撃できるようになる。ただし、必ず先制できる技には無効。もう1度使用すると元に戻る。"]
[null,"トリプルキック","かくとう",10,90,10,16,"物理","選択","○","","","",null,"","","","","","","","1ターンに3回連続で攻撃する。攻撃が当たる度に威力が10ずつ増える。"]
[null,"ドリルくちばし","ひこう",80,100,20,32,"物理","選択","○","","","",null,"","","","","","",""]
[null,"ドリルライナー","じめん",80,95,10,16,"物理","選択","○","","+1","",null,"","","","","","",""]
[null,"ドレインキッス","フェアリー",50,100,10,16,"特殊","選択","○","","","",null,"","","","","","","","相手に与えたダメージの3/4だけ自分のHPが回復する。"]
[null,"ドレインパンチ","かくとう",75,100,10,16,"物理","選択","○","","","",null,"","","","","","","","相手に与えたダメージの半分だけ自分のHPが回復する。特性『てつのこぶし』の時、威力が1.2倍になる。"]
[null,"どろあそび","じめん","-","-",15,24,"変化","全体の場","×","","","",null,"","","","","","","","5ターンの間、『でんき』タイプの技の威力が1/3になる。"]
[null,"どろかけ","じめん",20,100,10,16,"特殊","選択","×","","","",null,"","","","","","","","相手の命中率を1段階下げる。"]
[null,"どろばくだん","じめん",65,85,10,16,"特殊","選択","×","","","",null,"","","","","","","","30%の確率で相手の命中率を1段階下げる。"]
[null,"トロピカルキック","くさ",70,100,15,24,"物理","選択","〇",null,null,null,null,null,null,null,null,null,null,null,"100%の確率で相手の『こうげき』ランクを1段階下げる。"]
[null,"どろぼう","あく",60,100,25,40,"物理","選択","○","","","",null,"","","","","","","","相手が持っている道具を自分の物にする。自分が既に道具を持っている場合は失敗するが、技『はたきおとす』で自分の道具が無効化されている時は奪う事ができ、道具は上書きされる。トレーナー戦の場合はバトル終了後になくなる。"]
[null,"ドわすれ","エスパー","-","-",20,32,"変化","自分","×","","","",null,"","","","","","","","自分の『とくぼう』ランクを2段階上げる。"]
[null,"とんぼがえり","むし",70,100,20,32,"物理","選択","○","","","",null,"","","","","","","","攻撃後、手持ちのポケモンと入れ替わる。"]
[null,"ないしょばなし","ノーマル","-","-",20,32,"変化","選択","×","","","",null,"","","","","","","","相手の『とくこう』ランクを1段階下げる。必ず命中する。相手が『みがわり』状態でも命中する。"]
[null,"ナイトバースト","あく",85,95,10,16,"特殊","選択","×","","","",null,"","","","","","","","40%の確率で相手の命中率を1段階下げる。"]
[null,"ナイトヘッド","ゴースト","-",100,15,24,"特殊","選択","×","","","",null,"","","","","","","","自分のレベルと同じ値の固定ダメージを与える。"]
[null,"なかまづくり","ノーマル","-",100,15,24,"変化","選択","×","","","",null,"","","","","","","","相手の特性を自分と同じ特性にする。"]
[null,"なかよくする","ノーマル","-","-",20,32,"変化","選択","×","","","",null,"","","","","","","","相手の『こうげき』ランクを1段階下げる。必ず命中する。"]
[null,"なきごえ","ノーマル","-",100,40,64,"変化","相手全体","×","","","",null,"","","","","","","","相手の『こうげき』ランクを1段階下げる。相手が『みがわり』状態でも命中する。"]
[null,"なげつける","あく","-",100,10,16,"物理","選択","×","","","",null,"","","","","","","","自分の持っている道具によって効果が変化する。投げつけた道具はなくなる。"]
[null,"なしくずし","ノーマル",70,100,20,32,"物理","選択","○","","","",null,"","","","","","","","相手の『のうりょく』ランクの変化に関係なく、ダメージを与える。"]
[null,"なまける","ノーマル","-","-",10,16,"変化","自分","×","","","",null,"","","","","","","","HPが最大HPの半分回復する。"]
[null,"なみだめ","ノーマル","–","–",20,32,"変化","選択","×",null,null,null,null,null,null,null,null,null,null,null,"相手の『こうげき』『とくこう』ランクを1段階ずつ下げる。自分の命中率、相手の回避率に関係なく必ず命中する。"]
[null,"なみのり","みず",90,100,15,24,"特殊","自分以外","×","","","",null,"","","","","","","","相手が『ダイビング』を使っている時でも命中し、ダメージが2倍になる。"]
[null,"なやみのタネ","くさ","-",100,10,16,"変化","選択","×","","","",null,"","","","","","","","相手の特性を『ふみん』にする。ただし、『なまけ』『バトルスイッチ』など一部の固有な特性の場合は失敗する。"]
[null,"なりきり","エスパー","-","-",10,16,"変化","選択","×","","","",null,"","","","","","","","自分の特性を相手の特性と同じにする。ただし、『ふしぎなまもり』など一部の固有な特性はコピーできない。"]
[null,"ニードルアーム","くさ",60,100,15,24,"物理","選択","○","","","",null,"","","","","","",0.3]
[null,"ニードルガード","くさ","-","-",10,16,"変化","選択","×","+4","","",null,"","","","","","","","そのターンの間、相手の攻撃を防ぐと同時に、直接攻撃をした相手に相手の最大HPの1/8のダメージを与える。連続で使うと失敗しやすくなる。"]
[null,"にぎりつぶす","ノーマル","-",100,5,8,"物理","選択","○","","","",null,"","","","","","","","相手の残りHPが多いほど威力が高くなる。最高120。"]
[null,"にどげり","かくとう",30,100,30,48,"物理","選択","○","","","",null,"","","","","","","","1ターンに2回連続で攻撃する。"]
[null,"ニトロチャージ","ほのお",50,100,20,32,"物理","選択","○","","","",null,"","","","","","","","自分の『すばやさ』ランクが1段階上がる。"]
[null,"にほんばれ","ほのお","-","-",5,8,"変化","全体の場","×","","","",null,"","","","","","","","5ターンの間、天気を『ひざしがつよい』にする。"]
[null,"にらみつける","ノーマル","-",100,30,48,"変化","相手全体","×","","","",null,"","","","","","","","相手の『ぼうぎょ』ランクを1段階下げる。"]
[null,"ねがいごと","ノーマル","-","-",10,16,"変化","自分","×","","","",null,"","","","","","","","次のターンの終了時にHPが最大HPの半分回復する。交代した場合は同じ位置にいるポケモンが回復する。"]
[null,"ねこだまし","ノーマル",40,100,10,16,"物理","選択","○","+3","","",null,"","","","","","",1,"出た最初のターンしか成功しない。"]
[null,"ねごと","ノーマル","-","-",10,16,"変化","自分","×","","","",null,"","",null,"","","","","自分が『ねむり』状態の時のみ使用可能。自分の持っている技のうち1つをランダムで使う。PPが減少するのはこの技のみ。"]
[null,"ネコにこばん","ノーマル",40,100,20,32,"物理","選択","×","","","",null,"","","","","","","","戦闘終了後にお金が(自分のレベル×攻撃回数×5)円余計に手に入る。"]
[null,"ねこのて","ノーマル","-","-",20,32,"変化","自分","×","","","",null,"","","","","","","","自分以外の『てもち』のポケモンの技のうち1つをランダムで使う。PPが減少するのはこの技のみ。"]
[null,"ねっとう","みず",80,100,15,24,"特殊","選択","×","","","",null,"",0.3,"","","","",""]
[null,"ねっぷう","ほのお",95,90,10,16,"特殊","相手全体","×","","","",null,"",0.1,"","","","",""]
[null,"ねばねばネット","むし","-","-",20,32,"変化","相手の場","×","","","",null,"","","","","","","","使用後、相手はポケモンを交代する度に、出てきたポケモンの『すばやさ』ランクが1段階下がる。『ひこう』タイプや特性『ふゆう』のポケモンは影響を受けない。"]
[null,"ねむりごな","くさ","-",75,15,24,"変化","選択","×","","","",null,"","",1,"","","","","『くさ』タイプや特性『ぼうじん』のポケモンには無効。"]
[null,"ねむる","エスパー","-","-",10,16,"変化","自分","×","","","",null,"","",null,"","","","","HPと状態異常をすべて回復した後、2ターンの間『ねむり』状態になる。"]
[null,"ねをはる","くさ","-","-",20,32,"変化","自分","×","","","",null,"","","","","","","","使用後、毎ターン、HPが最大HPの1/16ずつ回復するが、交代できなくなる。自分が『ひこう』タイプや、特性『ふゆう』のポケモンの場合は『じめん』タイプの技が当たるようになる。"]
[null,"ねんりき","エスパー",50,100,25,40,"特殊","選択","×","","","",null,"","","","",0.1,"",""]
[null,"のしかかり","ノーマル",85,100,15,24,"物理","選択","○","","","",null,0.3,"","","","","","","相手が技『ちいさくなる』を使用していると必ず命中し、威力が2倍になる。"]
[null,"のみこむ","ノーマル","-","-",10,16,"変化","自分","×","","","",null,"","","","","","","","技『たくわえる』を使った数だけHPが多く回復する。1つの時は最大HPの1/4、2つの時は最大HPの1/2、3つの時は全回復する。技『たくわえる』で上がった『ぼうぎょ』『とくぼう』ランクは元に戻る。技『たくわえる』を使っていない時は失敗する。"]
[null,"のろい","ゴースト","-","-",10,16,"変化","不定","×","","","",null,"","","","","","","","自分のタイプが『ゴースト』タイプの時は自分のHPを最大HPの半分だけ減らして、相手を『のろい』状態にする。『のろい』状態になると毎ターン、HPが最大HPの1/4ずつ減る。それ以外のポケモンの場合『すばやさ』ランクが1段階下がり、『こうげき』『ぼうぎょ』ランクが1段階ずつ上がる。"]
[null,"バークアウト","あく",55,95,15,24,"特殊","相手全体","×","","","",null,"","","","","","","","相手の『とくこう』ランクを1段階下げる。相手が『みがわり』状態でも命中する。"]
[null,"ハートスタンプ","エスパー",60,100,25,40,"物理","選択","○","","","",null,"","","","","","",0.3]
[null,"ハートスワップ","エスパー","-","-",10,16,"変化","選択","×","","","",null,"","","","","","","","自分と相手のすべての『のうりょく』ランクを入れ替える。"]
[null,"ハードプラント","くさ",150,90,5,8,"特殊","選択","×","","","",null,"","","","","","","","使用した次のターンは行動できない。"]
[null,"ハードローラー","むし",65,100,20,32,"物理","選択","○","","","",null,"","","","","","",0.3,"相手が技『ちいさくなる』を使用していると威力が2倍になる。"]
[null,"ハイドロカノン","みず",150,90,5,8,"特殊","選択","×","","","",null,"","","","","","","","使用した次のターンは行動できない。"]
[null,"ハイドロポンプ","みず",110,80,5,8,"特殊","選択","×","","","",null,"","","","","","",""]
[null,"ハイパーボイス","ノーマル",90,100,10,16,"特殊","相手全体","×","","","",null,"","","","","","",""]
[null,"はかいこうせん","ノーマル",150,90,5,8,"特殊","選択","×","","","",null,"","","","","","","","使用した次のターンは行動できない。"]
[null,"ばかぢから","かくとう",120,100,5,8,"物理","選択","○","","","",null,"","","","","","","","攻撃後、自分の『こうげき』『ぼうぎょ』ランクが1段階ずつ下がる。"]
[null,"はがねのつばさ","はがね",70,90,25,40,"物理","選択","○","","","",null,"","","","","","","","10%の確率で自分の『ぼうぎょ』ランクを1段階ずつ上がる。"]
[null,"はきだす","ノーマル","-",100,10,16,"特殊","選択","×","","","",null,"","","","","","","","技『たくわえる』を使った数だけ威力が高くなる。1つの時は100、2つの時は200、3つの時は300になる。技『たくわえる』で上がった『ぼうぎょ』『とくぼう』ランクは元に戻る。技『たくわえる』を使っていない時は失敗する。"]
[null,"ばくおんぱ","ノーマル",140,100,10,16,"特殊","全体","×","","","",null,"","","","","","","","相手が『みがわり』状態でも命中する。"]
[null,"ばくれつパンチ","かくとう",100,50,5,8,"物理","選択","○","","","",null,"","","","",1,"","","特性『てつのこぶし』の時、威力が1.2倍になる。"]
[null,"ハサミギロチン","ノーマル","-",30,5,8,"物理","選択","○","","","",null,"","","","","","","","相手を『ひんし』状態にする。相手のレベルが自分より高いと失敗する。(30＋自分のレベル－相手のレベル)が命中率になる。"]
[null,"はさむ","ノーマル",55,100,30,48,"物理","選択","○","","","",null,"","","","","","",""]
[null,"はじけるほのお","ほのお",70,100,15,24,"特殊","選択","×","","","",null,"","","","","","","","ダブルバトル・トリプルバトルの時、相手の周りにいるポケモンにも相手の最大HPの1/16のダメージを与える。"]
[null,"はたきおとす","あく",65,100,20,32,"物理","選択","○","","","",null,"","","","","","","","相手が道具を持っている場合、ダメージが1.5倍になり、さらに道具を持っていない状態にする。戦闘終了後、道具は元に戻る。"]
[null,"はたく","ノーマル",40,100,35,56,"物理","選択","○","","","",null,"","","","","","",""]
[null,"はっけい","かくとう",60,100,10,16,"物理","選択","○","","","",null,0.3,"","","","","",""]
[null,"はっぱカッター","くさ",55,95,25,40,"物理","相手全体","×","","+1","",null,"","","","","","",""]
[null,"ハッピータイム","ノーマル",0,0,30,48,"変化","自分","×","","","",null,"","","","","","","","戦闘後に得られる賞金が2倍になる。(その他は不明)"]
[null,"はどうだん","かくとう",80,"-",20,32,"特殊","選択","×","","","",null,"","","","","","","","自分の命中率、相手の回避率に関係なく必ず命中する。"]
[null,"バトンタッチ","ノーマル","-","-",40,64,"変化","自分","×","","","",null,"","","","","","","","他の味方のポケモンと交代し、かかっていた補助効果を引き継ぐ。"]
[null,"はなびらのまい","くさ",120,100,10,16,"特殊","ランダム1体","○","","","",null,"","","","",null,"","","2～3ターン連続で攻撃し、その後自分は1～4ターンの間『こんらん』状態になる。"]
[null,"はなふぶき","くさ",90,100,15,24,"物理","自分以外","×","","","",null,"","","","","","",""]
[null,"はねやすめ","ひこう","-","-",10,16,"変化","自分","×","","","",null,"","","","","","","","HPが最大HPの半分回復するが、そのターンは『ひこう』タイプではなくなる。"]
[null,"はねる","ノーマル","-","-",40,64,"変化","自分","×","","","",null,"","","","","","","","何も起こらない。"]
[null,"バブルこうせん","みず",65,100,20,32,"特殊","選択","×","","","",null,"","","","","","","","10%の確率で相手の『すばやさ』ランクを1段階下げる。"]
[null,"はめつのねがい","はがね",140,100,5,8,"特殊","選択","×","","","",null,"","","","","","","","2ターン後に攻撃する。交代した場合は同じ位置にいるポケモンに攻撃する。タイプ相性の影響を受ける。"]
[null,"はらだいこ","ノーマル","-","-",10,16,"変化","自分","×","","","",null,"","","","","","","","自分のHPを最大HPの半分だけ減らす代わりに、自分の『こうげき』ランクを最大まで上げる。"]
[null,"パラボラチャージ","でんき",65,100,20,32,"特殊","自分以外","×","","","",null,"","","","","","","","与えたダメージの半分自分のHPが回復する。"]
[null,"バリアー","エスパー","-","-",20,32,"変化","自分","×","","","",null,"","","","","","","","自分の『ぼうぎょ』ランクを2段階上げる。"]
[null,"バレットパンチ","はがね",40,100,30,48,"物理","選択","○","+1","","",null,"","","","","","","","特性『てつのこぶし』の時、威力が1.2倍になる。"]
[null,"ハロウィン","ゴースト","-",100,20,32,"変化","選択","×","","","",null,"","","","","","","","相手のタイプに『ゴースト』タイプを追加する。"]
[null,"パワーウィップ","くさ",120,85,10,16,"物理","選択","○","","","",null,"","","","","","",""]
[null,"パワーシェア","エスパー","-","-",10,16,"変化","選択","×","","","",null,"","","","","","","","自分と相手の『こうげき』と『とくこう』を足して半分に分ける。"]
[null,"パワージェム","いわ",80,100,20,32,"特殊","選択","×","","","",null,"","","","","","",""]
[null,"パワースワップ","エスパー","-","-",10,16,"変化","選択","×","","","",null,"","","","","","","","自分と相手の『こうげき』『とくこう』ランクを入れ替える。"]
[null,"パワートリック","エスパー","-","-",10,16,"変化","自分","×","","","",null,"","","","","","","","自分の『こうげき』と『ぼうぎょ』を入れ替える。『ランク』は変化しない。"]
[null,"ヒートスタンプ","ほのお","-",100,10,16,"物理","選択","○","","","",null,"","","","","","","","自分の『おもさ』が相手より重いほど威力が高くなる。相手の『おもさ』が自分の1/5以下なら120、1/4以下なら100、1/3以下なら80、1/2以下なら60、それ以上なら40。"]
[null,"ひかりのかべ","エスパー","-","-",30,48,"変化","味方の場","×","","","",null,"","","","","","","","5ターンの間、相手の『とくしゅ』攻撃のダメージを半分にする。味方2体の場合は半分ではなく2/3になる。急所に当たった場合は軽減されない。交代しても効果は続く。"]
[null,"ひっかく","ノーマル",40,100,35,56,"物理","選択","○","","","",null,"","","","","","",""]
[null,"ひっくりかえす","あく","-","-",20,32,"変化","選択","×","","","",null,"","","","","","","","相手のすべての『のうりょく』ランクのプラスとマイナスを逆にする。"]
[null,"ひっさつまえば","ノーマル",80,90,15,24,"物理","選択","○","","","",null,"","","","","","",0.1]
[null,"ひのこ","ほのお",40,100,25,40,"特殊","選択","×","","","",null,"",0.1,"","","","",""]
[null,"ひみつのちから","ノーマル",70,100,20,32,"物理","選択","×","","","",null,0.3,"",0.3,0.3,"","",0.3,"30%の確率で相手に以下の追加効果を与える。地形が草むらと水たまりの時は『ねむり』状態、沼の時は『すばやさ』ランクを1段階下げ、水上の時は『こうげき』ランクを1段階下げ、砂地の時は命中率を1段階下げ、岩場と洞窟の時はひるませ、雪原と氷上の時は『こおり』状態、その他は『まひ』状態にする。また、ORASではフィールドで使うと秘密基地を作ることができる。"]
[null,"ピヨピヨパンチ","ノーマル",70,100,10,16,"物理","選択","○","","","",null,"","","","",0.2,"","","特性『てつのこぶし』の時、威力が1.2倍になる。"]
[null,"びりびりちくちく","でんき",80,100,10,16,"物理","選択","〇",null,null,null,null,null,null,null,null,null,null,0.3,"-"]
[null,"ビルドアップ","かくとう","-","-",20,32,"変化","自分","×","","","",null,"","",null,"","","","","自分の『こうげき』『ぼうぎょ』ランクを1段階ずつ上げる。"]
[null,"ファストガード","かくとう","-","-",15,24,"変化","味方の場","×","+3","","",null,"","","","","","","","そのターンの間、自分と味方は相手の先制攻撃の技を受けない。特性の効果による先制攻撃も受けない。"]
[null,"ふいうち","あく",70,100,5,8,"物理","選択","○","+1","","",null,"","","","","","","","相手が使う技が攻撃技ではない場合は失敗する。"]
[null,"ふういん","エスパー","-","-",10,16,"変化","自分","×","","","",null,"","","","","","","","自分が覚えている技を相手は使えなくなる。"]
[null,"フェアリーロック","フェアリー","-","-",10,16,"変化","全体の場","×","","","",null,"","","","","","","","次のターン、すべてのポケモンは逃げられなくなる。"]
[null,"フェイント","ノーマル",30,100,10,16,"物理","選択","×","+2","","",null,"","","","","","","","相手が技『まもる』『みきり』『たたみがえし』『キングシールド』『ニードルガード』『ファストガード』『ワイドガード』をしている場合は、その効果を解除して攻撃できる。"]
[null,"フェザーダンス","ひこう","-",100,15,24,"変化","選択","×","","","",null,"","","","","","","","相手の『こうげき』ランクを2段階下げる。"]
[null,"ふきとばし","ノーマル","-","-",20,32,"変化","選択","×","-6","","",null,"","","","","","","","相手のポケモンを強制的に交代させる。野生のポケモンの場合は戦闘を終了する。自分の命中率、相手の回避率に関係なく必ず命中する。相手が『まもる』『みきり』『たたみがえし』『キングシールド』『ニードルガード』『ファストガード』『ワイドガード』をしていても成功する。野生のポケモンの場合、相手が自分のレベルより高い場合は失敗する。"]
[null,"ふくろだたき","あく","-",100,10,16,"物理","選択","×","","","",null,"","","","","","","","自分を含む『ひんし』や状態異常でない『てもち』のポケモンの数だけ攻撃する。"]
[null,"ふぶき","こおり",110,70,5,8,"特殊","相手全体","×","","","",null,"","","",0.1,"","","","天気が『あられ』の時は必ず命中する。"]
[null,"ふみつけ","ノーマル",65,100,20,32,"物理","選択","○","","","",null,"","","","","","",0.3,"相手が技『ちいさくなる』を使用していると必ず命中し、威力が2倍になる。"]
[null,"フライングプレス","かくとう",100,95,10,16,"物理","選択","○","","","",null,"","","","","","","","この技は『かくとう』タイプであると同時に『ひこう』タイプでもある。相手が技『ちいさくなる』を使用していると必ず命中し、威力が2倍になる。"]
[null,"ブラストバーン","ほのお",150,90,5,8,"特殊","選択","×","","","",null,"","","","","","","","使用した次のターンは行動できない。"]
[null,"プラズマシャワー","でんき","-","-",25,40,"変化","全体の場","×","+1","","",null,"","","","","","","","そのターンの間、すべての『ノーマル』タイプの技を『でんき』タイプにする。"]
[null,"フラッシュ","ノーマル","-",100,20,32,"変化","選択","×","","","",null,"","","","","","","","相手の命中率を1段階下げる。"]
[null,"フラフラダンス","ノーマル","-",100,20,32,"変化","自分以外","×","","","",null,"","","","",1,"",""]
[null,"フラワーガード","フェアリー","-","-",10,16,"変化","全体","×","","","",null,"","","","","","","","すべての『くさ』タイプのポケモンの『ぼうぎょ』ランクが1段階上がる。"]
[null,"フラワーヒール","フェアリー","–","–",10,16,"変化","選択","×",null,null,null,null,null,null,null,null,null,null,null,"相手は最大HPの1/2回復する。ただし、『グラスフィールド』の時は最大HPの2/3回復する。"]
[null,"フリーズドライ","こおり",70,100,20,32,"特殊","選択","×","","","",null,"","","",0.1,"","","","この技は『みず』タイプにも効果抜群になる。"]
[null,"フリーズボルト","こおり",140,90,5,8,"物理","選択","×","","","",null,0.3,"","","","","","","1ターン目は攻撃せずに、2ターン目で攻撃する。"]
[null,"フリーフォール","ひこう",60,100,10,16,"物理","選択","○","","","",null,"","","","","","","","1ターン目に相手とともに空中へ飛び上がり、2ターン目で攻撃する。空中にいる間はほとんどの技を受けず、相手は行動できない。『ひこう』タイプのポケモンはダメージを受けない。相手が体重200kg以上の場合は失敗する。"]
[null,"プリズムレーザー","エスパー",160,100,10,16,"特殊","選択","×",null,null,null,null,null,null,null,null,null,null,null,"使用した次のターンは行動できない。"]
[null,"ふるいたてる","ノーマル","-","-",30,48,"変化","自分","×","","","",null,"","","","","","","","自分の『こうげき』『とくこう』ランクが1段階ずつ上がる。"]
[null,"フルールカノン","フェアリー",130,90,5,8,"特殊","選択","×",null,null,null,null,null,null,null,null,null,null,null,"攻撃後、自分の『とくこう』ランクが2段階下がる。"]
[null,"フレアドライブ","ほのお",120,100,15,24,"物理","選択","○","","","",null,"",0.1,"",null,"","","","相手に与えたダメージの1/3を自分も受ける。自分が『こおり』状態の時でも使う事ができ、使うと『こおり』状態が治る。"]
[null,"ブレイククロー","ノーマル",75,95,10,16,"物理","選択","○","","","",null,"","","","","","","","50%の確率で相手の『ぼうぎょ』ランクを1段階下げる。"]
[null,"ブレイズキック","ほのお",85,90,10,16,"物理","選択","○","","+1","",null,"",0.1,"","","","",""]
[null,"ブレイブバード","ひこう",120,100,15,24,"物理","選択","○","","","",null,"","","","","","","","相手に与えたダメージの1/3を自分も受ける。"]
[null,"プレゼント","ノーマル","-",90,15,24,"物理","選択","×","","","",null,"","","","","","","","40%の確率で威力40、30%で威力80、10%の確率で威力120になり、20%の確率で相手のHPを最大HPの1/4回復する。"]
[null,"ふんえん","ほのお",80,100,15,24,"特殊","自分以外","×","","","",null,"",0.3,"","","","",""]
[null,"ふんか","ほのお",150,100,5,8,"特殊","相手全体","×","","","",null,"","","","","","","","(150×自分の残りHP÷自分の最大HP)が威力になる。"]
[null,"ふんじん","むし","-",100,20,32,"変化","選択","×","+1","","",null,"","","","","","","","そのターンに相手が『ほのお』タイプの技を使うと、相手は技が失敗し最大HPの1/4のダメージを受ける。『くさ』タイプや特性『ぼうじん』のポケモンには無効。"]
[null,"ぶんまわす","あく",60,100,20,32,"物理","自分以外","〇",null,null,null,null,null,null,null,null,null,null,null,"-"]
[null,"ヘドロウェーブ","どく",95,100,10,16,"特殊","自分以外","×","","",0.1,null,"","","","","","",""]
[null,"ヘドロこうげき","どく",65,100,20,32,"特殊","選択","×","","",0.3,null,"","","","","","",""]
[null,"ヘドロばくだん","どく",90,100,10,16,"特殊","選択","×","","",0.3,null,"","","","","","",""]
[null,"ベノムショック","どく",65,100,10,16,"特殊","選択","×","","",null,null,"","","","","","","","相手が『どく』状態の時、威力が2倍になる。"]
[null,"ベノムトラップ","どく","-",100,20,32,"変化","相手全体","×","","",null,null,"","","","","","","","『どく』『もうどく』状態のすべての相手の『こうげき』『とくこう』『すばやさ』ランクを1段階ずつ下げる。"]
[null,"ヘビーボンバー","はがね","-",100,10,16,"物理","選択","○","","","",null,"","","","","","","","自分の『おもさ』が相手より重いほど威力が高くなる。相手の『おもさ』が自分の1/5以下なら120、1/4以下なら100、1/3以下なら80、1/2以下なら60、それ以上なら40。"]
[null,"へびにらみ","ノーマル","-",100,30,48,"変化","選択","×","","","",null,1,"","","","","","","『でんき』タイプには無効。"]
[null,"へんしん","ノーマル","-","-",10,16,"変化","選択","×","","","",null,"","","","","","","","一時的に、相手と同じ『ナンバー』『グラフィックス』『能力値』『個体値』『ランク』『特性』『技』になる。ただし技のPPはすべて5になる。交代すると元に戻る。"]
[null,"ポイズンテール","どく",50,100,25,40,"物理","選択","○","","+1",0.1,null,"","","","","","",""]
[null,"ぼうぎょしれい","むし","-","-",10,16,"変化","自分","×","","","",null,"","","","","","","","自分の『ぼうぎょ』『とくぼう』ランクが1段階ずつ上がる。"]
[null,"ほうでん","でんき",80,100,15,24,"特殊","自分以外","×","","","",null,0.3,"","","","","",""]
[null,"ぼうふう","ひこう",110,70,10,16,"特殊","選択","×","","","",null,"","","","",0.3,"","","天気が『あめ』の時は必ず命中し、『ひざしがつよい』の時は命中率が50%になる。相手が技『そらをとぶ』『とびはねる』『フリーフォール』を使っている時でも命中する。"]
[null,"ほえる","ノーマル","-","-",20,32,"変化","選択","×","-6","","",null,"","","","","","","","相手のポケモンを強制的に交代させる。野生のポケモンの場合は戦闘を終了する。自分の命中率、相手の回避率に関係なく必ず命中する。相手が『まもる』『みきり』『たたみがえし』『キングシールド』『ニードルガード』『ファストガード』『ワイドガード』をしていても成功する。野生のポケモンの場合、相手が自分のレベルより高い場合は失敗する。"]
[null,"ボーンラッシュ","じめん",25,90,10,16,"物理","選択","×","","","",null,"","","","","","","","1ターンに2～5回連続で攻撃する。"]
[null,"ほごしょく","ノーマル","-","-",20,32,"変化","自分","×","","","",null,"","","",null,"","","","自分の『タイプ』を、地形が草むらと水たまりの時は『くさ』タイプ、砂地と沼の時は『じめん』タイプ、水上の時は『みず』タイプ、岩場と洞窟の時は『いわ』タイプ、雪原と氷上の時は『こおり』タイプ、その他は『ノーマル』タイプに変える。ただし、同じ『タイプ』を持っている場合は失敗する。"]
[null,"ほしがる","ノーマル",60,100,25,40,"物理","選択","○","","","",null,"","","","","","","","相手が持っている道具を自分の物にする。自分が既に道具を持っている場合は失敗するが、技『はたきおとす』で自分の道具が無効化されている時は奪う事ができ、道具は上書きされる。トレーナー戦の場合はバトル終了後になくなる。"]
[null,"ほたるび","むし","-","-",20,32,"変化","自分","×","","","",null,"","","","","","","","自分の『とくこう』ランクが3段階上がる。"]
[null,"ほっぺすりすり","でんき",20,100,20,32,"物理","選択","○","","","",null,1,"","","","","",""]
[null,"ボディパージ","はがね","-","-",15,24,"変化","自分","×","","","",null,"","","","","","","","自分の『すばやさ』ランクが2段階上がる。また、自分の『おもさ』が100kg軽くなる。"]
[null,"ホネこんぼう","じめん",65,85,20,32,"物理","選択","×","","","",null,"","","","","","",0.1]
[null,"ホネブーメラン","じめん",50,90,10,16,"物理","選択","×","","","",null,"","","","","","","","1ターンに2回連続で攻撃する。"]
[null,"ほのおのうず","ほのお",35,85,15,24,"特殊","選択","×","","","",null,"","","","","","","","4～5ターンの間、毎ターン終了後最大HPの1/8のダメージを与え、その間相手は逃げられない。"]
[null,"ほのおのキバ","ほのお",65,95,15,24,"物理","選択","○","","","",null,"",0.05,"","","","",0.05]
[null,"ほのおのちかい","ほのお",80,100,10,16,"特殊","選択","×","","","",null,"","","","","","","","ダブルバトル・トリプルバトルで、技『くさのちかい』と組み合わせて使用すると4ターンの間毎ターン『ほのお』タイプ以外の相手にダメージを与え、技『みずのちかい』と組み合わせて使用すると4ターンの間技の追加効果が出やすくなる。また、威力が150になる。"]
[null,"ほのおのパンチ","ほのお",75,100,15,24,"物理","選択","○","","","",null,"",0.1,"","","","","","特性『てつのこぶし』の時、威力が1.2倍になる。"]
[null,"ほのおのまい","ほのお",80,100,10,16,"特殊","選択","×","","","",null,"","","","","","","","50%の確率で自分の『とくこう』ランクが1段階上がる。"]
[null,"ほのおのムチ","ほのお",80,100,15,24,"物理","選択","〇",null,null,null,null,null,null,null,null,null,null,null,"100%の確率で、相手の『ぼうぎょ』ランクを1段階下げる。"]
[null,"ボルテッカー","でんき",120,100,15,24,"物理","選択","○","","","",null,0.1,"","","","","","","相手に与えたダメージの1/3を自分も受ける。"]
[null,"ボルトチェンジ","でんき",70,100,20,32,"特殊","選択","×","","","",null,"","","","","","","","攻撃後、手持ちのポケモンと入れ替わる。"]
[null,"ほろびのうた","ノーマル","-","-",5,8,"変化","全体","×","","","",null,"","","","","","","","3ターン後に、この技を使った時に出ていた自分を含むすべてのポケモンは『ひんし』状態になる。それまでに交代したポケモンは効果が消える。相手が『みがわり』状態の時でも命中する。"]
[null,"まきつく","ノーマル",15,90,20,32,"物理","選択","○","","","",null,"","","","","","","","4～5ターンの間、毎ターン終了後最大HPの1/8のダメージを与え、その間相手は逃げられない。"]
[null,"まきびし","じめん","-","-",20,32,"変化","相手の場","×","","","",null,"","","","","","","","使用後、相手はポケモンを交代する度にダメージを受ける。3回まで使うことができ、1回の時は相手の最大HPの1/8、2回の時は相手の最大HPの1/6、3回の時は相手の最大HPの1/4のダメージを与える。『ひこう』タイプ、特性『ふゆう』のポケモンはダメージを受けない。"]
[null,"マグニチュード","じめん","-",100,30,48,"物理","自分以外","×","","","",null,"","","","","","","","威力は5%の確率で10、10%の確率で30、20%の確率で50、30%の確率で70、20%の確率で90、10%の確率で110、5%の確率で150になる。相手が技『あなをほる』を使っている時でも命中し、ダメージが2倍になる。"]
[null,"マグネットボム","はがね",60,"-",20,32,"物理","選択","×","","","",null,"","","","","","","","自分の命中率、相手の回避率に関係なく必ず命中する。"]
[null,"マグマストーム","ほのお",100,75,5,8,"特殊","選択","×","","","",null,"","","","","","","","4～5ターンの間、毎ターン終了後最大HPの1/8のダメージを与え、その間相手は逃げられない。"]
[null,"マジカルシャイン","フェアリー",80,100,10,16,"特殊","相手全体","×","","","",null,"","","","","","",""]
[null,"マジカルフレイム","ほのお",75,100,10,16,"特殊","選択","×","","","",null,"","","","","","","","相手の『とくこう』ランクを1段階下げる。"]
[null,"マジカルリーフ","くさ",60,"-",20,32,"特殊","選択","×","","","",null,"","","","","","","","自分の命中率、相手の回避率に関係なく必ず命中する。"]
[null,"マジックコート","エスパー","-","-",15,24,"変化","自分","×","+4","","",null,"","","","","","","","そのターンの間、自分が受ける変化技を使用した相手に跳ね返す。跳ね返す技の命中率は、『マジックコート』を使用したポケモンで計算される。"]
[null,"マジックルーム","エスパー","-","-",10,16,"変化","全体の場","×","","","",null,"","","","","","","","5ターンの間、すべてのポケモンの道具の効果がなくなる。"]
[null,"マッドショット","じめん",55,95,15,24,"特殊","選択","×","","","",null,"","","","","","","","相手の『すばやさ』ランクを1段階下げる。"]
[null,"マッハパンチ","かくとう",40,100,30,48,"物理","選択","○","+1","","",null,"","","","","","","","特性『てつのこぶし』の時、威力が1.2倍になる。"]
[null,"まとわりつく","むし",20,100,20,32,"特殊","選択","○","","","",null,"","","","","","","","4～5ターンの間、毎ターン終了後最大HPの1/8のダメージを与え、その間相手は逃げられない。"]
[null,"まねっこ","ノーマル","-","-",20,32,"変化","自分","×","","","",null,"","","","","","","","最後に使われた技で相手に攻撃する。"]
[null,"まもる","ノーマル","-","-",10,16,"変化","自分","×","+4","","",null,"","","","","","","","そのターンの間、相手の技を受けない。連続で使うと失敗しやすくなる。"]
[null,"まるくなる","ノーマル","-","-",40,64,"変化","自分","×","","","",null,"","","","","","","","自分の『ぼうぎょ』ランクを1段階上げる。"]
[null,"マルチアタック","ノーマル",90,100,10,16,"物理","選択","〇",null,null,null,null,null,null,null,null,null,null,null,"持たせた専用の道具の種類によって『タイプ』が変わる。"]
[null,"まわしげり","かくとう",60,85,15,24,"物理","選択","○","","","",null,"","","","","","",0.3]
[null,"みかづきのまい","エスパー","-","-",10,16,"変化","自分","×","","","",null,"","","","","","","","自分が『ひんし』になる代わりに、次に出す自分のポケモンのすべての状態が全回復する。"]
[null,"みがわり","ノーマル","-","-",10,16,"変化","自分","×","","","",null,"","","","","","","","自分のHPを最大HPの1/4だけ減らして、減らしたHPと同じHPの自分の分身を作り、分身のHPが0になるまですべての攻撃を自分の代わりに分身が受ける。分身は状態異常にならない。ただし、音系の技はそのまま受ける。"]
[null,"みきり","かくとう","-","-",5,8,"変化","自分","×","+4","","",null,"","","","","","","","そのターンの間、相手の技を受けない。連続で使うと失敗しやすくなる。"]
[null,"ミサイルばり","むし",25,95,20,32,"物理","選択","×","","","",null,"","","","","","","","1ターンに2～5回連続で攻撃する。"]
[null,"みずあそび","みず","-","-",15,24,"変化","全体の場","×","","","",null,"","","","","","","","5ターンの間、『ほのお』タイプの技の威力が1/3になる。"]
[null,"みずしゅりけん","みず",15,100,20,32,"特殊","選択","×","+1","","",null,"","","","","","","","1ターンに2～5回連続で攻撃する。"]
[null,"みずでっぽう","みず",40,100,25,40,"特殊","選択","×","","","",null,"","","","","","",""]
[null,"ミストフィールド","フェアリー","-","-",10,16,"変化","全体の場","×","","","",null,"","","","","","","","5ターンの間、ミストフィールドにする。地面にいるすべてのポケモンは状態異常にならず、また『ドラゴン』タイプの技の受けるダメージが半分になる。"]
[null,"ミストボール","エスパー",70,100,5,8,"特殊","選択","×","","","",null,"","","","","","","","50%の確率で相手の『とくこう』ランクを1段階下げる。"]
[null,"みずのちかい","みず",80,100,10,16,"特殊","選択","×","","","",null,"","","","","","","","ダブルバトル・トリプルバトルで、技『ほのおのちかい』と組み合わせて使用すると4ターンの間技の追加効果が出やすくなり、技『くさのちかい』と組み合わせて使用すると4ターンの間相手の『すばやさ』が下がる。また、威力が150になる。"]
[null,"みずのはどう","みず",60,100,20,32,"特殊","選択","×","","","",null,"","","","",0.2,"",""]
[null,"みずびたし","みず","-",100,20,32,"変化","選択","×","","","",null,"","","","","","","","相手を『みず』タイプにする。"]
[null,"みだれづき","ノーマル",15,85,20,32,"物理","選択","○","","","",null,"","","","","","","","1ターンに2～5回連続で攻撃する。"]
[null,"みだれひっかき","ノーマル",18,80,15,24,"物理","選択","○","","","",null,"","","","","","","","1ターンに2～5回連続で攻撃する。"]
[null,"みちづれ","ゴースト","-","-",5,8,"変化","自分","×","","","",null,"","","","","","","","次の自分のターンまでに相手の攻撃で『ひんし』状態になると、相手も『ひんし』状態になる。連続で使うと失敗しやすくなる。"]
[null,"みねうち","ノーマル",40,100,40,64,"物理","選択","○","","","",null,"","","","","","","","この技のダメージで相手のHPが0になる時、相手のHPを1にする。野生のポケモンを捕まえる時に便利。"]
[null,"みやぶる","ノーマル","-","-",40,64,"変化","選択","×","","","",null,"","","","","","","","使用後、相手の回避率に関係なく攻撃が当たる。相手が『ゴースト』タイプの時、『ノーマル』『かくとう』タイプの技が当たるようになる。"]
[null,"ミラーコート","エスパー","-",100,20,32,"特殊","不定","×","-5","","",null,"","","","","","","","相手の『とくしゅ』攻撃のダメージの2倍をその相手に与える。『ダブルバトル』の時は最後に受けた技のみ有効になる。"]
[null,"ミラーショット","はがね",65,85,10,16,"特殊","選択","×","","","",null,"","","","","","","","30%の確率で相手の命中率を1段階下げる。"]
[null,"ミラータイプ","ノーマル","-","-",15,24,"変化","選択","×","","","",null,"","","","","","","","自分の『タイプ』を相手と同じ『タイプ』にする。"]
[null,"みらいよち","エスパー",120,100,10,16,"特殊","選択","×","","","",null,"","","","","","","","2ターン後に攻撃する。交代した場合は同じ位置にいるポケモンに攻撃する。タイプ相性の影響を受ける。"]
[null,"ミラクルアイ","エスパー","-","-",40,64,"変化","選択","×","","","",null,"","","","","","","","使用後、相手の回避率に関係なく攻撃が当たる。相手が『あく』タイプの時、『エスパー』タイプの技が当たるようになる。"]
[null,"ミルクのみ","ノーマル","-","-",10,16,"変化","自分","×","","","",null,"","","","","","","","HPが最大HPの半分回復する。"]
[null,"ムーンフォース","フェアリー",95,100,15,24,"特殊","選択","×","","","",null,"","","","","","","","30%の確率で相手の『とくこう』ランクを1段階下げる。"]
[null,"むしくい","むし",60,100,20,32,"物理","選択","○","","","",null,"","","","","","","","相手が持っているバトルに効果のある『きのみ』を奪って、自分に使う。"]
[null,"むしのさざめき","むし",90,100,10,16,"特殊","選択","×","","","",null,"","","","","","","","10%の確率で相手の『とくぼう』ランクを1段階下げる。相手が『みがわり』状態でも命中する。"]
[null,"むしのていこう","むし",50,100,20,32,"特殊","相手全体","×","","","",null,"","","","","","","","相手の『とくこう』ランクを1段階下げる。"]
[null,"めいそう","エスパー","-","-",20,32,"変化","自分","×","","","",null,"","","","","","","","自分の『とくこう』『とくぼう』ランクが1段階ずつ上がる。"]
[null,"メガドレイン","くさ",40,100,15,24,"特殊","選択","×","","","",null,"","","","","","","","相手に与えたダメージの半分だけ自分のHPが回復する。"]
[null,"メガトンキック","ノーマル",120,75,5,8,"物理","選択","○","","","",null,"","","","","","",""]
[null,"メガトンパンチ","ノーマル",80,85,20,32,"物理","選択","○","","","",null,"","","","","","","","特性『てつのこぶし』の時、威力が1.2倍になる。"]
[null,"メガホーン","むし",120,85,10,16,"物理","選択","○","","","",null,"","","","","","",""]
[null,"めざましビンタ","かくとう",70,100,10,16,"物理","選択","○","","","",null,"","",null,"","","","","相手が『ねむり』状態の時、ダメージが2倍になるが、『ねむり』状態は治る。"]
[null,"めざめるダンス","ノーマル",90,100,15,24,"特殊","選択","×",null,null,null,null,null,null,null,null,null,null,null,"この技の『タイプ』は、自分の『タイプ1』と同じになる。"]
[null,"めざめるパワー","ノーマル",60,100,15,24,"特殊","選択","×","","","",null,"","","","","","","","自分の個体値によって『タイプ』が変わる。"]
[null,"メタルクロー","はがね",50,95,35,56,"物理","選択","○","","","",null,"","","","","","","","10%の確率で自分の『こうげき』ランクが1段階上がる。"]
[null,"メタルバースト","はがね","-",100,10,16,"物理","不定","×","","","",null,"","","","","","","","そのターンに最後に受けた技のダメージの1.5倍をその相手に与える。"]
[null,"メテオドライブ","はがね",100,100,5,8,"物理","選択","〇",null,null,null,null,null,null,null,null,null,null,null,"相手の特性の影響を受けずに攻撃する。"]
[null,"メロメロ","ノーマル","-",100,15,24,"変化","選択","×","","","",null,"","","","","",1,"","自分と相手の性別が同じ時は失敗する。"]
[null,"もえつきる","ほのお",130,100,5,8,"特殊","選択","×",null,null,null,null,null,null,null,null,null,null,null,"攻撃後、自分は『ほのお』タイプではなくなる。自分が『こおり』状態の時でも使う事ができ、使うと『こおり』状態が治る。"]
[null,"ものまね","ノーマル","-","-",10,16,"変化","選択","×","","","",null,"","","","","","","","一時的に、相手が最後に自分に使った技が使えるようになる。ただし技のPPは5になる。交代すると元に戻る。"]
[null,"もりののろい","くさ","-",100,20,32,"変化","選択","×","","","",null,"","","","","","","","相手のタイプに『くさ』タイプを追加する。"]
[null,"もろはのずつき","いわ",150,80,5,8,"物理","選択","○","","","",null,"","","","","","","","相手に与えたダメージの1/2を自分も受ける。"]
[null,"やきつくす","ほのお",60,100,15,24,"特殊","相手全体","×","","","",null,"","","","","","","","相手の持っている『きのみ』や『ノーマルジュエル』を使えなくする。"]
[null,"やつあたり","ノーマル","-",100,20,32,"物理","選択","○","","","",null,"","","","","","","","ポケモンがなついていないほど威力が高くなる。最高102。"]
[null,"やどりぎのタネ","くさ","-",90,10,16,"変化","選択","×","","","",null,"","","","","","","","使用後、毎ターン、相手のHPを最大HPの1/8ずつ減らし、その分自分のHPを回復させる。自分は交代しても効果が引き継ぐ。『くさ』タイプのポケモンには無効。"]
[null,"やまあらし","かくとう",60,100,10,16,"物理","選択","○","","","",null,"","","","","","","","必ず急所に当たる。"]
[null,"ゆうわく","ノーマル","-",100,20,32,"変化","相手全体","×","","","",null,"","","","","","","","相手の『とくこう』を2段階下げる。自分と相手の性別が同じ時は失敗する。"]
[null,"ゆきなだれ","こおり",60,100,10,16,"物理","選択","○","-4","","",null,"","","","","","","","そのターンに相手の技のダメージを受けると威力が2倍になる。"]
[null,"ゆびをふる","ノーマル","-","-",10,16,"変化","自分","×","","","",null,"","","","","","","","ほぼすべての技の中からランダムで1つ使う。"]
[null,"ゆめくい","エスパー",100,100,15,24,"特殊","選択","×","","","",null,"","",null,"","","","","相手に与えたダメージの半分だけ自分のHPが回復する。相手が『ねむり』状態の時だけ成功する。"]
[null,"ようかいえき","どく",40,100,30,48,"特殊","相手全体","×","","","",null,"","","","","","","","10%の確率で相手の『とくぼう』ランクを1段階下げる。"]
[null,"ようせいのかぜ","フェアリー",40,100,30,48,"特殊","選択","×","","","",null,"","","","","","",""]
[null,"ヨガのポーズ","エスパー","-","-",40,64,"変化","自分","×","","","",null,"","","","","","","","自分の『こうげき』ランクを1段階上げる。"]
[null,"よこどり","あく","-","-",10,16,"変化","自分","×","+4","","",null,"","","","","","","","相手が使おうとした、『のうりょく』ランクを変化させる技や回復系の技の効果を奪い、自分にかける。"]
[null,"らいげき","でんき",130,85,5,8,"物理","選択","○","","","",null,0.2,"","","","","",""]
[null,"ラスターカノン","はがね",80,100,10,16,"特殊","選択","×","","","",null,"","","","","","","","10%の確率で相手の『とくぼう』ランクを1段階下げる。"]
[null,"ラスターパージ","エスパー",70,100,5,8,"特殊","選択","×","","","",null,"","","","","","","","50%の確率で相手の『とくぼう』ランクを1段階下げる。"]
[null,"リーフストーム","くさ",130,90,5,8,"特殊","選択","×","","","",null,"","","","","","","","攻撃後、自分の『とくこう』ランクが2段階下がる。"]
[null,"リーフブレード","くさ",90,100,15,24,"物理","選択","○","","+1","",null,"","","","","","",""]
[null,"リサイクル","ノーマル","-","-",10,16,"変化","自分","×","","","",null,"","","","","","","","味方が最後に使用した持ち物の道具を手に入れる。自分が既に道具を持っている場合は失敗するが、技『はたきおとす』で自分の道具が無効化されている時は使う事ができ、道具は上書きされる。"]
[null,"リフレクター","エスパー","-","-",20,32,"変化","味方の場","×","","","",null,"","","","","","","","5ターンの間、相手の『ぶつり』攻撃のダメージを半分にする。味方2体の場合は半分ではなく2/3になる。急所に当たった場合は軽減されない。交代しても効果は続く。"]
[null,"リフレッシュ","ノーマル","-","-",20,32,"変化","自分","×","","",null,null,null,null,"","","","","","『どく』『まひ』『やけど』状態が治る。"]
[null,"リベンジ","かくとう",60,100,10,16,"物理","選択","○","-4","","",null,"","","","","","","","そのターンに相手の技のダメージを受けると威力が2倍になる。"]
[null,"りゅうせいぐん","ドラゴン",130,90,5,8,"特殊","選択","×","","","",null,"","","","","","","","攻撃後、自分の『とくこう』ランクが2段階下がる。"]
[null,"りゅうのいかり","ドラゴン","-",100,10,16,"特殊","選択","×","","","",null,"","","","","","","","40の固定ダメージを与える。"]
[null,"りゅうのいぶき","ドラゴン",60,100,20,32,"特殊","選択","×","","","",null,0.3,"","","","","",""]
[null,"りゅうのはどう","ドラゴン",85,100,10,16,"特殊","選択","×","","","",null,"","","","","","",""]
[null,"りゅうのまい","ドラゴン","-","-",20,32,"変化","自分","×","","","",null,"","","","","","","","自分の『こうげき』『すばやさ』ランクを1段階ずつ上げる。"]
[null,"りんしょう","ノーマル",60,100,15,24,"特殊","選択","×","","","",null,"","","","","","","","同じターンに他のポケモンも『りんしょう』を使おうとすると、『すばやさ』に関係なく最初に使用したポケモンに続いて使用でき、最初以外の『りんしょう』は威力が2倍になる。相手が『みがわり』状態でも命中する。(ダブルバトル・トリプルバトル用)"]
[null,"れいとうパンチ","こおり",75,100,15,24,"物理","選択","○","","","",null,"","","",0.1,"","","","特性『てつのこぶし』の時、威力が1.2倍になる。"]
[null,"れいとうビーム","こおり",90,100,10,16,"特殊","選択","×","","","",null,"","","",0.1,"","",""]
[null,"れんごく","ほのお",100,50,5,8,"特殊","選択","×","","","",null,"",1,"","","","",""]
[null,"れんぞくぎり","むし",40,95,20,32,"物理","選択","○","","","",null,"","","","","","","","連続で使用すると攻撃が当たる度に威力が倍増していく(最高160)。攻撃が外れたり連続で使用しないと元に戻る。"]
[null,"れんぞくパンチ","ノーマル",18,85,15,24,"物理","選択","○","","","",null,"","","","","","","","1ターンに2～5回連続で攻撃する。特性『てつのこぶし』の時、威力が1.2倍になる。"]
[null,"ローキック","かくとう",65,100,20,32,"物理","選択","○","","","",null,"","","","","","","","相手の『すばやさ』ランクを1段階下げる。"]
[null,"ロケットずつき","ノーマル",130,100,10,16,"物理","選択","○","","","",null,"","","","","","","","1ターン目に自分の『ぼうぎょ』ランクを1段階上げ、2ターン目で攻撃する。"]
[null,"ロックオン","ノーマル","-","-",5,8,"変化","選択","×","","","",null,"","","","","","","","次のターン、使った相手に自分の技が必ず命中する。"]
[null,"ロックカット","いわ","-","-",20,32,"変化","自分","×","","","",null,"","","","","","","","自分の『すばやさ』ランクが2段階上がる。"]
[null,"ロッククライム","ノーマル",90,85,20,32,"物理","選択","○","","","",null,"","","","",0.2,"",""]
[null,"ロックブラスト","いわ",25,90,10,16,"物理","選択","×","","","",null,"","","","","","","","1ターンに2～5回連続で攻撃する。"]
[null,"ワイドガード","いわ","-","-",10,16,"変化","味方の場","×","+3","","",null,"","","","","","","","そのターンの間、自分と味方は相手や味方が使った複数のポケモンが対象の攻撃技を受けない。ただし、変化技は防げない。"]
[null,"ワイルドボルト","でんき",90,100,15,24,"物理","選択","○","","","",null,"","","","","","","","相手に与えたダメージの1/4を自分も受ける。"]
[null,"わたほうし","くさ","-",100,40,64,"変化","相手全体","×","","","",null,"","","","","","","","相手の『すばやさ』ランクを2段階下げる。『くさ』タイプや特性『ぼうじん』のポケモンには無効。"]
[null,"わるあがき","ノーマル",50,"-",1,1.6,"物理","選択","○","","","",null,"","","","","","","","すべての技のPPが0になる等して使える技がなくなると使える。自分の最大HPの1/4を自分も受ける。『タイプ』に関係なくダメージを与える。"]
[null,"わるだくみ","あく","-","-",20,32,"変化","自分","×","","","",null,"","","","","","","","自分の『とくこう』ランクを2段階上げる。"]
[null,"ワンダールーム","エスパー","-","-",10,16,"変化","全体の場","×","","","",null,"","","","","","","","5ターンの間、すべてのポケモンの『ぼうぎょ』と『とくぼう』の能力値が入れ替わる。もう1度使用すると元に戻る。"]

{"sheet":"特性一覧","index":9,"n_rows":221,"n_cols":3,"rows_kept":221,"cut":false,"hidden":false,"merged":[]}
[]
[null,"特性名","効果"]
[null,"アイスボディ","天気が『あられ』の時、ダメージを受けず、毎ターン終了時にHPが最大HPの1/16回復する。"]
[null,"あくしゅう","相手に技のダメージを与えると、10%の確率でひるませる。／野生のポケモンと出会いにくくなる。"]
[null,"あついしぼう","『ほのお』『こおり』タイプの技を受けた時、ダメージが半減する。"]
[null,"あとだし","技を出す順番が必ず一番最後になる。"]
[null,"アナライズ","自分の攻撃がターンで一番最後の時、技の威力が1.3倍になる。"]
[null,"あまのじゃく","『のうりょく』ランクを変化させる技の効果が逆になる(1段階上がるものは1段階下がる)。"]
[null,"あめうけざら","天気が『あめ』の時毎ターン、HPが最大HPの1/16回復する。"]
[null,"あめふらし","戦闘に出ると5ターンの間、天気が『あめ』になる。"]
[null,"ありじごく","相手は逃げたり、ポケモンを交代することができなくなる。ただし、相手が『ひこう』タイプや『ゴースト』タイプ、特性『ふゆう』の場合は効果がない。／野生のポケモンと出会いやすくなる。"]
[null,"アロマベール","自分と味方へのメンタル攻撃技『アンコール』『いちゃもん』『かいふくふうじ』『かなしばり』『ちょうはつ』『メロメロ』を無効化する。"]
[null,"いかく","戦闘に出たときに相手の『こうげき』ランクを1段階下げる。／レベルの低い野生のポケモンと出会いにくくなる。"]
[null,"いかりのつぼ","自分への攻撃が急所に当たると、『こうげき』ランクが最大まで上がる。"]
[null,"いしあたま","技『アフロブレイク』『ウッドハンマー』『じごくぐるま』『すてみタックル』『とっしん』『フレアドライブ』『ブレイブバード』『ボルテッカー』『もろはのずつき』『ワイルドボルト』の反動を受けない。技『わるあがき』の反動は受ける。"]
[null,"いたずらごころ","自分の使う変化技の優先度が1だけ加算される。優先度0の変化技も優先度+1として『すばやさ』に関係なく先制攻撃できる。『あく』タイプのポケモンに対して変化技を使った場合、その変化技は無効となる。"]
[null,"いやしのこころ","毎ターン終了時、1/3の確率で自分以外の味方の状態異常が治る。"]
[null,"イリュージョン","手持ちの最後のポケモンの姿と名前で戦闘に出る。『タイプ』や『のうりょく』に変化はない。ダメージを受けると元に戻る。"]
[null,"いろめがね","自分の技のタイプ相性が『こうかは いまひとつのようだ』の場合、1/2倍の時は通常に、1/4倍の時は1/2倍になる。"]
[null,"うるおいボイス","音に関する技のタイプを『みず』タイプに変える。"]
[null,"うるおいボディ","天気が『あめ』の時、ターン終了時に状態異常が回復する。"]
[null,"エアロック","全てのポケモンに対しての天気の影響がなくなる。"]
[null,"エレキスキン"," 自分の『ノーマル』タイプの技が『でんき』タイプになり、さらに威力が1.2倍になる。"]
[null,"えんかく","直接攻撃を非直接攻撃に変える。"]
[null,"オーラブレイク","お互いのポケモンの特性『フェアリーオーラ』『ダークオーラ』の効果において、威力が4/3倍ではなく3/4倍(0.75倍)になる。"]
[null,"おどりこ","場のポケモンがおどり系の技を使用した場合、同じ技を直後に出す。"]
[null,"おみとおし","戦闘に出てきた時、すべての相手の持っている道具の名前が分かる。"]
[null,"おやこあい","同じ技を1ターンに2回攻撃できる。2回目の攻撃は、威力が半分になる。能力ランクを下げるなどの効果は2回分与えられる。1ターンに連続して攻撃する技や、複数の相手に攻撃する技の場合は2回攻撃できない"]
[null,"おわりのだいち","戦闘に出ている間、天気が『ひざしがとてもつよい』になる。通常の天気『ひざしがつよい』状態に加えて、『みず』タイプの攻撃技が無効になる。また、技『あまごい』『にほんばれ』『すなあらし』『あられ』が失敗し、特性『あめふらし』『ひでり』『すなおこし』『ゆきふらし』が発動しなくなる。"]
[null,"カーリーヘア","接触をした相手の「すばやさ」を下げる。"]
[null,"かいりきバサミ","『こうげき』ランクが下がらない。"]
[null,"かげふみ","相手は逃げたり、ポケモンを交代することができなくなる。お互いが特性『かげふみ』の場合は無効になる。『ゴースト』タイプには無効。"]
[null,"かそく","毎ターン、『すばやさ』ランクが1段階ずつ上がる。"]
[null,"かたいツメ","直接攻撃する技の威力が1.3倍になる。"]
[null,"かたやぶり","相手の特性の影響を受けずに攻撃できる。ただし、攻撃後に受ける効果は消えない。"]
[null,"かちき","相手の技や特性で『のうりょく』ランクが下がると、『とくこう』ランクが2段階上がる。"]
[null,"カブトアーマー","自分への攻撃は急所に当たらない。"]
[null,"かるわざ","持っている道具がなくなると『すばやさ』が2倍になる。再び道具を持つと元に戻る。最初から道具を持っていない場合は効果がない。"]
[null,"かわりもの","戦闘に出ると、相手のポケモンに変身し、『へんしん』状態になる。"]
[null,"かんそうはだ","『ほのお』タイプの技の受けるダメージが1.25倍になる。『みず』タイプの技を受けると、ダメージを受けずHPが最大HPの1/4回復する。また、天気が『ひざしがつよい』の時は毎ターン最大HPの1/8のダメージを受け、『あめ』の時は毎ターンHPが最大HPの1/8回復する。"]
[null,"がんじょう","HPが最大の時、『ひんし』状態になるダメージを受けても必ず1残る。また、一撃で『ひんし』になる技『じわれ』『ぜったいれいど』『つのドリル』『ハサミギロチン』を受けない。"]
[null,"がんじょうあご","あごやキバを使って攻撃する技『かみつく』『かみくだく』『ひっさつまえば』『ほのおのキバ』『かみなりのキバ』『こおりのキバ』『どくどくのキバ』の威力が1.5倍になる。"]
[null,"ききかいひ","HPが半分以下になると手持ちに戻る。"]
[null,"きけんよち","戦闘に出てきた時、相手が『こうかは ばつぐん』や一撃必殺となる技を持っているかが分かる。技の名前などは分からない。"]
[null,"きもったま","相手が『ゴースト』タイプでも、『ノーマル』『かくとう』タイプの技が等倍で当たる。"]
[null,"きゅうばん","相手を交代させる技『ふきとばし』『ほえる』『ドラゴンテール』の効果を受けない。／『てもち』の先頭にいると釣りが成功しやすくなる。"]
[null,"きょううん","急所ランクが1段階上がった状態となり、自分の攻撃が急所に当たりやすくなる。"]
[null,"きょうせい","味方が道具を使ったり失った時、自分の持っている道具を味方に移動する。"]
[null,"ぎょぐん","レベル20以上になると、戦闘中だけ『むれたすがた』にフォルムチェンジする。残りHPが最大HPの1/4以下になると、『たんどくのすがた』に戻る。"]
[null,"きんちょうかん","すべての相手は『きのみ』を使用できなくなる。"]
[null,"くいしんぼう","通常より早く、HPが最大HPの半分以下になると『きのみ』を使う。"]
[null,"くさのけがわ","グラスフィールドの時、『ぼうぎょ』が1.5倍になる。"]
[null,"くだけるよろい","物理技を受けると、『ぼうぎょ』ランクが1段階下がり、『すばやさ』ランクが1段階上がる。"]
[null,"クリアボディ","相手の『のうりょく』ランクを下げる技や特性の効果を受けない。"]
[null,"ぎゃくじょう","HPが半分以下になると、『とくこう』が1段階上がる"]
[null,"げきりゅう","HPが1/3以下の時、『みず』タイプの技の威力が1.5倍になる。"]
[null,"こんじょう","状態異常の時、『こうげき』が1.5倍になる。またその時、『やけど』状態による『こうげき』半減の効果を受けない。"]
[null,"サーフテール","場がエレキフィールド状態の時、『すばやさ』が2倍になる"]
[null,"さいせいりょく","他のポケモンに交代するとHPが最大HPの1/3回復する。"]
[null,"さめはだ","直接攻撃を受けると、相手のHPを相手の最大HPの1/8減らす。"]
[null,"サンパワー","天気が『ひざしがつよい』の時、『とくこう』が1.5倍になるが、毎ターン終了時に最大HPの1/8のダメージを受ける。"]
[null,"シェルアーマー","自分への攻撃は急所に当たらない。"]
[null,"じきゅうりょく","ポケモンがダメージを受けた時、「ぼうぎょ」が1段階上がる。"]
[null,"しぜんかいふく","他のポケモンに交代すると異常状態が回復する。"]
[null,"しめりけ","全てのポケモンは技『じばく』『だいばくはつ』及び、特性『ゆうばく』が無効になる。"]
[null,"しゅうかく","ターン終了時、そのターン自分が使用した『きのみ』が50%の確率で元に戻る。天気が『ひざしがつよい』の時は100%の確率で元に戻る。"]
[null,"しょうりのほし","自分と味方の技の命中率が上がる。"]
[null,"しろいけむり","相手の『のうりょく』ランクを下げる技や特性の効果を受けない。／野生のポケモンと出会いにくくなる。"]
[null,"シンクロ","『どく』『まひ』『やけど』状態になった時、相手も同じ状態異常になる。／同じ『せいかく』の野生のポケモンと出会いやすくなる。"]
[null,"しんりょく","HPが1/3以下の時、『くさ』タイプの技の威力が1.5倍になる。"]
[null,"じしんかじょう","自分の技で相手を倒すと、『こうげき』ランクが1段階上がる。"]
[null,"じゅうなん","『まひ』状態にならない。"]
[null,"じょおうのいげん","相手は先制技が出せなくなる"]
[null,"じりょく","相手の『はがね』タイプのポケモンは逃げたり、ポケモンを交代することができなくなる。／『はがね』タイプの野生のポケモンと出会いやすくなる。"]
[null,"スイートベール","自分や味方のポケモンは『ねむり』状態にならない。"]
[null,"すいすい","天気が『あめ』の時、『すばやさ』が2倍になる。"]
[null,"すいほう","ほのおタイプの技の威力を下がる代わりに「やけど」状態にならない。"]
[null,"スカイスキン","自分の『ノーマル』タイプの技が『ひこう』タイプになり、さらに威力が1.2倍になる。"]
[null,"スキルリンク","2～5回連続で当たる技が必ず5回当たる。"]
[null,"すてみ","技『アフロブレイク』『ウッドハンマー』『じごくぐるま』『すてみタックル』『とっしん』『とびげり』『とびひざげり』『もろはのずつき』『フレアドライブ』『ブレイブバード』『ボルテッカー』『ワイルドボルト』の威力が1.2倍になる。"]
[null,"スナイパー","自分の攻撃が急所に当たると、ダメージが1.5倍ではなく2.25倍になる。"]
[null,"すなおこし","戦闘に出ると5ターンの間、天気が『すなあらし』になる。"]
[null,"すなかき","天気が『すなあらし』の時、『すばやさ』が2倍になる。また、『すなあらし』によるダメージを受けない。"]
[null,"すながくれ","天気が『すなあらし』の時、回避率が上がる。また、『すなあらし』によるダメージを受けない。／フィールドの天気が『すなあらし』の時、野生のポケモンと出会いにくくなる。"]
[null,"すなのちから","天気が『すなあらし』の時、自分の『じめん』『いわ』『はがね』タイプの技の威力が1.3倍になる。また、『すなあらし』によるダメージを受けない。"]
[null,"すりぬけ","相手の『リフレクター』『ひかりのかべ』『しろいきり』『しんぴのまもり』『みがわり』の効果を受けない。"]
[null,"するどいめ","命中率ランクが下がらない。相手の回避率ランクが上がっていても、影響を受けない。／レベルの低い野生のポケモンと出会いにくくなる。"]
[null,"スロースタート","戦闘に出てから5ターンの間、『こうげき』『すばやさ』が半分になる。"]
[null,"スワームチェンジ","HPが半分以下になると、ジガルデ・パーフェクトフォルムにフォルムチェンジする"]
[null,"せいぎのこころ","『あく』タイプの技を受けると、『こうげき』ランクが1段階上がる。"]
[null,"せいしんりょく","相手の技で『ひるみ』状態にならない。技『きあいパンチ』には影響しない。"]
[null,"せいでんき","直接攻撃を受けると、30%の確率で相手を『まひ』状態にする。／『でんき』タイプの野生のポケモンと出会いやすくなる。"]
[null,"ぜったいねむり","常にゆめうつつ状態となる。他の状態異常にかからない。"]
[null,"そうしょく","『くさ』タイプの技を受けると技が無効化され、『こうげき』ランクが1段階上がる。"]
[null,"ターボブレイズ","相手の特性の影響を受けずに攻撃できる。ただし、攻撃後に受ける効果は消えない。"]
[null,"たいねつ","『ほのお』タイプの技を受けた時と、『やけど』状態によるダメージが半減する。"]
[null,"たんじゅん","『のうりょく』ランクの変化が2倍になる。"]
[null,"ダークオーラ","お互いのすべてのポケモンの『あく』タイプの技の威力が4/3倍(1.33倍)になる。"]
[null,"ダウンロード","相手の『ぼうぎょ』が『とくぼう』より低い場合は『こうげき』ランクを、『とくぼう』の方が低い場合は『とくこう』ランクを1段階上げる。"]
[null,"だっぴ","ターンごとに1/3の確率で状態異常が治る。"]
[null,"ダルマモード","自分の残りHPが半分以下になるとフォルムチェンジする。回復して半分より多くなると元に戻る。"]
[null,"ちからずく","追加効果のある技を使うと、追加効果が発動しない代わりに威力が1.3倍になる。"]
[null,"ちからもち","自分の物理技の威力が2倍になる。"]
[null,"ちくでん","『でんき』タイプの技を受けるとダメージや効果はなくなり、最大HPの1/4回復する。"]
[null,"ちどりあし","『こんらん』状態の時、回避率が上がる。"]
[null,"ちょすい","『みず』タイプの技を受けるとダメージや効果はなくなり、最大HPの1/4回復する。"]
[null,"てきおうりょく","自分の『タイプ』と同じ『タイプ』の技のダメージが1.5倍ではなく2倍になる。"]
[null,"テクニシャン","威力が60以下の技の威力が1.5倍になる。威力の変動する技や、威力が修正された場合も影響する。"]
[null,"てつのこぶし","パンチ系の技『アームハンマー』『かみなりパンチ』『きあいパンチ』『グロウパンチ』『コメットパンチ』『シャドーパンチ』『スカイアッパー』『ドレインパンチ』『ばくれつパンチ』『バレットパンチ』『ピヨピヨパンチ』『ほのおのパンチ』『マッハパンチ』『メガトンパンチ』『れいとうパンチ』『れんぞくパンチ』の威力が1.2倍になる。"]
[null,"てつのトゲ","直接攻撃を受けると、相手のHPを相手の最大HPの1/8減らす。"]
[null,"テラボルテージ","相手の特性の影響を受けずに攻撃できる。ただし、攻撃後に受ける効果は消えない。"]
[null,"テレパシー","味方の技のダメージを受けない。"]
[null,"てんきや","天気が『ひざしがつよい』の時は『ほのお』タイプに、『あめ』の時は『みず』タイプに、『あられ』の時は『こおり』タイプになり、姿がそれぞれ変化する。"]
[null,"てんねん","相手の『のうりょく』ランクの変化の影響を受けない。"]
[null,"てんのめぐみ","技の追加効果の発生率が2倍になる。"]
[null,"デルタストリーム","戦闘に出ている間、天気が『らんきりゅう』になる。『ひこう』タイプのポケモンの弱点となるタイプの技のダメージが通常のダメージになる。また、ごく一部のポケモンを除いて天気を他の状態に変えることができなくなり、技『あまごい』『にほんばれ』『すなあらし』『あられ』が失敗し、特性『あめふらし』『ひでり』『すなおこし』『ゆきふらし』が発動しなくなる。"]
[null,"でんきエンジン","『でんき』タイプの技を受けるとダメージや効果はなくなり、『すばやさ』ランクが1段階上がる。"]
[null,"とうそうしん","性別が同じ相手に対しては『こうげき』『とくこう』が1.25倍になるが、異なる場合は0.75倍になる。性別のないポケモンの場合は効果がない。"]
[null,"とびだすなかみ","倒された時に、相手にダメージを与える"]
[null,"トレース","相手と同じ特性になる。相手が2体いる場合はランダムにどちらかの特性が選ばれる。相手の特性が『てんきや』『トレース』『バトルスイッチ』の場合は効果がない。"]
[null,"どくしゅ","相手に直接攻撃をすると、30%の確率で相手を『どく』状態にする。"]
[null,"どくのトゲ","直接攻撃を受けると、30%の確率で相手を『どく』状態にする。"]
[null,"どくぼうそう","『どく』『もうどく』状態の時、自分の物理技の威力が1.5倍になる。"]
[null,"どんかん","『メロメロ』『ちょうはつ』『ゆうわく』状態にならない。"]
[null,"ナイトメア","相手が『ねむり』状態の時、HPを減らす。"]
[null,"なまけ","1ターンおきにしか技が使えない。"]
[null,"にげあし","野生のポケモンとの戦闘の場合、必ず逃げられる。"]
[null,"にげごし","ポケモンのHPが半分になると、逃げたり交代したりする。"]
[null,"ぬめぬめ","直接攻撃を受けると、相手の『すばやさ』ランクを1段階下げる。"]
[null,"ねつぼうそう","『やけど』状態の時、自分の特殊技の威力が1.5倍になる。"]
[null,"ねんちゃく","持っている道具を相手に奪われない。／『てもち』の先頭にいると釣りが成功しやすくなる。"]
[null,"ノーガード","お互いに技が命中率・回避率に関係なく必ず命中する。／野生のポケモンと出会いやすくなる。"]
[null,"ノーてんき","全てのポケモンに対しての天気の影響がなくなる。"]
[null,"ノーマルスキン","自分の全ての技が『ノーマル』タイプになる。"]
[null,"のろわれボディ","相手から攻撃技を受けた時、30%の確率で3ターンの間、その相手の技を『かなしばり』状態にする。"]
[null,"ハードロック","タイプ相性が『こうかは ばつぐん』の技の受けるダメージが3/4になる。例えば、2倍弱点の場合は1.5倍のダメージになる。"]
[null,"はがねつかい","はがねタイプの技の威力が上昇する。"]
[null,"ばけのかわ","1回だけ敵からの攻撃のダメージを防ぎ、姿が変わる。"]
[null,"はじまりのうみ","戦闘に出ている間、天気が『つよいあめ』になる。通常の天気『あめ』状態に加えて、『ほのお』タイプの攻撃技が無効になる。また、技『あまごい』『にほんばれ』『すなあらし』『あられ』が失敗し、特性『あめふらし』『ひでり』『すなおこし』『ゆきふらし』が発動しなくなる。"]
[null,"はっこう","野生のポケモンと出会いやすくなる。"]
[null,"はとむね","相手の『ぼうぎょ』ランクを下げる技や特性の効果を受けない。"]
[null,"はやあし","状態異常の時、『すばやさ』が1.5倍になる。／野生のポケモンと出会いにくくなる。"]
[null,"はやおき","『ねむり』状態の時、ねむり状態のターン経過が2倍になり、通常より早く回復する。"]
[null,"はやてのつばさ","自分の残りHPが最大値の時、優先度0の『ひこう』タイプの技を『すばやさ』に関係なく先制攻撃できる。(優先度:+1)"]
[null,"はりきり","『こうげき』が1.5倍になるが、物理攻撃の命中率が0.8倍になる。／レベルの高い野生のポケモンと出会いやすくなる。"]
[null,"はりこみ","交代で出てきたポケモンに対して、2倍のダメージを与える"]
[null,"バトルスイッチ","攻撃技を使用する場合ブレードフォルムになり(攻撃・特攻が高い)、技『キングシールド』を使用するとシールドフォルムになる(防御・特防が高い)。"]
[null,"ヒーリングシフト","回復技の優先度が上がり、「すばやさ」に関係なく先制できる。"]
[null,"ひでり","戦闘に出ると5ターンの間、天気が『ひざしがつよい』になる。"]
[null,"ひとでなし","相手が「どく」状態の時、自分の攻撃が相手の急所に当たりやすくなる。"]
[null,"ひらいしん","『でんき』タイプの技を受けるとダメージが無効化され、逆に『とくこう』ランクが1段階上がる。またダブルバトル・トリプルバトルの時、自分以外の全てのポケモンの『でんき』タイプの技の攻撃対象が自分になる。"]
[null,"ビビッドボディ","相手は先制技が出せなくなる。"]
[null,"びびり","『ゴースト』『むし』『あく』タイプの技を受けた時、『すばやさ』ランクが1段階上がる。"]
[null,"ファーコート","物理攻撃の受けるダメージが半減する。"]
[null,"フィルター","タイプ相性が『こうかは ばつぐん』の技の受けるダメージが3/4になる。例えば、2倍弱点の場合は1.5倍のダメージになる。"]
[null,"フェアリーオーラ","お互いのすべてのポケモンの『フェアリー』タイプの技の威力が4/3倍(1.33倍)になる。"]
[null,"フェアリースキン","自分の『ノーマル』タイプの技が『フェアリー』タイプになり、さらに威力が1.2倍になる。"]
[null,"ふくがん","命中率が1.3倍になる。／『てもち』の先頭にいると道具を持った野生のポケモンと出会いやすくなる。"]
[null,"ふくつのこころ","相手の技でひるむと、『すばやさ』ランクが1段階上がる。"]
[null,"ふしぎなうろこ","状態異常の時、『ぼうぎょ』が1.5倍になる。"]
[null,"ふしぎなまもり","タイプ相性が『こうかは ばつぐん』でない技のダメージを受けない。ただし、タイプ相性に関係のない技は影響しない。"]
[null,"ふしょく","はがねやどくタイプの相手もどく状態にすることができる"]
[null,"ふみん","『ねむり』状態にならない。技『ねむる』を使えない。"]
[null,"ふゆう","『じめん』タイプの技を受けない。"]
[null,"フラワーギフト","天気が『ひざしがつよい』の時、すべての味方の『こうげき』『とくぼう』が1.5倍になる。"]
[null,"フラワーベール","味方すべての『くさ』タイプのポケモンは、味方自身以外の技や特性によって『のうりょく』ランクを下げられず、状態異常にもならない。"]
[null,"フリーズスキン","自分の『ノーマル』タイプの技が『こおり』タイプになり、さらに威力が1.2倍になる。"]
[null,"フレンドガード","自分以外の味方が受けるダメージが3/4に軽減される。(ダブルバトル・トリプルバトル用)"]
[null,"ぶきよう","持っている道具の効果が発揮されない。"]
[null,"プラス","特性『プラス』か『マイナス』のポケモンが戦闘にいると『とくこう』が1.5倍になる。"]
[null,"プレッシャー","技を受けた時、技のPPを2減らす。／レベルの高い野生のポケモンと出会いやすくなる。"]
[null,"ヘドロえき","HPを吸い取る技『きゅうけつ』『ギガドレイン』『すいとる』『ドレインキッス』『ドレインパンチ』『メガドレイン』『やどりぎのタネ』を受けた時、逆に相手にダメージを与える。"]
[null,"へんげんじざい","自分の技を出すタイミングで、自分のタイプが技と同じタイプになる。"]
[null,"へんしょく","技を受けると、その技のタイプになる。"]
[null,"ヘヴィメタル","自分の『おもさ』が2倍になる。(技『ヘビーボンバー』などで有効)"]
[null,"ほうし","直接攻撃を受けると、30%の確率で相手を『どく』『まひ』『ねむり』状態のいずれかにする。"]
[null,"ほおぶくろ","自分の持っている『きのみ』を食べる時、本来の効果に加えて、さらにHPも最大HPの1/3回復する。"]
[null,"ほのおのからだ","直接攻撃を受けると、30%の確率で相手を『やけど』状態にする。／『てもち』にいると、ポケモンのタマゴが2倍かえりやすくなる。"]
[null,"ぼうおん","音の技『いびき』『いやしのすず』『いやなおと』『うたう』『エコーボイス』『おしゃべり』『おたけび』『きんぞくおん』『くさぶえ』『さわぐ』『すてゼリフ』『チャームボイス』『ちょうおんぱ』『ないしょばなし』『なきごえ』『バークアウト』『ハイパーボイス』『ばくおんぱ』『ほえる』『ほろびのうた』『むしのさざめき』『りんしょう』を受けない。"]
[null,"ぼうじん","天気『あられ』『すなあらし』によるダメージを受けない。粉系の技『いかりのこな』『キノコのほうし』『しびれごな』『どくのこな』『ねむりごな』『ふんじん』『わたほうし』、特性『ほうし』の効果を受けない。"]
[null,"ぼうだん","たま・爆弾系の技『アイスボール』『アシッドボム』『ウェザーボール』『エナジーボール』『エレキボール』『オクタンほう』『かえんだん』『がんせきほう』『きあいだま』『ジャイロボール』『シャドーボール』『タネばくだん』『タネマシンガン』『タマゴばくだん』『たまなげ』『でんじほう』『どろばくだん』『はどうだん』『ヘドロばくだん』『マグネットボム』『ミストボール』を無効化する。"]
[null,"ポイズンヒール","『どく』状態の時毎ターン、HPが減らずに最大HPの1/8だけ回復する。『もうどく』状態でも回復量は変わらない。"]
[null,"マイナス","特性『プラス』か『マイナス』のポケモンが戦闘にいると『とくこう』が1.5倍になる。"]
[null,"マイペース","『こんらん』状態にならない。"]
[null,"マグマのよろい","『こおり』状態にならない。／『てもち』にいると、ポケモンのタマゴが2倍かえりやすくなる。"]
[null,"まけんき","相手の技や特性で『のうりょく』ランクが下がった時、自分の『こうげき』ランクが2段階上がる。"]
[null,"マジシャン","自分の攻撃時、技を当てた相手が持っている道具を奪う。"]
[null,"マジックガード","直接のダメージ以外を受けない。具体的には、『どく』『やけど』状態や特性『さめはだ』『てつのトゲ』『ヘドロえき』『ゆうばく』、天気『あられ』『すなあらし』、技『あくむ』『うずしお』『からではさむ』『しめつける』『ステルスロック』『すなじごく』『どくびし』『のろい』『はじけるほのお』『ふんじん』『ほのおのうず』『ほのおのちかい』『まきつく』『まきびし』『マグマストーム』『まとわりつく』『やどりぎのタネ』によるダメージ、反動のある技による反動ダメージや失敗時に受けるダメージ、道具『いのちのたま』『くっつきバリ』『くろいヘドロ』『ゴツゴツメット』の効果によるダメージを受けない。ただし『こんらん』『じばく』『だいばくはつ』『わるあがき』などには影響しない。"]
[null,"マジックミラー","技『マジックコート』で跳ね返すことのできる技を跳ね返せる。"]
[null,"マルチスケイル","自分の残りHPが最大値の時、受けるダメージが半減される。"]
[null,"マルチタイプ","持っている『プレート』に対応して『タイプ』が変化する。"]
[null,"ミイラ","直接攻撃を受けると、相手の特性を『ミイラ』にする(相手の本来の特性を無効化する)。"]
[null,"みずがため","『みず』タイプの技を受けると、『ぼうぎょ』が2段階上昇する"]
[null,"みずのベール","『やけど』状態にならない。"]
[null,"みつあつめ","／道具を持っていない時、戦闘後にどうぐ『あまいミツ』を拾ってくることがある。戦闘に参加しなくてもよい。レベルが高い程、拾ってくる確率が上がる。"]
[null,"ミラクルスキン","相手の変化技の命中する確率が50%より大きい場合、命中率が50%になる。"]
[null,"むしのしらせ","HPが1/3以下の時、『むし』タイプの技の威力が1.5倍になる。"]
[null,"ムラっけ","ターン終了時、いずれかの『のうりょく』ランクが2段階上がり、別の『のうりょく』ランクが1段階下がる。"]
[null,"メガランチャー","波動系の技『あくのはどう』『はどうだん』『みずのはどう』『りゅうのはどう』の技の威力が1.5倍になり、『いやしのはどう』は最大HPの3/4回復する。"]
[null,"メロメロボディ","直接攻撃を受けると、30%の確率で相手を『メロメロ』状態にする。性別が同じ場合や、性別不明の場合は効果がない。／異なる性別の野生のポケモンと出会いやすくなる。"]
[null,"めんえき","『どく』状態にならない。"]
[null,"もうか","HPが1/3以下の時、『ほのお』タイプの技の威力が1.5倍になる。"]
[null,"ものひろい","毎ターン終了時に、そのターンに相手が消費した道具を拾って自分のものにする。自分が道具を持っていない時のみ発動する。／道具を持っていない時、戦闘後に10%の確率で道具を拾ってくる。戦闘に参加しなくてもよい。レベルに応じて拾ってくる道具が変化する。"]
[null,"もふもふ","直接攻撃のダメージを半減する代わりに、『ほのお』タイプの技のダメージが倍になる。"]
[null,"もらいび","『ほのお』タイプの技のダメージや効果を受けず、以後自分の『ほのお』タイプの技の威力が1.5倍になる。"]
[null,"やるき","『ねむり』状態にならない。技『ねむる』を使えない。／レベルの高い野生のポケモンと出会いやすくなる。"]
[null,"ゆうばく","相手の直接攻撃で『ひんし』になった時、相手に相手の最大HPの1/4のダメージを与える。"]
[null,"ゆきがくれ","天気が『あられ』の時、相手の技の命中率が0.8倍になる。また、『あられ』によるダメージを受けない。／フィールドの天気が『あられ』の時、野生のポケモンと出会いにくくなる。"]
[null,"ゆきふらし","戦闘に出ると5ターンの間、天気が『あられ』になる。"]
[null,"ようりょくそ","天気が『ひざしがつよい』の時、『すばやさ』が2倍になる。"]
[null,"ヨガパワー","自分の物理技の威力が2倍になる。"]
[null,"よちむ","戦闘に出ると相手の覚えている技のうち、最も威力の高い技の名前が分かる。同じ威力の技がある場合はランダム。"]
[null,"よびみず","『みず』タイプの技を受けるとダメージが無効化され、逆に『とくこう』ランクが1段階上がる。またダブルバトル・トリプルバトルの時、自分以外の全てのポケモンの『みず』タイプの技の攻撃対象が自分になる。"]
[null,"よわき","自分のHPが半分以下になると、『こうげき』『とくこう』が半減する。"]
[null,"ライトメタル","自分の『おもさ』が半分になる。(技『けたぐり』『くさむすび』対策などで有効)"]
[null,"リーフガード","天気が『ひざしがつよい』の時、状態異常にならない。"]
[null,"リミットシールド","状態異常にならない。 HPが半分以下になると殻がやぶれ、『こうげき』が高くなる。"]
[null,"りんぷん","技の追加効果を受けない。"]
[null,"レシーバー","バトル中に倒れた仲間の特性を引き継ぐ。"]
[null,"わるいてぐせ","直接攻撃を受けた時、相手の持っている道具を奪う。"]
[null,"ARシステム","各タイプに対応する道具を持たせることで、タイプを変更することができる。"]

{"sheet":"各タイプ最大威力","index":10,"n_rows":22,"n_cols":13,"rows_kept":22,"cut":false,"hidden":true,"merged":[[0,7,0,11],[0,1,0,5]]}
[null,"物理",null,null,null,null,null,"特殊"]
[null,"ポケモン","特性","種族値","技名","威力","火力指数","ポケモン","特性","種族値","技名","威力","火力指数"]
["ノーマル","ホルード","ちからもち",56,"ギガインパクト",150,{"$f":"TRUNC(TRUNC(((TRUNC((D3*2+31+TRUNC(252/4))*50)/100)+5)*1.1)*F3*1.5*1.3*2)","v":69030},"ポリゴンＺ","てきおうりょく",135,"はかいこうせん",150,{"$f":"TRUNC(TRUNC(((TRUNC((J3*2+31+TRUNC(252/4))*50)/100)+5)*1.1)*L3*2*1.3)","v":79950}]
["ほのお","ヒヒダルマ","ちからずく",140,"フレアドライブ",120,{"$f":"TRUNC(TRUNC(((TRUNC((D4*2+31+TRUNC(252/4))*50)/100)+5)*1.1)*F4*1.5*1.3*1.3)","v":64186},"メガリザードンＹ",null,159,"ブラストバーン",150,{"$f":"TRUNC(TRUNC(((TRUNC((J4*2+31+TRUNC(252/4))*50)/100)+5)*1.1)*L4*1.5*1.3)","v":67860}]
["みず","シザリガー","てきおうりょく",120,"クラブハンマー",100,{"$f":"TRUNC(TRUNC(((TRUNC((D5*2+31+TRUNC(252/4))*50)/100)+5)*1.1)*F5*2*1.3)","v":49140},"カイオーガ",null,180,"ハイドロポンプ",110,54697]
["でんき","ゼクロム",null,150,"らいげき",130,{"$f":"TRUNC(TRUNC(((TRUNC((D6*2+31+TRUNC(252/4))*50)/100)+5)*1.1)*F6*1.5*1.3)","v":56277},"ジバコイル",null,130,"でんじほう",120,46800]
["くさ","オーロット",null,110,"ウッドハンマー",120,{"$f":"TRUNC(TRUNC(((TRUNC((D7*2+31+TRUNC(252/4))*50)/100)+5)*1.1)*F7*1.5*1.3)","v":41652},"ジュカイン",null,105,"ハードプラント",150,50310]
["こおり","メガオニゴーリ","フリーズスキン",120,"だいばくはつ",250,{"$f":"TRUNC(TRUNC(((TRUNC((D8*2+31+TRUNC(252/4))*50)/100)+5)*1.1)*F8*1.5*1.3*1.3)","v":119778},"アマルルガ","フリーズスキン",99,"はかいこうせん",150,{"$f":"TRUNC(TRUNC(((TRUNC((J8*2+31+TRUNC(252/4))*50)/100)+5)*1.1)*L8*1.5*1.3*1.3)","v":63121}]
["かくとう","チャーレム",null,60,"とびひざげり",130,31180,"ケルディオ",null,129,"きあいだま",120,46566]
["どく","ドラミドロ","てきおうりょく",75,"ダストシュート",120,{"$f":"TRUNC(TRUNC(((TRUNC((D10*2+31+TRUNC(252/4))*50)/100)+5)*1.1)*F10*2*1.3)","v":43368},"ドラミドロ","てきおうりょく",97,"ヘドロウェーブ",95,{"$f":"TRUNC(TRUNC(((TRUNC((J10*2+31+TRUNC(252/4))*50)/100)+5)*1.1)*L10*2*1.3)","v":40261}]
["じめん","グラードン",null,150,"だんがいのつるぎ",120,51948,"ランドロス","ちからずく",115,"だいちのちから",90,{"$f":"TRUNC(TRUNC(((TRUNC((J11*2+31+TRUNC(252/4))*50)/100)+5)*1.1)*L11*1.5*1.3*1.3)","v":41751}]
["ひこう","メガレックウザ",null,180,"ガリョウテンセイ",120,59670,"メガボーマンダ","スカイスキン",120,"はかいこうせん",150,{"$f":"TRUNC(TRUNC(((TRUNC((J12*2+31+TRUNC(252/4))*50)/100)+5)*1.1)*L12*1.5*1.3*1.3)","v":71867}]
["エスパー","ミュウツー",null,154,"サイコブレイク",100,44070,"デオキシス",null,180,"サイコブースト",140,69615]
["むし","シュバルゴ",null,135,"メガホーン",120,47970,"ウルガモス",null,135,"むしのさざめき",90,35977]
["いわ","ラムパルド",null,165,"もろはのつるぎ",150,69615,"アルセウス",null,120,"さばきのつぶて",100,36855]
["ゴースト","ギルガルド",null,150,"シャドークロー",70,30303,"ギルガルド",null,150,"シャドーボール",80,34632]
["ドラゴン","メガレックウザ",null,180,"げきりん",120,{"$f":"TRUNC(TRUNC(((TRUNC((D17*2+31+TRUNC(252/4))*50)/100)+5)*1.1)*F17*1.5*1.3)","v":59670},"ディアルガ",null,150,"ときのほうこう",150,64935]
["あく","イベルタル","ダークオーラ",131,"ふいうち",80,{"$f":"TRUNC(TRUNC(((TRUNC((D18*2+31+TRUNC(252/4))*50)/100)+5)*1.1)*F18*1.5*1.3*1.33)","v":41703},"イベルタル","ダークオーラ",131,"あくのはどう",80,{"$f":"TRUNC(TRUNC(((TRUNC((J18*2+31+TRUNC(252/4))*50)/100)+5)*1.1)*L18*1.5*1.3*1.33)","v":41703}]
["はがね","アイアント","はりきり",109,"アイアンヘッド",80,{"$f":"TRUNC(TRUNC(((TRUNC((D19*2+31+TRUNC(252/4))*50)/100)+5)*1.1)*F19*1.5*1.3*1.5)","v":41418},"ディアルガ",null,150,"ラスターカノン",80,34632]
["フェアリー","ニンフィア","フェアリースキン",65,"ギガインパクト",150,{"$f":"TRUNC(TRUNC(((TRUNC((D20*2+31+TRUNC(252/4))*50)/100)+5)*1.1)*F20*1.5*1.3*1.3)","v":48672},"ニンフィア","フェアリースキン",110,"はかいこうせん",150,{"$f":"TRUNC(TRUNC(((TRUNC((J20*2+31+TRUNC(252/4))*50)/100)+5)*1.1)*L20*1.5*1.3*1.3)","v":67684}]
[]
[null,"※メガポケモン以外は持ち物を「こだわりはちまき」若しくは「こだわりメガネ」とする。"]

{"sheet":"フライングプレス","index":11,"n_rows":7,"n_cols":19,"rows_kept":7,"cut":false,"hidden":true,"merged":[[5,12,5,14],[4,1,4,3],[4,4,4,7],[5,1,5,3],[5,4,5,7],[5,8,5,11]]}
[]
[{"$f":"\"\"","v":""},"ノーマル","ほのお","みず","でんき","くさ","こおり","かくとう","どく","じめん","ひこう","エスパー","むし","いわ","ゴースト","ドラゴン","あく","はがね","フェアリー"]
[null,"○",null,null,"△","○","○","○","△",null,"△","△",null,null,"×",null,"○",null,"△"]
[null,{"$f":"IF(E5=B2,2,IF(E6=B2,2,1))","v":1},1,1,{"$f":"IF(E5=E2,0.5,IF(E6=E2,0.5,1))","v":1},{"$f":"IF(E5=F2,2,IF(E6=F2,2,1))","v":1},{"$f":"IF(E5=G2,2,IF(E6=G2,2,1))","v":1},{"$f":"IF(E5=H2,2,IF(E6=H2,2,1))","v":1},{"$f":"IF(E5=I2,0.5,IF(E6=I2,0.5,1))","v":1},1,{"$f":"IF(E5=K2,0.5,IF(E6=K2,0.5,1))","v":0.5},{"$f":"IF(E5=L2,0.5,IF(E6=L2,0.5,1))","v":1},{"$f":"IF(E5=M2,0.5,IF(E6=M2,0.5,1))","v":1},1,{"$f":"IF(E5=O2,0,IF(E6=O2,0,1))","v":1},1,{"$f":"IF(E5=Q2,2,IF(E6=Q2,2,1))","v":1},1,{"$f":"IF(E5=S2,0.5,IF(E6=S2,0.5,1))","v":1}]
[null,"タイプ１",null,null,{"$f":"相性表!B28","v":"ひこう"}]
[null,"タイプ２",null,null,{"$f":"相性表!B30","v":"はがね"},null,null,null,"ダメージ",null,null,null,{"$f":"IF(CONCATENATE(E5,E6)=\"\",\"\",PRODUCT(B4:S4))","v":0.5},null,null,"倍"]
[null,null,null,null,null,null,null,null,null,null,null,null,null,null,{"$f":"IF(M6=4,\"○\",IF(M6=2,\"○\",IF(M6=1,\"\",IF(M6=0.5,\"△\",IF(M6=0.25,\"△\",IF(M6=0,\"×\",))))))","v":"△"}]

{"sheet":"ダメージ計算","index":12,"n_rows":28,"n_cols":55,"rows_kept":28,"cut":false,"hidden":true,"merged":[[16,11,16,12]]}
[]
[null,"（（攻撃側のレベル × 2 ÷ 5 ＋ 2）× 技の威力 × 攻撃側の能力値 ÷ 防御側の能力値 ÷ 50 ＋ 2）×（85～100）÷ 100"]
[null,null,null,null,null,null,null,null,null,null,null,null,"特性倍率"]
[null,"その他",null,null,null,null,null,null,null,null,null,"天候倍率","総計","総計","かたいツメ","がんじょうあご","すてみ","すなのちから","ダークオーラ","ちからずく","ちからもち","テクニシャン","てつのこぶし","はりきり","フェアリーオーラ","フェアリースキン","フラワーギフト","フリーズスキン","スカイスキン","エレキスキン","メガランチャー","ヨガパワー","げきりゅう","こんじょう","しんりょく","どくぼうそう","ねつぼうそう","プラス","マイナス","もうか","よわき","あついしぼう","かんそうはだ","そうしょく","たいねつ","ちくでん","ちょすい","ふゆう","もらいび","ファーコート","ぼうおん","ぼうだん","でんきエンジン","ひらいしん","よびみず"]
[null,"でんきだま",null,2,{"$f":"IF(計算表!B19=B5,IF(計算表!F3=\"ピカチュウ\",D5,0),0)","v":0},null,null,"レベル",50]
[null,"こうごうだま",null,1.2,{"$f":"IF(計算表!B19=B6,IF(計算表!F3=\"ディアルガ\",D6,0),0)","v":0},null,null,"攻撃値",{"$f":"IF(I10=\"物理\",計算表!G14,IF(I10=\"特殊\",計算表!G16,\"\"))*(E22*E23)*L6","v":197},{"$f":"I6*M6","v":197},{"$f":"I6*N6","v":197},1,{"$f":"IF(SUM(O6:AF6)=0,1,SUM(O6:AF6))","v":1},{"$f":"IF(SUM(AG6:AO6)=0,1,SUM(AG6:AO6))","v":1},0,0,0,0,0,0,0,0,0,{"$f":"IF(I14=X4,IF(I10=\"物理\",1.5,1),0)","v":0},0,0,{"$f":"IF(I14=AA4,IF(AND(I15=\"晴\",I10=\"物理\"),1.5,1),0)","v":0},0,0,0,0,0,0,{"$f":"IF(I14=AH4,IF(I10=\"物理\",1.5,1),0)","v":0},0,{"$f":"IF(I14=AJ4,IF(I10=\"物理\",1.5,1),0)","v":0},0,{"$f":"IF(I14=AL4,IF(I10=\"特殊\",1.5,1),0)","v":0},{"$f":"IF(I14=AM4,IF(I10=\"特殊\",1.5,1),0)","v":0},0,{"$f":"IF(I14=AL4,0.5,0)","v":0}]
[null,"しらたま",null,1.2,{"$f":"IF(計算表!B19=B7,IF(計算表!F3=\"パルキア\",D7,0),0)","v":0},null,null,"威力",{"$f":"計算表!B23*E21*L7","v":120},{"$f":"I7*M7","v":120},{"$f":"I7*N7","v":120},{"$f":"IF(I13=\"ウェザーボール\",IF(I15<>\"\",2,1),IF(AND(I15=\"晴\",I8=\"ほのお\"),1.5,IF(AND(I15=\"雨\",I8=\"みず\"),1.5,IF(AND(I15=\"晴\",I8=\"みず\"),0.5,IF(AND(I15=\"雨\",I8=\"ほのお\"),0.5,1)))))","v":1},{"$f":"IF(SUM(O7:AF7)=0,1,SUM(O7:AF7))*AP7*AQ7*AR7*AS7*AT7*AU7*AV7*AW7*AX7*AY7*AZ7*BA7*BB7*BC7","v":1},{"$f":"TRUNC(IF(SUM(AG7:AO7)=0,1,SUM(AG7:AO7))*IF(I22=TRUE,1.5,1))","v":1},{"$f":"IF(I14=O4,IF(L12=\"○\",1.3,1),0)","v":0},{"$f":"IF(I14=P4,IF(OR(I13=\"かみつく\",I13=\"かみくだく\",I13=\"ひっさつまえば\",I13=\"ほのおのキバ\",I13=\"かみなりのキバ\",I13=\"こおりのキバ\",I13=\"どくどくのキバ\"),1.5,1),0)","v":0},{"$f":"IF(I14=Q4,IF(OR(I13=\"アフロブレイク\",I13=\"ウッドハンマー\",I13=\"じごくぐるま\",I13=\"すてみタックル\",I13=\"とっしん\",I13=\"とびげり\",I13=\"とびひざげり\",I13=\"もろはのずつき\",I13=\"フレアドライブ\",I13=\"ブレイブバード\",I13=\"ボルテッカー\",I13=\"ワイルドボルト\"),1.2,1),0)","v":0},{"$f":"IF(I14=R4,IF(AND(I15=\"砂\",OR(I8=\"じめん\",I8=\"いわ\",I8=\"はがね\")),1.3,1),0)","v":0},{"$f":"IF(OR(I14=Y4,J14=Y4),IF(I8=\"あく\",IF(OR(I14=\"オーラブレイク\",J14=\"オーラブレイク\"),0.75,1.33),1),0)","v":0},{"$f":"IF(I14=T4,IF(SUM(計算表!AF22:AP22)<>0,1.3,1),0)","v":0},{"$f":"IF(I14=U4,IF(I10=\"物理\",2,1),0)","v":0},{"$f":"IF(I14=V4,IF(I7<=60,1.5,1),0)","v":0},{"$f":"IF(I14=W4,IF(OR(I13=\"アームハンマー\",I13=\"かみなりパンチ\",I13=\"きあいパンチ\",I13=\"グロウパンチ\",I13=\"コメットパンチ\",I13=\"シャドーパンチ\",I13=\"スカイアッパー\",I13=\"ドレインパンチ\",I13=\"ばくれつパンチ\",I13=\"バレットパンチ\",I13=\"ピヨピヨパンチ\",I13=\"ほのおのパンチ\",I13=\"マッハパンチ\",I13=\"メガトンパンチ\",I13=\"れいとうパンチ\",I13=\"れんぞくパンチ\"),1.2,1),0)","v":0},0,{"$f":"IF(OR(I14=Y4,J14=Y4),IF(I8=\"フェアリー\",IF(OR(I14=\"オーラブレイク\",J14=\"オーラブレイク\"),0.75,1.33),1),0)","v":0},{"$f":"IF(OR(I14=Z4,J14=Z4),IF(I8=\"ノーマル\",1.2,1),0)","v":0},0,{"$f":"IF(I14=AB4,IF(I8=\"ノーマル\",1.2,1),0)","v":0},{"$f":"IF(I14=AC4,IF(I8=\"ノーマル\",1.2,1),0)","v":0},{"$f":"IF(I14=AD4,IF(I8=\"ノーマル\",1.2,1),0)","v":0},{"$f":"IF(I14=AE4,IF(OR(I13=\"あくのはどう\",I13=\"はどうだん\",I13=\"みずのはどう\",I13=\"りゅうのはどう\"),1.5,1),0)","v":0},{"$f":"IF(I14=AF4,IF(I10=\"物理\",2,1),0)","v":0},{"$f":"IF(I14=AG4,IF(I8=\"みず\",1.5,1),0)","v":0},0,{"$f":"IF(I14=AI4,IF(I8=\"くさ\",1.5,1),0)","v":0},0,{"$f":"IF(I14=AK4,IF(I10=\"特殊\",1.5,1),0)","v":0},0,0,{"$f":"IF(I14=AN4,IF(I8=\"ほのお\",1.5,1),0)","v":0},0,{"$f":"IF(J14=AP4,IF(OR(I8=\"ほのお\",I8=\"こおり\"),0.5,1),1)","v":1},{"$f":"IF(J14=AQ4,IF(I8=\"みず\",0,IF(I8=\"ほのお\",1.25,1)),1)","v":1},{"$f":"IF(J14=AR4,IF(I8=\"くさ\",0,1),1)","v":1},{"$f":"IF(J14=AS4,IF(I8=\"ほのお\",0.5,1),1)","v":1},{"$f":"IF(J14=AT4,IF(I8=\"でんき\",0,1),1)","v":1},{"$f":"IF(J14=AU4,IF(I8=\"みず\",0,1),1)","v":1},{"$f":"IF(J14=AV4,IF(I8=\"じめん\",0,1),1)","v":1},{"$f":"IF(J14=AW4,IF(I8=\"じめん\",0,1),1)","v":1},{"$f":"IF(J14=AX4,IF(I10=\"物理\",0.5,1),1)","v":1},{"$f":"IF(J14=AY4,IF(OR(I13=\"いびき\",I13=\"いやしのすず\",I13=\"いやなおと\",I13=\"うたう\",I13=\"エコーボイス\",I13=\"おしゃべり\",I13=\"おたけび\",I13=\"きんぞくおん\",I13=\"くさぶえ\",I13=\"さわぐ\",I13=\"すてゼリフ\",I13=\"チャームボイス\",I13=\"ちょうおんぱ\",I13=\"ないしょばなし\",I13=\"なきごえ\",I13=\"バークアウト\",I13=\"ハイパーボイス\",I13=\"ばくおんぱ\",I13=\"ほえる\",I13=\"ほろびのうた\",I13=\"むしのさざめき\",I13=\"りんしょう\"),0,1),1)","v":1},{"$f":"IF(J14=AZ4,IF(OR(I13=\"アイスボール\",I13=\"アシッドボム\",I13=\"ウェザーボール\",I13=\"エナジーボール\",I13=\"エレキボール\",I13=\"オクタンほう\",I13=\"かえんだん\",I13=\"がんせきほう\",I13=\"きあいだま\",I13=\"ジャイロボール\",I13=\"シャドーボール\",I13=\"タネばくだん\",I13=\"タネマシンガン\",I13=\"タマゴばくだん\",I13=\"たまなげ\",I13=\"でんじほう\",I13=\"どろばくだん\",I13=\"はどうだん\",I13=\"ヘドロばくだん\",I13=\"マグネットボム\",I13=\"ミストボール\"),0,1),1)","v":1},{"$f":"IF(J14=BA4,IF(I8=\"でんき\",0,1),1)","v":1},{"$f":"IF(J14=BB4,IF(I8=\"でんき\",0,1),1)","v":1},{"$f":"IF(J14=BC4,IF(I8=\"みず\",0,1),1)","v":1}]
[null,"はっきんだま",null,1.2,{"$f":"IF(計算表!B19=B8,IF(MID(計算表!F3,1,5)=\"ギラティナ\",D8,0),0)","v":0},null,null,"タイプ",{"$f":"IF(AND(I14=\"フェアリースキン\",計算表!B26=\"ノーマル\"),\"フェアリー\",IF(AND(I14=\"フリーズスキン\",計算表!B26=\"ノーマル\"),\"こおり\",IF(I14=\"ノーマルスキン\",\"ノーマル\",計算表!B26)))","v":"ドラゴン"}]
[null,"こだわりハチマキ",null,1.5,{"$f":"IF(計算表!B19=B9,D9,0)","v":0},null,null,"一致",{"$f":"IF(I14=\"てきおうりょく\",IF(OR(計算表!F4=I8,計算表!G4=I8),2,1),IF(I14=\"へんげんじざい\",1.5,IF(OR(計算表!F4=I8,計算表!G4=I8),1.5,1)))","v":1.5}]
[null,"こだわりメガネ",null,1.5,{"$f":"IF(計算表!B19=B10,D10,0)","v":0},null,null,"物理/特殊",{"$f":"計算表!B25","v":"物理"}]
[null,"こだわりスカーフ",null,null,null,null,null,"ばつぐん",{"$f":"IF(計算表!B27=\"ばつぐん(4倍)\",4,IF(計算表!B27=\"ばつぐん(2倍)\",2,IF(計算表!B27=\"いまひとつ(0.5倍)\",IF(I14=\"いろめがね\",1,0.5),IF(計算表!B27=\"いまひとつ(0.25倍)\",IF(I14=\"いろめがね\",0.5,0.25),1))))*IF(OR(J14=\"フィルター\",J14=\"ハードロック\"),4/3,1)","v":2}]
[null,"ちからのハチマキ",null,1.1000000000000001,{"$f":"IF(計算表!B19=B12,D12,0)","v":0},null,null,"直接",{"$f":"計算表!F24","v":"○"}]
[null,"ものしりメガネ",null,1.1000000000000001,{"$f":"IF(計算表!B19=B13,D13,0)","v":0},null,null,"技名",{"$f":"計算表!B22","v":"げきりん"}]
[null,"しんかいのキバ",null,2,{"$f":"IF(計算表!B19=B14,IF(計算表!F3=\"パールル\",D14,0),0)","v":0},null,null,"特性",{"$f":"計算表!C11","v":"ふゆう"},{"$f":"計算表!AF26","v":"さめはだ"}]
[null,"ふといホネ",null,2,{"$f":"IF(計算表!B19=B15,IF(計算表!F3=\"ガラガラ\",D15,0),0)","v":0},null,{"$f":"IF(計算表!AI25=B16,D16,0)","v":0},"天候",{"$f":"IF(OR(計算表!H23=\"ひざしがつよい\",計算表!H23=\"ひざしがとてもつよい\"),\"晴\",IF(OR(計算表!H23=\"あめ\",計算表!H23=\"つよいあめ\"),\"雨\",IF(計算表!H23=\"あられ\",\"雪\",IF(計算表!H23=\"すなあらし\",\"砂\",IF(計算表!H23=\"らんきりゅう\",\"乱\",\"\")))))","v":""}]
[null,"こころのしずく",null,1.5,{"$f":"IF(計算表!B19=B16,D16,0)","v":0},null,null,null,"ダメージ倍率",{"$f":"IF(I13=\"ソーラービーム\",IF(OR(I15=\"晴\",I15=\"\"),1,0.5),1)","v":1},null,{"$f":"J16","v":1}]
[null,"たつじんのおび",null,1.2,{"$f":"IF(AND(ダメージ計算!I11>1,計算表!B19=B17),D17,0)","v":0},null,null,null,null,"通常","急所","最終表示"]
[null,"いのちのたま",null,1.3,{"$f":"IF(計算表!B19=B18,D18,0)","v":0},null,"フィールド",{"$f":"計算表!H25","v":"なし"},0.85,{"$f":"TRUNC(TRUNC(TRUNC(TRUNC((TRUNC(TRUNC(22*(J7*N7)*(J6*N6)/H20)/50)+2)*0.85)*I9)*I11)*IF(I23=TRUE,0.5,1))","v":234},{"$f":"IF(OR(J14=\"シェルアーマー\",J14=\"カブトアーマー\"),J18,TRUNC(J18*IF(I14=\"スナイパー\",2.25,1.5)))","v":351},{"$f":"J18&L21","v":"234"},{"$f":"K18&M21","v":"351"}]
[null,"とつげきチョッキ",null,1.5,{"$f":"IF(計算表!AI25=B19,D19,0)","v":0},null,{"$f":"計算表!H25","v":"なし"},null,0.92500000000000004,{"$f":"TRUNC(TRUNC(TRUNC(TRUNC((TRUNC(TRUNC(22*(J7*N7)*(J6*N6)/H20)/50)+2)*0.925)*I9)*I11)*IF(I23=TRUE,0.5,1))","v":254},{"$f":"IF(OR(J14=\"シェルアーマー\",J14=\"カブトアーマー\"),J19,TRUNC(J19*IF(I14=\"スナイパー\",2.25,1.5)))","v":381},{"$f":"J19&L22","v":"254"},"381"]
[null,"半減の実",null,0.5,{"$f":"IF(計算表!AI25=B20,D20,0)","v":0},null,"防ステータス",{"$f":"IF(AND(J14=\"くさのけがわ\",H18=\"グラスフィールド\",I10=\"物理\"),TRUNC(計算表!AF24*1.5),計算表!AF24)","v":115},100,{"$f":"TRUNC(TRUNC(TRUNC(TRUNC((TRUNC(TRUNC(22*(J7*N7)*(J6*N6)/H20)/50)+2)*1)*I9)*I11)*IF(I23=TRUE,0.5,1))","v":276},{"$f":"IF(OR(J14=\"シェルアーマー\",J14=\"カブトアーマー\"),J20,TRUNC(J20*IF(I14=\"スナイパー\",2.25,1.5)))","v":414},"276","414","ふしぎなうろこ","状態異常の時、『ぼうぎょ』が1.5倍になる。"]
[null,null,null,"威力",{"$f":"IF(E5+E6+E7+E8+E12+E13=0,1,E5+E6+E7+E8+E12+E13)","v":1},null,null,null,null,{"$f":"IF(J14=\"マルチスケイル\",TRUNC(J18/2),\"\")","v":""},{"$f":"IF(J14=\"マルチスケイル\",TRUNC(K18/2),\"\")","v":""},{"$f":"IF(J21<>\"\",\"/\"&J21,\"\")","v":""},{"$f":"IF(K21<>\"\",\"/\"&K21,\"\")","v":""},"マルチスケイル","自分の残りHPが最大値の時、受けるダメージが半減される。"]
[null,"ひざしがつよい",null,"攻撃",{"$f":"IF(IF(計算表!B25=\"物理\",E9+E15,)=0,1,IF(計算表!B25=\"物理\",E9+E15,))","v":1},null,"自フィールド適用",{"$f":"AND(計算表!F4<>\"ひこう\",計算表!G4<>\"ひこう\",計算表!C11<>\"ふゆう\")","v":false},{"$f":"OR(AND(H22=TRUE,H18=\"グラスフィールド\",I8=\"くさ\"),AND(H22=TRUE,H18=\"エレキフィールド\",I8=\"でんき\"),AND(H22=TRUE,H18=\"サイコフィールド\",I8=\"エスパー\"))","v":false},{"$f":"IF(J14=\"マルチスケイル\",TRUNC(J19/2),\"\")","v":""},{"$f":"IF(J14=\"マルチスケイル\",TRUNC(K19/2),\"\")","v":""},{"$f":"IF(J22<>\"\",\"/\"&J22,\"\")","v":""},""]
[null,"ひざしがとてもつよい",null,"特攻",{"$f":"IF(IF(計算表!B25=\"特殊\",E10+E14+E16,)=0,1,IF(計算表!B25=\"特殊\",E10+E14+E16,))","v":1},null,"敵フィールド適用",{"$f":"AND(計算表!AF27<>\"ひこう\",計算表!AH27<>\"ひこう\",計算表!AF26<>\"ふゆう\")","v":true},{"$f":"OR(AND(H23=TRUE,H18=\"ミストフィールド\",I8=\"ドラゴン\"),AND(H23=TRUE,H18=\"グラスフィールド\",OR(I13=\"じしん\",I13=\"じならし\",I13=\"マグニチュード\")))","v":false},{"$f":"IF(J14=\"マルチスケイル\",TRUNC(J20/2),\"\")","v":""},{"$f":"IF(J14=\"マルチスケイル\",TRUNC(K20/2),\"\")","v":""},"",""]
[null,"あめ",null,"特防",{"$f":"IF(IF(計算表!B25=\"特殊\",G15+E19,)=0,1,IF(計算表!B25=\"特殊\",G15+E19,))","v":1}]
[null,"つよいあめ",null,"ダメージ",{"$f":"IF(E17+E18=0,1,E17+E18)","v":1}]
[null,"あられ",null,"被ダメージ",{"$f":"IF(E20=0,1,E20)","v":1}]
[null,"すなあらし",null,null,{"$f":"E25*E26","v":1}]
[null,"らんきりゅう"]